Workbook

Sheet 附件3 科技创新优秀指导教师信息汇总表
A1: 校区2025-2026学年科技创新优秀指导教师申报信息汇总表（教师填）
A2: 序号 | B2: 姓名 | C2: 工号 | D2: 部门/学院 | E2: 指导赛事名称 (请按照表1填写） | F2: 获奖时间 | G2: 竞赛类别 （一类/二类/其他） | H2: 获奖级别 | I2: 获奖等级 | J2: 该级别奖项是否设置特等奖 | K2: 特等标签 | M2: 获奖总额（元） | N2: 指导形式 | O2: 奖金分配比例 （填xx%，如20%） | P2: 个人奖金金额（元） | Q2: 赛事计数 | R2: 赛事计数奖金比例 | S2: 最终发放奖金金额（元） | T2: 是否仅证书
A3: 示例 | B3: 张三 | C3: 201659xxxx | D3: 石油学院 | E3: 中国国际大学生创新大赛 | F3: 45931 | G3: =VLOOKUP(E3,'表1.校区竞赛认定目录（2026年）'!B:C,2,0) -> 一类 | H3: 国家级 | I3: 一等奖 | J3: 是 | K3: =_xlfn.IFS(J3="是","（含特）",J3="否","（不含特）") -> （含特） | L3: =G3&H3&I3&K3 -> 一类国家级一等奖（含特） | M3: =VLOOKUP(L3,'表2.获奖金额及对应奖项'!A:D,4,0) -> 3000 | N3: 团队 | O3: 0.2 | P3: =M3*O3 -> 600 | Q3: 第一项 | R3: =_xlfn.IFS(Q3="第一项",100%,Q3="第二项",50%) -> 1 | S3: =O3*M3*R3 -> 600 | T3: =IF(COUNT(FIND({1,2,3,4,5,6,7,8,9,0},S3))>0,"","仅证书")
A4: 示例 | B4: 张三 | C4: 201659xxxx | D4: 石油学院 | E4: 睿抗机器人开发者大赛(RAICOM) | F4: 46265 | G4: =VLOOKUP(E4,'表1.校区竞赛认定目录（2026年）'!B:C,2,0) -> 二类 | H4: 省部级 | I4: 一等奖 | J4: 否 | K4: =_xlfn.IFS(J4="是","（含特）",J4="否","（不含特）") -> （不含特） | L4: =G4&H4&I4&K4 -> 二类省部级一等奖（不含特） | M4: =VLOOKUP(L4,'表2.获奖金额及对应奖项'!A:D,4,0) -> 800 | N4: 个人 | O4: 1 | P4: =M4*O4 -> 800 | Q4: 第二项 | R4: =_xlfn.IFS(Q4="第一项",100%,Q4="第二项",50%) -> 0.5 | S4: =O4*M4*R4 -> 400 | T4: =IF(COUNT(FIND({1,2,3,4,5,6,7,8,9,0},S4))>0,"","仅证书")
A5: 示例 | B5: 王四 | E5: 其他比赛未在排行榜中 | G5: =VLOOKUP(E5,'表1.校区竞赛认定目录（2026年）'!B:C,2,0) -> 其他 | H5: 国家级 | I5: 特等奖 | J5: 是 | K5: =_xlfn.IFS(J5="是","（含特）",J5="否","（不含特）") -> （含特） | L5: =G5&H5&I5&K5 -> 其他国家级特等奖（含特） | M5: =VLOOKUP(L5,'表2.获奖金额及对应奖项'!A:D,4,0) -> #N/A | N5: 个人 | O5: 1 | P5: =M5*O5 -> #N/A | Q5: 第一项 | R5: =_xlfn.IFS(Q5="第一项",100%,Q5="第二项",50%) -> 1 | S5: =O5*M5*R5 -> #N/A | T5: =IF(COUNT(FIND({1,2,3,4,5,6,7,8,9,0},S5))>0,"","仅证书") -> 仅证书
G6: =VLOOKUP(E6,'表1.校区竞赛认定目录（2026年）'!B:C,2,0) -> #N/A | K6: =_xlfn.IFS(J6="是","（含特）",J6="否","（不含特）") -> #N/A | L6: =G6&H6&I6&K6 -> #N/A | M6: =VLOOKUP(L6,'表2.获奖金额及对应奖项'!A:D,4,0) -> #N/A | P6: =M6*O6 -> #N/A | R6: =_xlfn.IFS(Q6="第一项",100%,Q6="第二项",50%) -> #N/A | S6: =O6*M6*R6 -> #N/A | T6: =IF(COUNT(FIND({1,2,3,4,5,6,7,8,9,0},S6))>0,"","仅证书") -> 仅证书
G7: =VLOOKUP(E7,'表1.校区竞赛认定目录（2026年）'!B:C,2,0) -> #N/A | K7: =_xlfn.IFS(J7="是","（含特）",J7="否","（不含特）") -> #N/A | L7: =G7&H7&I7&K7 -> #N/A | M7: =VLOOKUP(L7,'表2.获奖金额及对应奖项'!A:D,4,0) -> #N/A | P7: =M7*O7 -> #N/A | R7: =_xlfn.IFS(Q7="第一项",100%,Q7="第二项",50%) -> #N/A | S7: =O7*M7*R7 -> #N/A | T7: =IF(COUNT(FIND({1,2,3,4,5,6,7,8,9,0},S7))>0,"","仅证书") -> 仅证书
G8: =VLOOKUP(E8,'表1.校区竞赛认定目录（2026年）'!B:C,2,0) -> #N/A | K8: =_xlfn.IFS(J8="是","（含特）",J8="否","（不含特）") -> #N/A | L8: =G8&H8&I8&K8 -> #N/A | M8: =VLOOKUP(L8,'表2.获奖金额及对应奖项'!A:D,4,0) -> #N/A | P8: =M8*O8 -> #N/A | R8: =_xlfn.IFS(Q8="第一项",100%,Q8="第二项",50%) -> #N/A | S8: =O8*M8*R8 -> #N/A | T8: =IF(COUNT(FIND({1,2,3,4,5,6,7,8,9,0},S8))>0,"","仅证书") -> 仅证书
G9: =VLOOKUP(E9,'表1.校区竞赛认定目录（2026年）'!B:C,2,0) -> #N/A | K9: =_xlfn.IFS(J9="是","（含特）",J9="否","（不含特）") -> #N/A | L9: =G9&H9&I9&K9 -> #N/A | M9: =VLOOKUP(L9,'表2.获奖金额及对应奖项'!A:D,4,0) -> #N/A | P9: =M9*O9 -> #N/A | R9: =_xlfn.IFS(Q9="第一项",100%,Q9="第二项",50%) -> #N/A | S9: =O9*M9*R9 -> #N/A | T9: =IF(COUNT(FIND({1,2,3,4,5,6,7,8,9,0},S9))>0,"","仅证书") -> 仅证书
G10: =VLOOKUP(E10,'表1.校区竞赛认定目录（2026年）'!B:C,2,0) -> #N/A | K10: =_xlfn.IFS(J10="是","（含特）",J10="否","（不含特）") -> #N/A | L10: =G10&H10&I10&K10 -> #N/A | M10: =VLOOKUP(L10,'表2.获奖金额及对应奖项'!A:D,4,0) -> #N/A | P10: =M10*O10 -> #N/A | R10: =_xlfn.IFS(Q10="第一项",100%,Q10="第二项",50%) -> #N/A | S10: =O10*M10*R10 -> #N/A | T10: =IF(COUNT(FIND({1,2,3,4,5,6,7,8,9,0},S10))>0,"","仅证书") -> 仅证书
G11: =VLOOKUP(E11,'表1.校区竞赛认定目录（2026年）'!B:C,2,0) -> #N/A | K11: =_xlfn.IFS(J11="是","（含特）",J11="否","（不含特）") -> #N/A | L11: =G11&H11&I11&K11 -> #N/A | M11: =VLOOKUP(L11,'表2.获奖金额及对应奖项'!A:D,4,0) -> #N/A | P11: =M11*O11 -> #N/A | R11: =_xlfn.IFS(Q11="第一项",100%,Q11="第二项",50%) -> #N/A | S11: =O11*M11*R11 -> #N/A | T11: =IF(COUNT(FIND({1,2,3,4,5,6,7,8,9,0},S11))>0,"","仅证书") -> 仅证书
A12: 备注：标蓝格子有公式计算，无需自行填写

Sheet 表1.校区竞赛认定目录（2026年）
A1: 中国石油大学（北京）克拉玛依校区创新创业竞赛认定目录（2026年）
A2: 序号 | B2: 竞赛名称 | C2: 竞赛级别 | D2: 备注
A3: 1 | B3: 中国国际大学生创新大赛 | C3: 一类 | D3: 含主赛道、产业赛道、红旅赛道
A4: 2 | B4: “挑战杯”全国大学生课外学术科技作品竞赛主体赛 | C4: 一类 | D4: 不含其它分赛道及专项赛
A5: 3 | B5: “挑战杯”中国大学生创业计划大赛主体赛 | C5: 一类 | D5: 不含其它分赛道及专项赛
A6: 4 | B6: “挑战杯”全国大学生课外学术科技作品竞赛-分赛道及专项赛 | C6: 二类 | D6: 含除主体赛外所有分赛道及专项赛
A7: 5 | B7: “挑战杯”中国大学生创业计划大赛-分赛道及专项赛 | C7: 二类 | D7: 含除主体赛外所有分赛道及专项赛
A8: 6 | B8: 全国大学生创新创业训练计划年会展示 | C8: 二类
A9: 7 | B9: ACM-ICPC国际大学生程序设计竞赛 | C9: 二类
A10: 8 | B10: 中国大学生计算机设计大赛 | C10: 二类
A11: 9 | B11: 中国高校计算机大赛-①大数据挑战赛、②团体程序设计天梯赛、③移动应用创新赛、④网络技术挑战赛、⑤人工智能创意赛 | C11: 二类
A12: 10 | B12: 蓝桥杯全国大学生软件和信息技术大赛 | C12: 二类
A13: 11 | B13: 全国大学生地质技能竞赛 | C13: 二类
A14: 12 | B14: 睿抗机器人开发者大赛(RAICOM) | C14: 二类
A15: 13 | B15: 华为ICT大赛 | C15: 二类
A16: 14 | B16: 中国机器人及人工智能大赛 | C16: 二类
A17: 15 | B17: iCAN大学生创新创业大赛 | C17: 二类
A18: 16 | B18: 百度之星·程序设计大赛 | C18: 二类
A19: 17 | B19: 全国大学生计算机系统能力大赛 | C19: 二类
... A26: 24 | B26: 全国大学生化工设计竞赛 | C26: 二类
A27: 25 | B27: 全国大学生机器人大赛（CURC） | C27: 二类 | D27: 原全国大学生机器人大赛-①RoboMaster、②RoboCon
A28: 26 | B28: 全国大学生先进成图技术与产品信息建模创新大赛 | C28: 二类
A29: 27 | B29: 全国三维数字化创新设计大赛 | C29: 二类
A30: 28 | B30: “西门子杯”中国智能制造挑战赛 | C30: 二类
A31: 29 | B31: 全国大学生金相技能大赛 | C31: 二类
A32: 30 | B32: 全国周培源大学生力学竞赛 | C32: 二类
A33: 31 | B33: 中国大学生机械工程创新创意大赛 | C33: 二类
A34: 32 | B34: 中美青年创客大赛 | C34: 二类
A35: 33 | B35: 大学生新一代信息通信科技大赛 | C35: 二类 | D35: 原“大唐杯”全国大学生新一代信息通信技术大赛
A36: 34 | B36: 全国大学生嵌入式芯片与系统设计竞赛 | C36: 二类
A37: 35 | B37: 全国大学生生命科学竞赛（CULSC） | C37: 二类
A38: 36 | B38: 中国高校智能机器人创意大赛 | C38: 二类
A39: 37 | B39: 全国大学生节能减排社会实践与科技竞赛 | C39: 二类
A40: 38 | B40: 全国大学生化工实验大赛 | C40: 二类
A41: 39 | B41: 全国大学生物联网设计竞赛 | C41: 二类
A42: 40 | B42: 高教社杯全国大学生数学建模竞赛 | C42: 二类
A43: 41 | B43: “外研社·国才杯”理解当代中国全国大学生外语能力大赛 | C43: 二类 | D43: 原外研社全国大学生英语系列赛-①英语演讲、②英语辩论、③英语写作、④英语阅读
A44: 42 | B44: 全国大学生光电设计竞赛 | C44: 二类
A45: 43 | B45: 全国大学生物理实验竞赛 | C45: 二类
A46: 44 | B46: 中国日报社“21世纪杯”全国英语演讲比赛 | C46: 二类 | D46: 原“21世纪杯”全国英语演讲比赛
A47: 45 | B47: 中华经典诵写讲大赛 | C47: 二类
A48: 46 | B48: “外教社杯”全国高校学生跨文化能力大赛 | C48: 二类
A49: 47 | B49: 全国大学生统计建模大赛 | C49: 二类
A50: 48 | B50: 全国大学生电子商务“创新、创意及创业”挑战赛 | C50: 二类
A51: 49 | B51: 全国大学生市场调查与分析大赛 | C51: 二类
A52: 50 | B52: 全国高校商业精英挑战赛-①品牌策划竞赛、②会展专业创新创业实践竞赛、③国际贸易竞赛、④创新创业竞赛⑤会计与商业管理素例竞赛 | C52: 二类
A53: 51 | B53: “学创杯”全国大学生创业综合模拟大赛 | C53: 二类
A54: 52 | B54: “工行杯”全国大学生金融科技创新大赛 | C54: 二类
A55: 53 | B55: 全国大学生能源经济学术创意大赛 | C55: 二类
A56: 54 | B56: “科云杯”全国大学生财会职业能力大赛 | C56: 二类
A57: 55 | B57: 中国石油工程设计大赛 | C57: 二类
A58: 56 | B58: 全国大学生计算机应用能力与数字素养大赛 | C58: 二类 | D58: 原全国大学生计算机应用能力与信息素养大赛
A59: 57 | B59: “外教社·词达人杯”全国大学生英语词汇能力大赛 | C59: 二类
A60: 58 | B60: 全国大学生语言文字能力大赛 | C60: 二类
A61: 59 | B61: 全国大学生数学竞赛 | C61: 二类
A62: 60 | B62: “求是杯”国际诗歌创作与翻译大赛 | C62: 二类
A63: 61 | B63: 时报金犊奖 | C63: 二类
A64: 62 | B64: 全国高校企业价值创造实战竞赛 | C64: 二类
A65: 63 | B65: “东方杯”全国大学生勘探地球物理大赛 | C65: 二类
A66: 64 | B66: 全国高校俄语大赛 | C66: 二类
A67: 65 | B67: 全国大学生职业规划大赛 | C67: 二类
A68: 66 | B68: 中国研究生智慧城市技术与创意设计大赛 | C68: 二类 | D68: 中国研究生创新实践系列大赛
A69: 67 | B69: 中国研究生未来飞行器创新大赛 | C69: 二类 | D69: 中国研究生创新实践系列大赛
A70: 68 | B70: 中国研究生创“芯”大赛 | C70: 二类 | D70: 中国研究生创新实践系列大赛
A71: 69 | B71: 中国研究生创“芯”大赛——EDA精英挑战赛 | C71: 二类 | D71: 中国研究生创新实践系列大赛
A72: 70 | B72: 中国研究生人工智能创新大赛 | C72: 二类 | D72: 中国研究生创新实践系列大赛
A73: 71 | B73: 中国研究生机器人创新设计大赛 | C73: 二类 | D73: 中国研究生创新实践系列大赛
A74: 72 | B74: 中国研究生能源装备创新设计大赛 | C74: 二类 | D74: 中国研究生创新实践系列大赛
A75: 73 | B75: 中国研究生公共管理案例大赛 | C75: 二类 | D75: 中国研究生创新实践系列大赛
A76: 74 | B76: 中国研究生乡村振兴科技强农+创新大赛 | C76: 二类 | D76: 中国研究生创新实践系列大赛
A77: 75 | B77: 中国研究生网络安全创新大赛 | C77: 二类 | D77: 中国研究生创新实践系列大赛
A78: 76 | B78: 中国研究生金融科技创新大赛 | C78: 二类 | D78: 中国研究生创新实践系列大赛
A79: 77 | B79: 中国研究生“美丽中国”创新设计大赛 | C79: 二类 | D79: 中国研究生创新实践系列大赛
... A89: 87 | B89: 中国研究生“双碳”创新与创意大赛 | C89: 二类 | D89: 中国研究生创新实践系列大赛
A90: 88 | B90: 其他比赛未在排行榜中 | C90: 其他

Sheet 表2.获奖金额及对应奖项
A1: 设置特等奖 | B1: 未设置特等奖 | C1: 获奖档次 | D1: 该奖项奖金
A2: 一类国家级特等奖（含特） | B2: 一类国家级一等奖（不含特） | C2: 1 | D2: 5000
A3: 一类国家级一等奖（含特） | B3: 一类国家级二等奖（不含特） | C3: 2 | D3: 3000
A4: 一类国家级二等奖（含特） | B4: 一类国家级三等奖（不含特） | C4: 3 | D4: 2000
A5: 一类国家级三等奖（含特） | C5: 4 | D5: 1000
A6: 一类省部级特等奖（含特） | B6: 一类省部级一等奖（不含特） | C6: 5 | D6: 1000
A7: 一类省部级一等奖（含特） | B7: 一类省部级二等奖（不含特） | C7: 6 | D7: 800
A9: 二类国家级特等奖（含特） | B9: 二类国家级一等奖（不含特） | C9: 7 | D9: 3000
A10: 二类国家级一等奖（含特） | B10: 二类国家级二等奖（不含特） | C10: 8 | D10: 2000
A11: 二类国家级二等奖（含特） | B11: 二类国家级三等奖（不含特） | C11: 9 | D11: 1500
A12: 二类国家级三等奖（含特） | C12: 10 | D12: 1000
A13: 二类省部级特等奖（含特） | B13: 二类省部级一等奖（不含特） | C13: 11 | D13: 800
A14: 二类省部级一等奖（含特） | B14: 二类省部级二等奖（不含特） | C14: 12 | D14: 600
A16: 其他竞赛奖项 | B16: 其他竞赛奖项 | C16: 13 | D16: 仅证书
A17: 一类国家级一等奖（不含特） | C17: 1 | D17: 5000
A18: 一类国家级二等奖（不含特） | C18: 2 | D18: 3000
A19: 一类国家级三等奖（不含特） | C19: 3 | D19: 2000
D20: 1000
A21: 一类省部级一等奖（不含特） | C21: 5 | D21: 1000
A22: 一类省部级二等奖（不含特） | C22: 6 | D22: 800
A23: 二类国家级一等奖（不含特） | C23: 7 | D23: 3000
A24: 二类国家级二等奖（不含特） | C24: 8 | D24: 2000
A25: 二类国家级三等奖（不含特） | C25: 9 | D25: 1500
D26: 1000
A27: 二类省部级一等奖（不含特） | C27: 11 | D27: 800
A28: 二类省部级二等奖（不含特） | C28: 12 | D28: 600
