Workbook

Sheet 附件3 科技创新优秀指导教师信息汇总表
A1: 校区2025-2026学年科技创新优秀指导教师申报信息汇总表（教师填）
A2: 序号 | B2: 姓名 | C2: 工号 | D2: 部门/学院 | E2: 指导赛事名称 (请按照表1填写） | F2: 获奖时间 | G2: 竞赛类别 （一类/二类/其他） | H2: 获奖级别 | I2: 获奖等级 | J2: 该级别奖项是否设置特等奖 | K2: 特等标签 | M2: 获奖总额（元） | N2: 指导形式 | O2: 奖金分配比例 （填xx%，如20%） | P2: 个人奖金金额（元） | Q2: 赛事计数 | R2: 赛事计数奖金比例 | S2: 最终发放奖金金额（元） | T2: 是否仅证书
A3: 1 | B3: 明惠 | C3: 2018592006 | D3: 化工与环境学院 | E3: 全国大学生节能减排社会实践与科技竞赛 | F3: 46235 | G3: =VLOOKUP(E3,'表1.校区竞赛认定目录（2026年）'!B3:C91,2,0) -> 二类 | H3: 国家级 | I3: 三等奖 | J3: 否 | K3: =_xlfn.IFS(J3="是","（含特）",J3="否","（不含特）") -> （不含特） | L3: =G3&H3&I3&K3 -> 二类国家级三等奖（不含特） | M3: =VLOOKUP(L3,表2.获奖金额及对应奖项!A:D,4,0) -> 1500 | N3: 团队 | O3: 0.5 | P3: =M3*O3 -> 750 | Q3: 第二项 | R3: =_xlfn.IFS(Q3="第一项",100%,Q3="第二项",50%) -> 0.5 | S3: =O3*M3*R3 -> 375 | T3: {=IF(COUNT(FIND({1,2,3,4,5,6,7,8,9,0},S3))>0,"","仅证书")}
A4: 2 | B4: 明惠 | C4: 2018592006 | D4: 化工与环境学院 | E4: 全国高校商业精英挑战赛-①品牌策划竞赛、②会展专业创新创业实践竞赛、③国际贸易竞赛、④创新创业竞赛⑤会计与商业管理素例竞赛 | F4: 45658 | G4: =VLOOKUP(E4,'表1.校区竞赛认定目录（2026年）'!B5:C93,2,0) -> 二类 | H4: 国家级 | I4: 二等奖 | J4: 否 | K4: =_xlfn.IFS(J4="是","（含特）",J4="否","（不含特）") -> （不含特） | L4: =G4&H4&I4&K4 -> 二类国家级二等奖（不含特） | M4: =VLOOKUP(L4,表2.获奖金额及对应奖项!A:D,4,0) -> 2000 | N4: 团队 | O4: 1 | P4: =M4*O4 -> 2000 | Q4: 第一项 | R4: =_xlfn.IFS(Q4="第一项",100%,Q4="第二项",50%) -> 1 | S4: =O4*M4*R4 -> 2000
A5: 3 | B5: 梁金强 | C5: 2024592110 | D5: 化工与环境学院 | E5: 中国研究生人工智能创新大赛 | F5: 45931 | G5: =VLOOKUP(E5,'表1.校区竞赛认定目录（2026年）'!B45:C133,2,0) -> 二类 | H5: 国家级 | I5: 三等奖 | J5: 否 | K5: =_xlfn.IFS(J5="是","（含特）",J5="否","（不含特）") -> （不含特） | L5: =G5&H5&I5&K5 -> 二类国家级三等奖（不含特） | M5: =VLOOKUP(L5,表2.获奖金额及对应奖项!A:D,4,0) -> 1500 | N5: 团队 | O5: 1 | P5: =M5*O5 -> 1500 | Q5: 第一项 | R5: =_xlfn.IFS(Q5="第一项",100%,Q5="第二项",50%) -> 1 | S5: =O5*M5*R5 -> 1500 | T5: {=IF(COUNT(FIND({1,2,3,4,5,6,7,8,9,0},S5))>0,"","仅证书")}
A6: 4 | B6: 梁金强 | C6: 2024592110 | D6: 化工与环境学院 | E6: 全国大学生语言文字能力大赛 | F6: 45992 | G6: =VLOOKUP(E6,'表1.校区竞赛认定目录（2026年）'!B46:C134,2,0) -> 二类 | H6: 国家级 | I6: 三等奖 | J6: 否 | K6: =_xlfn.IFS(J6="是","（含特）",J6="否","（不含特）") -> （不含特） | L6: =G6&H6&I6&K6 -> 二类国家级三等奖（不含特） | M6: =VLOOKUP(L6,表2.获奖金额及对应奖项!A:D,4,0) -> 1500 | N6: 个人 | O6: 1 | P6: =M6*O6 -> 1500 | Q6: 第二项 | R6: =_xlfn.IFS(Q6="第一项",100%,Q6="第二项",50%) -> 0.5 | S6: =O6*M6*R6 -> 750 | T6: {=IF(COUNT(FIND({1,2,3,4,5,6,7,8,9,0},S6))>0,"","仅证书")}
A7: 5 | B7: 吴梅 | C7: 2016592017 | D7: 化工与环境学院 | E7: 全国大学生节能减排社会实践与科技竞赛 | F7: 46235 | G7: =VLOOKUP(E7,'表1.校区竞赛认定目录（2026年）'!B4:C92,2,0) -> 二类 | H7: 国家级 | I7: 三等奖 | J7: 否 | K7: =_xlfn.IFS(J7="是","（含特）",J7="否","（不含特）") -> （不含特） | L7: =G7&H7&I7&K7 -> 二类国家级三等奖（不含特） | M7: =VLOOKUP(L7,表2.获奖金额及对应奖项!A:D,4,0) -> 1500 | N7: 团队 | O7: 0.5 | P7: =M7*O7 -> 750 | Q7: 第一项 | R7: =_xlfn.IFS(Q7="第一项",100%,Q7="第二项",50%) -> 1 | S7: =O7*M7*R7 -> 750 | T7: {=IF(COUNT(FIND({1,2,3,4,5,6,7,8,9,0},S7))>0,"","仅证书")}
A8: 6 | B8: 胡瑞 | C8: 2016591006 | D8: 化工与环境学院 | E8: 全国大学生语言文字能力大赛 | F8: 46235 | G8: =VLOOKUP(E8,'表1.校区竞赛认定目录（2026年）'!B8:C96,2,0) -> 二类 | H8: 国家级 | I8: 二等奖 | J8: 否 | K8: =_xlfn.IFS(J8="是","（含特）",J8="否","（不含特）") -> （不含特） | L8: =G8&H8&I8&K8 -> 二类国家级二等奖（不含特） | M8: =VLOOKUP(L8,表2.获奖金额及对应奖项!A:D,4,0) -> 2000 | N8: 个人 | O8: 1 | P8: =M8*O8 -> 2000 | Q8: 第一项 | R8: =_xlfn.IFS(Q8="第一项",100%,Q8="第二项",50%) -> 1 | S8: =O8*M8*R8 -> 2000 | T8: {=IF(COUNT(FIND({1,2,3,4,5,6,7,8,9,0},S8))>0,"","仅证书")}
A9: 7 | B9: 马金贵 | C9: 2020591001 | D9: 化工与环境学院 | E9: 全国大学生生命科学竞赛（CULSC） | F9: 46235 | G9: =VLOOKUP(E9,'表1.校区竞赛认定目录（2026年）'!B23:C111,2,0) -> 二类 | H9: 国家级 | I9: 三等奖 | J9: 是 | K9: =_xlfn.IFS(J9="是","（含特）",J9="否","（不含特）") -> （含特） | L9: =G9&H9&I9&K9 -> 二类国家级三等奖（含特） | M9: =VLOOKUP(L9,表2.获奖金额及对应奖项!A:D,4,0) -> 1000 | N9: 团队 | O9: 0.5 | P9: =M9*O9 -> 500 | Q9: 第一项 | R9: =_xlfn.IFS(Q9="第一项",100%,Q9="第二项",50%) -> 1 | S9: =O9*M9*R9 -> 500 | T9: {=IF(COUNT(FIND({1,2,3,4,5,6,7,8,9,0},S9))>0,"","仅证书")}
A10: 8 | B10: 安波 | C10: 2023563306 | D10: 化工与环境学院 | E10: 全国大学生化工设计竞赛 | F10: 45896 | G10: =VLOOKUP(E10,'表1.校区竞赛认定目录（2026年）'!B25:C113,2,0) -> 二类 | H10: 国家级 | I10: 二等奖 | J10: 是 | K10: =_xlfn.IFS(J10="是","（含特）",J10="否","（不含特）") -> （含特） | L10: =G10&H10&I10&K10 -> 二类国家级二等奖（含特） | M10: =VLOOKUP(L10,表2.获奖金额及对应奖项!A:D,4,0) -> 1500 | N10: 团队 | O10: 0.5 | P10: =M10*O10 -> 750 | Q10: 第一项 | R10: =_xlfn.IFS(Q10="第一项",100%,Q10="第二项",50%) -> 1 | S10: =O10*M10*R10 -> 750 | T10: {=IF(COUNT(FIND({1,2,3,4,5,6,7,8,9,0},S10))>0,"","仅证书")}
A11: 9 | B11: 安波 | C11: 2023563306 | D11: 化工与环境学院 | E11: 全国大学生化工设计竞赛 | F11: 45896 | G11: =VLOOKUP(E11,'表1.校区竞赛认定目录（2026年）'!B26:C114,2,0) -> 二类 | H11: 国家级 | I11: 三等奖 | J11: 是 | K11: =_xlfn.IFS(J11="是","（含特）",J11="否","（不含特）") -> （含特） | L11: =G11&H11&I11&K11 -> 二类国家级三等奖（含特） | M11: =VLOOKUP(L11,表2.获奖金额及对应奖项!A:D,4,0) -> 1000 | N11: 团队 | O11: 1 | P11: =M11*O11 -> 1000 | Q11: 第二项 | R11: =_xlfn.IFS(Q11="第一项",100%,Q11="第二项",50%) -> 0.5 | S11: =O11*M11*R11 -> 500 | T11: {=IF(COUNT(FIND({1,2,3,4,5,6,7,8,9,0},S11))>0,"","仅证书")}
A12: 10 | B12: 郅轲轲 | C12: 2018592010 | D12: 化工与环境学院 | E12: 全国大学生语言文字能力大赛 | F12: 45992 | G12: =VLOOKUP(E12,'表1.校区竞赛认定目录（2026年）'!B28:C116,2,0) -> 二类 | H12: 国家级 | I12: 二等奖 | J12: 否 | K12: =_xlfn.IFS(J12="是","（含特）",J12="否","（不含特）") -> （不含特） | L12: =G12&H12&I12&K12 -> 二类国家级二等奖（不含特） | M12: =VLOOKUP(L12,表2.获奖金额及对应奖项!A:D,4,0) -> 2000 | N12: 个人 | O12: 1 | P12: =M12*O12 -> 2000 | Q12: 第一项 | R12: =_xlfn.IFS(Q12="第一项",100%,Q12="第二项",50%) -> 1 | S12: =O12*M12*R12 -> 2000 | T12: {=IF(COUNT(FIND({1,2,3,4,5,6,7,8,9,0},S12))>0,"","仅证书")}
A13: 11 | B13: 王志朴 | C13: 2019592037 | D13: 化工与环境学院 | E13: “挑战杯”中国大学生创业计划大赛主体赛 | F13: 46174 | G13: 一类 | H13: 省部级 | I13: 特等奖 | J13: 是 | K13: =_xlfn.IFS(J13="是","（含特）",J13="否","（不含特）") -> （含特） | L13: 一类省部级特等奖（含特） | M13: 1000 | N13: 团队 | O13: 0.8 | P13: 800 | Q13: 第一项 | R13: =_xlfn.IFS(Q13="第一项",100%,Q13="第二项",50%) -> 1 | S13: =O13*M13*R13 -> 800
A14: 12 | B14: 田青梅 | C14: 2019591002 | D14: 化工与环境学院 | E14: 全国大学生化工实验大赛 | F14: 46235 | G14: =VLOOKUP(E14,'表1.校区竞赛认定目录（2026年）'!B2:C90,2,0) -> 二类 | H14: 国家级 | I14: 二等奖 | J14: 是 | K14: =_xlfn.IFS(J14="是","（含特）",J14="否","（不含特）") -> （含特） | L14: =G14&H14&I14&K14 -> 二类国家级二等奖（含特） | M14: =VLOOKUP(L14,表2.获奖金额及对应奖项!A:D,4,0) -> 1500 | N14: 团队 | O14: 0.4 | P14: =M14*O14 -> 600 | Q14: 第一项 | R14: =_xlfn.IFS(Q14="第一项",100%,Q14="第二项",50%) -> 1 | S14: =O14*M14*R14 -> 600 | T14: {=IF(COUNT(FIND({1,2,3,4,5,6,7,8,9,0},S14))>0,"","仅证书")}
A15: 13 | B15: 田青梅 | C15: 2019591002 | D15: 化工与环境学院 | E15: 全国大学生化工实验大赛 | F15: 46235 | G15: 二类 | H15: 省部级 | I15: 特等奖 | J15: 是 | K15: =_xlfn.IFS(J15="是","（含特）",J15="否","（不含特）") -> （含特） | L15: =G15&H15&I15&K15 -> 二类省部级特等奖（含特） | M15: =VLOOKUP(L15,表2.获奖金额及对应奖项!A:D,4,0) -> 800 | N15: 团队 | O15: 0.4 | P15: =M15*O15 -> 320 | Q15: 第二项 | R15: =_xlfn.IFS(Q15="第一项",100%,Q15="第二项",50%) -> 0.5 | S15: =M15*O15*R15 -> 160
A16: 14 | B16: 范士广 | C16: 2023563307 | D16: 化工与环境学院 | E16: 全国大学生节能减排社会实践与科技竞赛 | F16: 46235 | G16: 二类 | H16: 国家级 | I16: 三等奖 | J16: 否 | K16: =_xlfn.IFS(J16="是","（含特）",J16="否","（不含特）") -> （不含特） | L16: 二类国家级三等奖（不含特） | M16: =VLOOKUP(L16,表2.获奖金额及对应奖项!A:D,4,0) -> 1500 | N16: 团队 | O16: 1 | P16: =M16*O16 -> 1500 | Q16: 第一项 | R16: =_xlfn.IFS(Q16="第一项",100%,Q16="第二项",50%) -> 1 | S16: =M16*O16*R16 -> 1500
A17: 15 | B17: 刘舜 | C17: 2019591003 | D17: 化工与环境学院 | E17: 全国大学生化工实验大赛 | F17: 46235 | G17: 二类 | H17: 国家级 | I17: 二等奖 | J17: 是 | K17: =_xlfn.IFS(J17="是","（含特）",J17="否","（不含特）") -> （含特） | L17: =G17&H17&I17&K17 -> 二类国家级二等奖（含特） | M17: =VLOOKUP(L17,表2.获奖金额及对应奖项!A:D,4,0) -> 1500 | N17: 团队 | O17: 0.3 | P17: =M17*O17 -> 450 | Q17: 第一项 | R17: =_xlfn.IFS(Q17="第一项",100%,Q17="第二项",50%) -> 1 | S17: =M17*O17*R17 -> 450
A18: 16 | B18: 刘舜 | C18: 2019591003 | D18: 化工与环境学院 | E18: 全国大学生化工实验大赛 | F18: 46235 | G18: 二类 | H18: 省部级 | I18: 特等奖 | J18: 是 | K18: =_xlfn.IFS(J18="是","（含特）",J18="否","（不含特）") -> （含特） | L18: =G18&H18&I18&K18 -> 二类省部级特等奖（含特） | M18: =VLOOKUP(L18,表2.获奖金额及对应奖项!A:D,4,0) -> 800 | N18: 团队 | O18: 0.3 | P18: =M18*O18 -> 240 | Q18: 第二项 | R18: =_xlfn.IFS(Q18="第一项",100%,Q18="第二项",50%) -> 0.5 | S18: =M18*O18*R18 -> 120
A19: 15 | B19: 热则耶·热合米图力 | C19: 2016591021 | D19: 化工与环境学院 | E19: 全国大学生化工实验大赛 | F19: 46204 | G19: 二类 | H19: 省部级 | I19: 一等奖 | J19: 是 | K19: =_xlfn.IFS(J19="是","（含特）",J19="否","（不含特）") -> （含特） | L19: =G19&H19&I19&K19 -> 二类省部级一等奖（含特） | M19: 600 | N19: 团队 | O19: 30%% | P19: 600 | Q19: 第一项 | R19: 1 | S19: 600
A20: 16 | B20: 热则耶·热合米图力 | C20: 2016591021 | D20: 化工与环境学院 | E20: “挑战杯”中国大学生创业计划大赛主体赛 | F20: 46174 | G20: 一类 | H20: 省部级 | I20: 一等奖 | J20: 是 | K20: =_xlfn.IFS(J20="是","（含特）",J20="否","（不含特）") -> （含特） | L20: 一类省部级一等奖（含特） | M20: 800 | N20: 团队 | O20: 0.5 | P20: 400 | Q20: 第二项 | R20: 0.5 | S20: 200
A21: 18 | B21: 王茂仁 | C21: 2022592102 | D21: 化工与环境学院 | E21: 中国大学生机械工程创新创意大赛 | F21: 45894 | G21: =VLOOKUP(E21,'表1.校区竞赛认定目录（2026年）'!B9:C97,2,0) -> 二类 | H21: 国家级 | I21: 一等奖 | J21: 否 | K21: =_xlfn.IFS(J21="是","（含特）",J21="否","（不含特）") -> （不含特） | L21: =G21&H21&I21&K21 -> 二类国家级一等奖（不含特） | M21: =VLOOKUP(L21,表2.获奖金额及对应奖项!A:D,4,0) -> 3000 | N21: 个人 | O21: 1 | P21: =M21*O21 -> 3000 | Q21: 第一项 | R21: =_xlfn.IFS(Q21="第一项",100%,Q21="第二项",50%) -> 1 | S21: =O21*M21*R21 -> 3000 | T21: {=IF(COUNT(FIND({1,2,3,4,5,6,7,8,9,0},S21))>0,"","仅证书")}
A22: 19 | B22: 侯军伟 | C22: 2016591021 | D22: 化工与环境学院 | E22: “挑战杯”中国大学生创业计划大赛主体赛 | F22: 46174 | G22: 一类 | H22: 省部级 | I22: 一等奖 | J22: 是 | K22: =_xlfn.IFS(J22="是","（含特）",J22="否","（不含特）") -> （含特） | L22: 一类省部级一等奖（含特） | M22: 800 | N22: 团队 | O22: 0.5 | P22: 400 | Q22: 第二项 | R22: 0.5 | S22: 200
A23: 20 | B23: 侯军伟 | C23: 2016591021 | D23: 化工与环境学院 | E23: “挑战杯”中国大学生创业计划大赛主体赛 | F23: 46174 | G23: 一类 | H23: 省部级 | I23: 特等奖 | J23: 是 | K23: =_xlfn.IFS(J23="是","（含特）",J23="否","（不含特）") -> （含特） | L23: 一类省部级一等奖（含特） | M23: 800 | N23: 团队 | O23: 1 | P23: 1000 | Q23: 第一项 | R23: 1 | S23: 1000
A28: 备注：标蓝格子有公式计算，无需自行填写

Sheet 表1.校区竞赛认定目录（2026年）
A1: 中国石油大学（北京）克拉玛依校区创新创业竞赛认定目录（2026年）
A2: 序号 | B2: 竞赛名称 | C2: 竞赛级别 | D2: 备注
A3: 1 | B3: 中国国际大学生创新大赛 | C3: 一类 | D3: 含主赛道、产业赛道、红旅赛道
A4: 2 | B4: “挑战杯”全国大学生课外学术科技作品竞赛主体赛 | C4: 一类 | D4: 不含其它分赛道及专项赛
A5: 3 | B5: “挑战杯”中国大学生创业计划大赛主体赛 | C5: 一类 | D5: 不含其它分赛道及专项赛
A6: 4 | B6: “挑战杯”全国大学生课外学术科技作品竞赛-分赛道及专项赛 | C6: 二类 | D6: 含除主体赛外所有分赛道及专项赛
A7: 5 | B7: “挑战杯”中国大学生创业计划大赛-分赛道及专项赛 | C7: 二类 | D7: 含除主体赛外所有分赛道及专项赛
A8: 6 | B8: 全国大学生创新创业训练计划年会展示 | C8: 二类
A9: 7 | B9: ACM-ICPC国际大学生程序设计竞赛 | C9: 二类
A10: 8 | B10: 中国大学生计算机设计大赛 | C10: 二类
A11: 9 | B11: 中国高校计算机大赛-①大数据挑战赛、②团体程序设计天梯赛、③移动应用创新赛、④网络技术挑战赛、⑤人工智能创意赛 | C11: 二类
A12: 10 | B12: 蓝桥杯全国大学生软件和信息技术大赛 | C12: 二类
A13: 11 | B13: 全国大学生地质技能竞赛 | C13: 二类
A14: 12 | B14: 睿抗机器人开发者大赛(RAICOM) | C14: 二类
A15: 13 | B15: 华为ICT大赛 | C15: 二类
A16: 14 | B16: 中国机器人及人工智能大赛 | C16: 二类
A17: 15 | B17: iCAN大学生创新创业大赛 | C17: 二类
A18: 16 | B18: 百度之星·程序设计大赛 | C18: 二类
A19: 17 | B19: 全国大学生计算机系统能力大赛 | C19: 二类
... A26: 24 | B26: 全国大学生化工设计竞赛 | C26: 二类
A27: 25 | B27: 全国大学生机器人大赛（CURC） | C27: 二类 | D27: 原全国大学生机器人大赛-①RoboMaster、②RoboCon
A28: 26 | B28: 全国大学生先进成图技术与产品信息建模创新大赛 | C28: 二类
A29: 27 | B29: 全国三维数字化创新设计大赛 | C29: 二类
A30: 28 | B30: “西门子杯”中国智能制造挑战赛 | C30: 二类
A31: 29 | B31: 全国大学生金相技能大赛 | C31: 二类
A32: 30 | B32: 全国周培源大学生力学竞赛 | C32: 二类
A33: 31 | B33: 中国大学生机械工程创新创意大赛 | C33: 二类
A34: 32 | B34: 中美青年创客大赛 | C34: 二类
A35: 33 | B35: 大学生新一代信息通信科技大赛 | C35: 二类 | D35: 原“大唐杯”全国大学生新一代信息通信技术大赛
A36: 34 | B36: 全国大学生嵌入式芯片与系统设计竞赛 | C36: 二类
A37: 35 | B37: 全国大学生生命科学竞赛（CULSC） | C37: 二类
A38: 36 | B38: 中国高校智能机器人创意大赛 | C38: 二类
A39: 37 | B39: 全国大学生节能减排社会实践与科技竞赛 | C39: 二类
A40: 38 | B40: 全国大学生化工实验大赛 | C40: 二类
A41: 39 | B41: 全国大学生物联网设计竞赛 | C41: 二类
A42: 40 | B42: 高教社杯全国大学生数学建模竞赛 | C42: 二类
A43: 41 | B43: “外研社·国才杯”理解当代中国全国大学生外语能力大赛 | C43: 二类 | D43: 原外研社全国大学生英语系列赛-①英语演讲、②英语辩论、③英语写作、④英语阅读
A44: 42 | B44: 全国大学生光电设计竞赛 | C44: 二类
A45: 43 | B45: 全国大学生物理实验竞赛 | C45: 二类
A46: 44 | B46: 中国日报社“21世纪杯”全国英语演讲比赛 | C46: 二类 | D46: 原“21世纪杯”全国英语演讲比赛
A47: 45 | B47: 中华经典诵写讲大赛 | C47: 二类
A48: 46 | B48: “外教社杯”全国高校学生跨文化能力大赛 | C48: 二类
A49: 47 | B49: 全国大学生统计建模大赛 | C49: 二类
A50: 48 | B50: 全国大学生电子商务“创新、创意及创业”挑战赛 | C50: 二类
A51: 49 | B51: 全国大学生市场调查与分析大赛 | C51: 二类
A52: 50 | B52: 全国高校商业精英挑战赛-①品牌策划竞赛、②会展专业创新创业实践竞赛、③国际贸易竞赛、④创新创业竞赛⑤会计与商业管理素例竞赛 | C52: 二类
A53: 51 | B53: “学创杯”全国大学生创业综合模拟大赛 | C53: 二类
A54: 52 | B54: “工行杯”全国大学生金融科技创新大赛 | C54: 二类
A55: 53 | B55: 全国大学生能源经济学术创意大赛 | C55: 二类
A56: 54 | B56: “科云杯”全国大学生财会职业能力大赛 | C56: 二类
A57: 55 | B57: 中国石油工程设计大赛 | C57: 二类
A58: 56 | B58: 全国大学生计算机应用能力与数字素养大赛 | C58: 二类 | D58: 原全国大学生计算机应用能力与信息素养大赛
A59: 57 | B59: “外教社·词达人杯”全国大学生英语词汇能力大赛 | C59: 二类
A60: 58 | B60: 全国大学生语言文字能力大赛 | C60: 二类
A61: 59 | B61: 全国大学生数学竞赛 | C61: 二类
A62: 60 | B62: “求是杯”国际诗歌创作与翻译大赛 | C62: 二类
A63: 61 | B63: 时报金犊奖 | C63: 二类
A64: 62 | B64: 全国高校企业价值创造实战竞赛 | C64: 二类
A65: 63 | B65: “东方杯”全国大学生勘探地球物理大赛 | C65: 二类
A66: 64 | B66: 全国高校俄语大赛 | C66: 二类
A67: 65 | B67: 全国大学生职业规划大赛 | C67: 二类
A68: 66 | B68: 中国研究生智慧城市技术与创意设计大赛 | C68: 二类 | D68: 中国研究生创新实践系列大赛
A69: 67 | B69: 中国研究生未来飞行器创新大赛 | C69: 二类 | D69: 中国研究生创新实践系列大赛
A70: 68 | B70: 中国研究生创“芯”大赛 | C70: 二类 | D70: 中国研究生创新实践系列大赛
A71: 69 | B71: 中国研究生创“芯”大赛——EDA精英挑战赛 | C71: 二类 | D71: 中国研究生创新实践系列大赛
A72: 70 | B72: 中国研究生人工智能创新大赛 | C72: 二类 | D72: 中国研究生创新实践系列大赛
A73: 71 | B73: 中国研究生机器人创新设计大赛 | C73: 二类 | D73: 中国研究生创新实践系列大赛
A74: 72 | B74: 中国研究生能源装备创新设计大赛 | C74: 二类 | D74: 中国研究生创新实践系列大赛
A75: 73 | B75: 中国研究生公共管理案例大赛 | C75: 二类 | D75: 中国研究生创新实践系列大赛
A76: 74 | B76: 中国研究生乡村振兴科技强农+创新大赛 | C76: 二类 | D76: 中国研究生创新实践系列大赛
A77: 75 | B77: 中国研究生网络安全创新大赛 | C77: 二类 | D77: 中国研究生创新实践系列大赛
A78: 76 | B78: 中国研究生金融科技创新大赛 | C78: 二类 | D78: 中国研究生创新实践系列大赛
A79: 77 | B79: 中国研究生“美丽中国”创新设计大赛 | C79: 二类 | D79: 中国研究生创新实践系列大赛
... A89: 87 | B89: 中国研究生“双碳”创新与创意大赛 | C89: 二类 | D89: 中国研究生创新实践系列大赛
A90: 88 | B90: 其他比赛未在排行榜中 | C90: 其他

Sheet 表2.获奖金额及对应奖项
A1: 设置特等奖 | B1: 未设置特等奖 | C1: 获奖档次 | D1: 该奖项奖金
A2: 一类国家级特等奖（含特） | B2: 一类国家级一等奖（不含特） | C2: 1 | D2: 5000
A3: 一类国家级一等奖（含特） | B3: 一类国家级二等奖（不含特） | C3: 2 | D3: 3000
A4: 一类国家级二等奖（含特） | B4: 一类国家级三等奖（不含特） | C4: 3 | D4: 2000
A5: 一类国家级三等奖（含特） | C5: 4 | D5: 1000
A6: 一类省部级特等奖（含特） | B6: 一类省部级一等奖（不含特） | C6: 5 | D6: 1000
A7: 一类省部级一等奖（含特） | B7: 一类省部级二等奖（不含特） | C7: 6 | D7: 800
A9: 二类国家级特等奖（含特） | B9: 二类国家级一等奖（不含特） | C9: 7 | D9: 3000
A10: 二类国家级一等奖（含特） | B10: 二类国家级二等奖（不含特） | C10: 8 | D10: 2000
A11: 二类国家级二等奖（含特） | B11: 二类国家级三等奖（不含特） | C11: 9 | D11: 1500
A12: 二类国家级三等奖（含特） | C12: 10 | D12: 1000
A13: 二类省部级特等奖（含特） | B13: 二类省部级一等奖（不含特） | C13: 11 | D13: 800
A14: 二类省部级一等奖（含特） | B14: 二类省部级二等奖（不含特） | C14: 12 | D14: 600
A16: 其他竞赛奖项 | B16: 其他竞赛奖项 | C16: 13 | D16: 仅证书
A17: 一类国家级一等奖（不含特） | C17: 1 | D17: 5000
A18: 一类国家级二等奖（不含特） | C18: 2 | D18: 3000
A19: 一类国家级三等奖（不含特） | C19: 3 | D19: 2000
D20: 1000
A21: 一类省部级一等奖（不含特） | C21: 5 | D21: 1000
A22: 一类省部级二等奖（不含特） | C22: 6 | D22: 800
A23: 二类国家级一等奖（不含特） | C23: 7 | D23: 3000
A24: 二类国家级二等奖（不含特） | C24: 8 | D24: 2000
A25: 二类国家级三等奖（不含特） | C25: 9 | D25: 1500
D26: 1000
A27: 二类省部级一等奖（不含特） | C27: 11 | D27: 800
A28: 二类省部级二等奖（不含特） | C28: 12 | D28: 600
