Workbook

Sheet 附件4 科技创新奖学金汇总表（学生）
A1: 校区2025-2026学年科技创新奖学金申报信息汇总表（学生填）
A2: 序号 | B2: 姓名 | C2: 学号 | D2: 部门/学院 | E2: 成果类别 | F2: 竞赛名称 (请按照表1填写） | G2: 获奖时间 | H2: 竞赛类别 （一类/二类/其他） | I2: 获奖级别 | J2: 获奖等级 | K2: 该级别奖项是否设置特等奖 | L2: 特等标签 | N2: 获奖总额（元） | O2: 参赛形式 | P2: 奖金分配比例 （填xx%，如20%） | Q2: 个人奖金金额（元） | R2: 是否仅证书
A3: 1 | B3: 赵晋哲 | C3: 2023015761 | D3: 化工与环境学院 | E3: 竞赛获奖 | F3: 高教社杯全国大学生数学建模竞赛 | G3: 45981 | H3: =VLOOKUP(F3,'表1.校区竞赛认定目录（2026年）'!B:C,2,0) -> 二类 | I3: 省部级 | J3: 一等奖 | K3: 否 | L3: =_xlfn.IFS(K3="是","（含特）",K3="否","（不含特）") -> （不含特） | M3: =H3&I3&J3&L3 -> 二类省部级一等奖（不含特） | N3: =VLOOKUP(M3,表2.获奖金额及对应奖项!A:D,4,0) -> 1000 | O3: 团队 | P3: 1 | Q3: =N3*P3 -> 1000
A4: 2 | B4: 赵康宇 | C4: 2023015762 | D4: 化工与环境学院 | E4: 学术论文 | F4: 砂粒对甲烷水合物生成动力学的影响规律 | G4: 46091 | H4: 其他 | L4: =_xlfn.IFS(K4="是","（含特）",K4="否","（不含特）") -> #N/A | O4: 个人 | P4: 1 | Q4: 100
A5: 3 | B5: 刘雅昕 | C5: 2023016363 | D5: 化工与环境学院 | E5: 学术论文 | F5: Fabrication and application of superhydrophilic surface materials | G5: 46155 | H5: 其他 | L5: =_xlfn.IFS(K5="是","（含特）",K5="否","（不含特）") -> #N/A | O5: 个人 | P5: 1 | Q5: 100
A6: 4 | B6: 张誉曦 | C6: 2024016356 | D6: 化工与环境学院 | E6: 竞赛获奖 | F6: 全国大学生节能减排社会实践与科技竞赛 | G6: 46245 | H6: =VLOOKUP(F6,'表1.校区竞赛认定目录（2026年）'!B:C,2,0) -> 二类 | I6: 国家级 | J6: 三等奖 | K6: 否 | L6: =_xlfn.IFS(K6="是","（含特）",K6="否","（不含特）") -> （不含特） | M6: =H6&I6&J6&L6 -> 二类国家级三等奖（不含特） | N6: =VLOOKUP(M6,表2.获奖金额及对应奖项!A:D,4,0) -> 1500 | O6: 团队 | P6: 0.86 | Q6: =N6*P6 -> 1290
A7: 5 | B7: 刘冉 | C7: 200406177327 | D7: 化工与环境学院 | E7: 竞赛获奖 | F7: “求是杯”国际诗歌创作与翻译大赛 | G7: 46120 | H7: =VLOOKUP(F7,'表1.校区竞赛认定目录（2026年）'!B:C,2,0) -> 二类 | I7: 国家级 | J7: 二等奖 | K7: 否 | L7: =_xlfn.IFS(K7="是","（含特）",K7="否","（不含特）") -> （不含特） | M7: =H7&I7&J7&L7 -> 二类国家级二等奖（不含特） | N7: =VLOOKUP(M7,表2.获奖金额及对应奖项!A:D,4,0) -> 2000 | O7: 个人 | P7: 1 | Q7: =N7*P7 -> 2000
A8: 6 | B8: 张家豪 | C8: 2023016358 | D8: 化工与环境学院 | E8: 学术论文 | F8: Application of biochar-based materials as adsorbents for aquatic environment remediation: Preparation, mechanisms, and performance evaluation | G8: 46192 | H8: 其他 | I8: 省部级 | L8: =_xlfn.IFS(K8="是","（含特）",K8="否","（不含特）") -> #N/A | O8: 个人 | P8: 1 | Q8: 100
A9: 7 | B9: 廖钰欣 | C9: 2024017453 | D9: 化工与环境学院 | E9: 竞赛获奖 | F9: 全国大学生能源经济学术创意大赛 | G9: 46143 | H9: =VLOOKUP(F9,'表1.校区竞赛认定目录（2026年）'!B:C,2,0) -> 二类 | I9: 省部级 | J9: 三等奖 | K9: 否 | L9: =_xlfn.IFS(K9="是","（含特）",K9="否","（不含特）") -> （不含特） | M9: =H9&I9&J9&L9 -> 二类省部级三等奖（不含特） | O9: 团队 | P9: 1 | Q9: 0 | R9: 仅证书
A10: 8 | B10: 高睿博 | C10: 2023016342 | D10: 化工与环境学院 | E10: 竞赛获奖 | F10: 全国大学生能源经济学术创意大赛 | G10: 46143 | H10: =VLOOKUP(F10,'表1.校区竞赛认定目录（2026年）'!B:C,2,0) -> 二类 | I10: 省部级 | J10: 三等奖 | K10: 否 | L10: =_xlfn.IFS(K10="是","（含特）",K10="否","（不含特）") -> （不含特） | M10: =H10&I10&J10&L10 -> 二类省部级三等奖（不含特） | O10: 团队 | P10: 0.3 | Q10: 0 | R10: 仅证书
A11: 9 | B11: 赖毓鸿 | C11: 2024016193 | D11: 化工与环境学院 | E11: 竞赛获奖 | F11: 全国大学生数学竞赛 | G11: 45992 | H11: 二类 | I11: 省部级 | J11: 一等奖 | K11: 否 | L11: =_xlfn.IFS(K11="是","（含特）",K11="否","（不含特）") -> （不含特） | M11: =H11&I11&J11&L11 -> 二类省部级一等奖（不含特） | N11: =VLOOKUP(M11,表2.获奖金额及对应奖项!A:D,4,0) -> 1000 | O11: 个人 | P11: 1 | Q11: =N11*P11 -> 1000
A12: 10 | B12: 刘林林 | C12: 2024016847 | D12: 化工与环境学院 | E12: 竞赛获奖 | F12: 全国大学生光电设计竞赛 | G12: 46174 | H12: =VLOOKUP(F12,'表1.校区竞赛认定目录（2026年）'!B:C,2,0) -> 二类 | I12: 国家级 | J12: 二等奖 | K12: 否 | L12: =_xlfn.IFS(K12="是","（含特）",K12="否","（不含特）") -> （不含特） | M12: =H12&I12&J12&L12 -> 二类国家级二等奖（不含特） | N12: =VLOOKUP(M12,表2.获奖金额及对应奖项!A:D,4,0) -> 2000 | O12: 团队 | P12: 1 | Q12: =N12*P12 -> 2000
A13: 11 | B13: 郭瀚宇 | C13: 2023015774 | D13: 化工与环境学院 | E13: 竞赛获奖 | F13: 全国大学生语言文字能力大赛 | G13: 46174 | H13: =VLOOKUP(F13,'表1.校区竞赛认定目录（2026年）'!B:C,2,0) -> 二类 | I13: 省部级 | J13: 二等奖 | K13: 否 | L13: =_xlfn.IFS(K13="是","（含特）",K13="否","（不含特）") -> （不含特） | M13: =H13&I13&J13&L13 -> 二类省部级二等奖（不含特） | N13: =VLOOKUP(M13,表2.获奖金额及对应奖项!A:D,4,0) -> 800 | O13: 个人 | P13: 1 | Q13: =N13*P13 -> 800
A14: 12 | B14: 张旭东 | C14: 2024016390 | D14: 化工与环境学院 | E14: 竞赛获奖 | F14: 全国大学生能源经济学术创意大赛 | G14: 46173 | H14: 二类 | I14: 国家级 | J14: 二等奖 | K14: 是 | L14: （含特） | M14: 二类国家级二等奖（含特） | N14: =VLOOKUP(M14,表2.获奖金额及对应奖项!A:D,4,0) -> 1500 | O14: 团队 | P14: 1 | Q14: 1500
A15: 13 | B15: 苏忠芮 | C15: 2024016833 | D15: 化工与环境学院 | E15: 竞赛获奖 | F15: 全国大学生节能减排社会实践与科技竞赛 | G15: 46235 | H15: =VLOOKUP(F15,'表1.校区竞赛认定目录（2026年）'!B:C,2,0) -> 二类 | I15: 国家级 | J15: 三等奖 | K15: 是 | L15: =_xlfn.IFS(K15="是","（含特）",K15="否","（不含特）") -> （含特） | M15: =H15&I15&J15&L15 -> 二类国家级三等奖（含特） | N15: =VLOOKUP(M15,表2.获奖金额及对应奖项!A:D,4,0) -> 1000 | O15: 团队 | P15: 1 | Q15: =N15*P15 -> 1000
A16: 14 | B16: 郑黄江 | C16: 2024216964 | D16: 化工与环境学院 | E16: 发明专利 | F16: 发明专利：基于多反应条件输入的聚乙烯产物性能预测方法、装置及存储介质 | G16: 46206 | H16: 其他 | L16: =_xlfn.IFS(K16="是","（含特）",K16="否","（不含特）") -> #N/A | O16: 个人 | P16: 1 | Q16: 0 | R16: 仅证书
A17: 15 | B17: 卢玉博 | C17: 2024016314 | D17: 化工与环境学院 | E17: 竞赛获奖 | F17: 全国大学生语言文字能力大赛 | G17: 46011 | H17: =VLOOKUP(F17,'表1.校区竞赛认定目录（2026年）'!B:C,2,0) -> 二类 | I17: 国家级 | J17: 二等奖 | K17: 否 | L17: =_xlfn.IFS(K17="是","（含特）",K17="否","（不含特）") -> （不含特） | M17: =H17&I17&J17&L17 -> 二类国家级二等奖（不含特） | N17: =VLOOKUP(M17,表2.获奖金额及对应奖项!A:D,4,0) -> 2000 | O17: 个人 | P17: 1 | Q17: =N17*P17 -> 2000
A18: 16 | B18: 韩宇欣 | C18: 2023015730 | D18: 化工与环境学院 | E18: 竞赛获奖 | F18: 全国大学生化工实验大赛 | G18: 46252 | H18: =VLOOKUP(F18,'表1.校区竞赛认定目录（2026年）'!B:C,2,0) -> 二类 | I18: 国家级 | J18: 二等奖 | K18: 是 | L18: =_xlfn.IFS(K18="是","（含特）",K18="否","（不含特）") -> （含特） | M18: =H18&I18&J18&L18 -> 二类国家级二等奖（含特） | N18: =VLOOKUP(M18,表2.获奖金额及对应奖项!A:D,4,0) -> 1500 | O18: 团队 | P18: 0.3333 | Q18: =N18*P18 -> 499.95
A19: 17 | B19: 邱浚峸 | C19: 2023015821 | D19: 化工与环境学院 | E19: 竞赛获奖 | F19: 全国大学生化工实验大赛 | G19: 46252 | H19: =VLOOKUP(F19,'表1.校区竞赛认定目录（2026年）'!B:C,2,0) -> 二类 | I19: 国家级 | J19: 二等奖 | K19: 是 | L19: =_xlfn.IFS(K19="是","（含特）",K19="否","（不含特）") -> （含特） | M19: =H19&I19&J19&L19 -> 二类国家级二等奖（含特） | N19: =VLOOKUP(M19,表2.获奖金额及对应奖项!A:D,4,0) -> 1500 | O19: 团队 | P19: 0.3333 | Q19: =N19*P19 -> 499.95
A20: 18 | B20: 彭晗 | C20: 2024016851 | D20: 化工与环境学院 | E20: 竞赛获奖 | F20: 全国大学生生命科学竞赛（CULSC） | G20: 46235 | H20: =VLOOKUP(F20,'表1.校区竞赛认定目录（2026年）'!B:C,2,0) -> 二类 | I20: 国家级 | J20: 三等奖 | K20: 否 | L20: =_xlfn.IFS(K20="是","（含特）",K20="否","（不含特）") -> （不含特） | M20: =H20&I20&J20&L20 -> 二类国家级三等奖（不含特） | N20: =VLOOKUP(M20,表2.获奖金额及对应奖项!A:D,4,0) -> 1500 | O20: 团队 | P20: 1 | Q20: =N20*P20 -> 1500
A21: 19 | B21: 石语 | C21: 2024016145 | D21: 化工与环境学院 | E21: 竞赛获奖 | F21: 全国大学生数学竞赛 | G21: 45992 | H21: =VLOOKUP(F21,'表1.校区竞赛认定目录（2026年）'!B:C,2,0) -> 二类 | I21: 省部级 | J21: 一等奖 | K21: 否 | L21: =_xlfn.IFS(K21="是","（含特）",K21="否","（不含特）") -> （不含特） | M21: =H21&I21&J21&L21 -> 二类省部级一等奖（不含特） | N21: =VLOOKUP(M21,表2.获奖金额及对应奖项!A:D,4,0) -> 1000 | O21: 个人 | P21: 1 | Q21: =N21*P21 -> 1000
A22: 20 | B22: 林倩冰 | C22: 2023015798 | D22: 化工与环境学院 | E22: 竞赛获奖 | F22: 全国大学生化工实验大赛 | G22: 2026年8月18 | H22: =VLOOKUP(F22,'表1.校区竞赛认定目录（2026年）'!B:C,2,0) -> 二类 | I22: 国家级 | J22: 二等奖 | K22: 是 | L22: =_xlfn.IFS(K22="是","（含特）",K22="否","（不含特）") -> （含特） | M22: =H22&I22&J22&L22 -> 二类国家级二等奖（含特） | N22: =VLOOKUP(M22,表2.获奖金额及对应奖项!A:D,4,0) -> 1500 | O22: 团队 | P22: 0.3333 | Q22: =N22*P22 -> 499.95
A23: 21 | B23: 王彤彤 | C23: 2023015734 | D23: 化工与环境学院 | E23: 竞赛获奖 | F23: 其他比赛未在排行榜中 | G23: 46235 | H23: =VLOOKUP(F23,'表1.校区竞赛认定目录（2026年）'!B:C,2,0) -> 其他 | I23: 国家级 | J23: 二等奖 | K23: 否 | L23: =_xlfn.IFS(K23="是","（含特）",K23="否","（不含特）") -> （不含特） | M23: =H23&I23&J23&L23 -> 其他国家级二等奖（不含特） | O23: 团队 | P23: 0.25 | Q23: 0
A24: 22 | B24: 梅月莹 | C24: 2024016296 | D24: 化工与环境学院 | E24: 竞赛获奖 | F24: 全国大学生语言文字能力大赛 | G24: 45992 | H24: =VLOOKUP(F24,'表1.校区竞赛认定目录（2026年）'!B:C,2,0) -> 二类 | I24: 国家级 | J24: 二等奖 | K24: 否 | L24: =_xlfn.IFS(K24="是","（含特）",K24="否","（不含特）") -> （不含特） | M24: =H24&I24&J24&L24 -> 二类国家级二等奖（不含特） | N24: =VLOOKUP(M24,表2.获奖金额及对应奖项!A:D,4,0) -> 2000 | O24: 个人 | P24: 1 | Q24: =N24*P24 -> 2000
A25: 23 | B25: 丁林杰 | C25: 2025216993 | D25: 化工与环境学院 | E25: 学术论文 | F25: Effects of water-soluble amino acid promoters on the formation kinetics of liquid CO2 hydrate in sand-containing systems | G25: 46235 | H25: 其他 | L25: =_xlfn.IFS(K25="是","（含特）",K25="否","（不含特）") -> #N/A | O25: 个人 | P25: 1 | Q25: 100
A26: 24 | B26: 申盛源 | C26: 2024016917 | D26: 化工与环境学院 | E26: 竞赛获奖 | F26: 全国大学生数学竞赛 | G26: 45992 | H26: 二类 | I26: 省部级 | J26: 三等奖 | K26: 否 | L26: （不含特） | M26: 二类省部级三等奖（不含特） | O26: 个人 | P26: 1 | Q26: 0 | R26: 仅证书
A27: 25 | B27: 张苑熙 | C27: 2023015735 | D27: 化工与环境学院 | E27: 竞赛获奖 | F27: 全国大学生计算机应用能力与数字素养大赛 | G27: 46178 | H27: =VLOOKUP(F27,'表1.校区竞赛认定目录（2026年）'!B:C,2,0) -> 二类 | I27: 国家级 | J27: 三等奖 | K27: 否 | L27: =_xlfn.IFS(K27="是","（含特）",K27="否","（不含特）") -> （不含特） | M27: =H27&I27&J27&L27 -> 二类国家级三等奖（不含特） | N27: =VLOOKUP(M27,表2.获奖金额及对应奖项!A:D,4,0) -> 1500 | O27: 个人 | P27: 1 | Q27: =N27*P27 -> 1500
A28: 26 | B28: 杨金语 | C28: 2025016900 | D28: 化工与环境学院 | E28: 竞赛获奖 | F28: 蓝桥杯全国大学生软件和信息技术大赛 | G28: 46150 | H28: =VLOOKUP(F28,'表1.校区竞赛认定目录（2026年）'!B:C,2,0) -> 二类 | I28: 省部级 | J28: 三等奖 | K28: 否 | L28: =_xlfn.IFS(K28="是","（含特）",K28="否","（不含特）") -> （不含特） | M28: =H28&I28&J28&L28 -> 二类省部级三等奖（不含特） | O28: 个人 | P28: 1 | Q28: 0 | R28: 仅证书
A29: 27 | B29: 乔帅博 | C29: 2025017687 | D29: 化工与环境学院 | E29: 竞赛获奖 | F29: 全国大学生语言文字能力大赛 | G29: 46174 | H29: =VLOOKUP(F29,'表1.校区竞赛认定目录（2026年）'!B:C,2,0) -> 二类 | I29: 省部级 | J29: 一等奖 | K29: 否 | L29: =_xlfn.IFS(K29="是","（含特）",K29="否","（不含特）") -> （不含特） | M29: =H29&I29&J29&L29 -> 二类省部级一等奖（不含特） | N29: =VLOOKUP(M29,表2.获奖金额及对应奖项!A:D,4,0) -> 1000 | O29: 个人 | P29: 1 | Q29: =N29*P29 -> 1000
A30: 28 | B30: 崔浩然 | C30: 2024016302 | D30: 化工与环境学院 | E30: 竞赛获奖 | F30: 高教社杯全国大学生数学建模竞赛 | G30: 45962 | H30: =VLOOKUP(F30,'表1.校区竞赛认定目录（2026年）'!B:C,2,0) -> 二类 | I30: 国家级 | J30: 二等奖 | K30: 否 | L30: =_xlfn.IFS(K30="是","（含特）",K30="否","（不含特）") -> （不含特） | M30: =H30&I30&J30&L30 -> 二类国家级二等奖（不含特） | N30: =VLOOKUP(M30,表2.获奖金额及对应奖项!A:D,4,0) -> 2000 | O30: 团队 | P30: 0.9 | Q30: =N30*P30 -> 1800
A31: 29 | B31: 刘荟芬 | C31: 2024016765 | D31: 化工与环境学院 | E31: 竞赛获奖 | F31: 全国大学生化工设计竞赛 | G31: 46235 | H31: =VLOOKUP(F31,'表1.校区竞赛认定目录（2026年）'!B:C,2,0) -> 二类 | I31: 国家级 | J31: 三等奖 | K31: 是 | L31: =_xlfn.IFS(K31="是","（含特）",K31="否","（不含特）") -> （含特） | M31: =H31&I31&J31&L31 -> 二类国家级三等奖（含特） | N31: =VLOOKUP(M31,表2.获奖金额及对应奖项!A:D,4,0) -> 1000 | O31: 团队 | P31: 0.6 | Q31: =N31*P31 -> 600
A32: 30 | B32: 闵佳悦 | C32: 2023015964 | D32: 化工与环境学院 | E32: 竞赛获奖 | F32: 全国大学生节能减排社会实践与科技竞赛 | G32: 46261 | H32: 二类 | I32: 国家级 | J32: 三等奖 | K32: 是 | L32: （含特） | M32: 二类国家级三等奖（含特） | N32: =VLOOKUP(M32,表2.获奖金额及对应奖项!A:D,4,0) -> 1000 | O32: 团队 | P32: 1 | Q32: 1000
A33: 31 | B33: 简清如 | C33: 2024016262 | D33: 化工与环境学院 | E33: 竞赛获奖 | F33: 全国大学生能源经济学术创意大赛 | G33: 46124 | H33: 二类 | I33: 省部级 | J33: 二等奖 | K33: 否 | L33: 不含特 | M33: 二类省部级二等奖（不含特） | N33: =VLOOKUP(M33,表2.获奖金额及对应奖项!A:D,4,0) -> 800 | O33: 团队 | P33: 1 | Q33: 800
A34: 32 | B34: 王菁茂 | C34: 2023015787 | D34: 化工与环境学院 | E34: 竞赛获奖 | F34: “求是杯”国际诗歌创作与翻译大赛 | G34: 46120 | H34: 二类 | I34: 国家级 | J34: 三等奖 | K34: 否 | L34: =_xlfn.IFS(K34="是","（含特）",K34="否","（不含特）") -> （不含特） | M34: =H34&I34&J34&L34 -> 二类国家级三等奖（不含特） | N34: =VLOOKUP(M34,表2.获奖金额及对应奖项!A:D,4,0) -> 1500 | O34: 个人 | P34: 1 | Q34: =N34*P34 -> 1500
A35: 33 | B35: 卞晓彤 | C35: 2024017608 | D35: 化工与环境学院 | E35: 竞赛获奖 | F35: 全国大学生化工设计竞赛 | G35: 46235 | H35: 二类 | I35: 国家级 | J35: 三等奖 | K35: 是 | L35: （含特） | M35: 二类国家级三等奖（含特） | N35: =VLOOKUP(M35,表2.获奖金额及对应奖项!A:D,4,0) -> 1000 | O35: 团队 | P35: 0.2 | Q35: 200
A36: 34 | B36: 张锦平 | C36: 2024016354 | D36: 化工与环境学院 | E36: 竞赛获奖 | F36: 全国大学生数学竞赛 | G36: 45992 | H36: 二类 | I36: 省部级 | J36: 一等奖 | K36: 否 | L36: (不含特) | M36: 二类省部级一等奖(不含特) | N36: 1000 | O36: 个人 | P36: 1 | Q36: 1000
A37: 35 | B37: 李家辉 | C37: 2024016140 | D37: 化工与环境学院 | E37: 竞赛获奖 | F37: 全国大学生化工设计大赛 | G37: 46262 | H37: 二类 | I37: 国家级 | J37: 二等奖 | K37: 是 | L37: 含特 | M37: =H37&I37&J37&L37 -> 二类国家级二等奖含特 | N37: 1500 | O37: 团队 | P37: 0.2 | Q37: 300
A38: 36 | B38: 陈宇轩 | C38: 2024016135 | D38: 化工与环境学院 | E38: 竞赛获奖 | F38: 全国大学生化工设计大赛 | G38: 46262 | H38: 二类 | I38: 国家级 | J38: 二等奖 | K38: 是 | L38: 含特 | M38: =H38&I38&J38&L38 -> 二类国家级二等奖含特 | N38: 1500 | O38: 团队 | P38: 0.2 | Q38: 300
A39: 37 | B39: 宋贺 | C39: 2023015950 | D39: 化工与环境学院 | E39: 竞赛获奖 | F39: 全国大学生化工设计大赛 | G39: 46262 | H39: 二类 | I39: 国家级 | J39: 二等奖 | K39: 是 | L39: 含特 | M39: =H39&I39&J39&L39 -> 二类国家级二等奖含特 | N39: 1500 | O39: 团队 | P39: 0.2 | Q39: 300
A40: 38 | B40: 刘乔雨 | C40: 2024016194 | D40: 化工与环境学院 | E40: 竞赛获奖 | F40: 全国大学生数学竞赛 | G40: 45992 | H40: =VLOOKUP(F40,'表1.校区竞赛认定目录（2026年）'!B:C,2,0) -> 二类 | I40: 省部级 | J40: 一等奖 | K40: 否 | L40: =_xlfn.IFS(K40="是","（含特）",K40="否","（不含特）") -> （不含特） | M40: =H40&I40&J40&L40 -> 二类省部级一等奖（不含特） | N40: =VLOOKUP(M40,表2.获奖金额及对应奖项!A:D,4,0) -> 1000 | O40: 个人 | P40: 1 | Q40: =N40*P40 -> 1000
...

Sheet 智能表1
A1: 文本 | B1: 数字 | C1: 单选 | D1: 日期 | E1: 图片

Sheet 表1.校区竞赛认定目录（2026年）
A1: 中国石油大学（北京）克拉玛依校区创新创业竞赛认定目录（2026年）
A2: 序号 | B2: 竞赛名称 | C2: 竞赛级别 | D2: 备注
A3: 1 | B3: 中国国际大学生创新大赛 | C3: 一类 | D3: 含主赛道、产业赛道、红旅赛道
A4: 2 | B4: “挑战杯”全国大学生课外学术科技作品竞赛主体赛 | C4: 一类 | D4: 不含其它分赛道及专项赛
A5: 3 | B5: “挑战杯”中国大学生创业计划大赛主体赛 | C5: 一类 | D5: 不含其它分赛道及专项赛
A6: 4 | B6: “挑战杯”全国大学生课外学术科技作品竞赛-分赛道及专项赛 | C6: 二类 | D6: 含除主体赛外所有分赛道及专项赛
A7: 5 | B7: “挑战杯”中国大学生创业计划大赛-分赛道及专项赛 | C7: 二类 | D7: 含除主体赛外所有分赛道及专项赛
A8: 6 | B8: 全国大学生创新创业训练计划年会展示 | C8: 二类
A9: 7 | B9: ACM-ICPC国际大学生程序设计竞赛 | C9: 二类
A10: 8 | B10: 中国大学生计算机设计大赛 | C10: 二类
A11: 9 | B11: 中国高校计算机大赛-①大数据挑战赛、②团体程序设计天梯赛、③移动应用创新赛、④网络技术挑战赛、⑤人工智能创意赛 | C11: 二类
A12: 10 | B12: 蓝桥杯全国大学生软件和信息技术大赛 | C12: 二类
A13: 11 | B13: 全国大学生地质技能竞赛 | C13: 二类
A14: 12 | B14: 睿抗机器人开发者大赛(RAICOM) | C14: 二类
A15: 13 | B15: 华为ICT大赛 | C15: 二类
A16: 14 | B16: 中国机器人及人工智能大赛 | C16: 二类
A17: 15 | B17: iCAN大学生创新创业大赛 | C17: 二类
A18: 16 | B18: 百度之星·程序设计大赛 | C18: 二类
A19: 17 | B19: 全国大学生计算机系统能力大赛 | C19: 二类
... A26: 24 | B26: 全国大学生化工设计竞赛 | C26: 二类
A27: 25 | B27: 全国大学生机器人大赛（CURC） | C27: 二类 | D27: 原全国大学生机器人大赛-①RoboMaster、②RoboCon
A28: 26 | B28: 全国大学生先进成图技术与产品信息建模创新大赛 | C28: 二类
A29: 27 | B29: 全国三维数字化创新设计大赛 | C29: 二类
A30: 28 | B30: “西门子杯”中国智能制造挑战赛 | C30: 二类
A31: 29 | B31: 全国大学生金相技能大赛 | C31: 二类
A32: 30 | B32: 全国周培源大学生力学竞赛 | C32: 二类
A33: 31 | B33: 中国大学生机械工程创新创意大赛 | C33: 二类
A34: 32 | B34: 中美青年创客大赛 | C34: 二类
A35: 33 | B35: 大学生新一代信息通信科技大赛 | C35: 二类 | D35: 原“大唐杯”全国大学生新一代信息通信技术大赛
A36: 34 | B36: 全国大学生嵌入式芯片与系统设计竞赛 | C36: 二类
A37: 35 | B37: 全国大学生生命科学竞赛（CULSC） | C37: 二类
A38: 36 | B38: 中国高校智能机器人创意大赛 | C38: 二类
A39: 37 | B39: 全国大学生节能减排社会实践与科技竞赛 | C39: 二类
A40: 38 | B40: 全国大学生化工实验大赛 | C40: 二类
A41: 39 | B41: 全国大学生物联网设计竞赛 | C41: 二类
A42: 40 | B42: 高教社杯全国大学生数学建模竞赛 | C42: 二类
A43: 41 | B43: “外研社·国才杯”理解当代中国全国大学生外语能力大赛 | C43: 二类 | D43: 原外研社全国大学生英语系列赛-①英语演讲、②英语辩论、③英语写作、④英语阅读
A44: 42 | B44: 全国大学生光电设计竞赛 | C44: 二类
A45: 43 | B45: 全国大学生物理实验竞赛 | C45: 二类
A46: 44 | B46: 中国日报社“21世纪杯”全国英语演讲比赛 | C46: 二类 | D46: 原“21世纪杯”全国英语演讲比赛
...

Sheet 表2.获奖金额及对应奖项
A1: 设置特等奖 | B1: 未设置特等奖 | C1: 获奖档次 | D1: 该奖项奖金
A2: 一类国家级特等奖（含特） | B2: 一类国家级一等奖（不含特） | C2: 1 | D2: 10000
A3: 一类国家级一等奖（含特） | B3: 一类国家级二等奖（不含特） | C3: 2 | D3: 5000
A4: 一类国家级二等奖（含特） | B4: 一类国家级三等奖（不含特） | C4: 3 | D4: 2000
A5: 一类国家级三等奖（含特） | C5: 4 | D5: 1000
A6: 一类省部级特等奖（含特） | B6: 一类省部级一等奖（不含特） | C6: 5 | D6: 1000
A7: 一类省部级一等奖（含特） | B7: 一类省部级二等奖（不含特） | C7: 6 | D7: 800
A9: 二类国家级特等奖（含特） | B9: 二类国家级一等奖（不含特） | C9: 7 | D9: 3000
A10: 二类国家级一等奖（含特） | B10: 二类国家级二等奖（不含特） | C10: 8 | D10: 2000
A11: 二类国家级二等奖（含特） | B11: 二类国家级三等奖（不含特） | C11: 9 | D11: 1500
A12: 二类国家级三等奖（含特） | C12: 10 | D12: 1000
A13: 二类省部级特等奖（含特） | B13: 二类省部级一等奖（不含特） | C13: 11 | D13: 1000
A14: 二类省部级一等奖（含特） | B14: 二类省部级二等奖（不含特） | C14: 12 | D14: 800
A15: 其他竞赛奖项 | B15: 其他竞赛奖项 | C15: 13 | D15: 仅证书
A16: 一类国家级一等奖（不含特） | C16: 1 | D16: 10000
A17: 一类国家级二等奖（不含特） | C17: 2 | D17: 5000
A18: 一类国家级三等奖（不含特） | C18: 3 | D18: 2000
C19: 4 | D19: 1000
A20: 一类省部级一等奖（不含特） | C20: 5 | D20: 1000
A21: 一类省部级二等奖（不含特） | C21: 6 | D21: 800
A22: 二类国家级一等奖（不含特） | C22: 7 | D22: 3000
A23: 二类国家级二等奖（不含特） | C23: 8 | D23: 2000
A24: 二类国家级三等奖（不含特） | C24: 9 | D24: 1500
C25: 10 | D25: 1000
A26: 二类省部级一等奖（不含特） | C26: 11 | D26: 1000
A27: 二类省部级二等奖（不含特） | C27: 12 | D27: 800
