Workbook

Sheet 附件4 科技创新奖学金汇总表（学生）
A1: 校区2025-2026学年科技创新奖学金申报信息汇总表（学生填）
A2: 序号 | B2: 姓名 | C2: 学号 | D2: 部门/学院 | E2: 成果类别 | F2: 竞赛名称 (请按照表1填写） | G2: 获奖时间 | H2: 竞赛类别 （一类/二类/其他） | I2: 获奖级别 | J2: 获奖等级 | K2: 该级别奖项是否设置特等奖 | L2: 特等标签 | N2: 获奖总额（元） | O2: 参赛形式 | P2: 奖金分配比例 （填xx%，如20%） | Q2: 个人奖金金额（元） | R2: 是否仅证书
A3: 1 | B3: 赵晋哲 | C3: 2023015761 | D3: 化工与环境学院 | E3: 竞赛获奖 | F3: 高教社杯全国大学生数学建模竞赛 | G3: 45981 | H3: =VLOOKUP(F3,'表1.校区竞赛认定目录（2026年）'!B:C,2,0) -> 二类 | I3: 省部级 | J3: 一等奖 | K3: 否 | L3: =_xlfn.IFS(K3="是","（含特）",K3="否","（不含特）") -> （不含特） | M3: =H3&I3&J3&L3 -> 二类省部级一等奖（不含特） | N3: =VLOOKUP(M3,表2.获奖金额及对应奖项!A:D,4,0) -> 1000 | O3: 团队 | P3: 1 | Q3: =N3*P3 -> 1000
A4: 2 | B4: 赵康宇 | C4: 2023015762 | D4: 化工与环境学院 | E4: 学术论文 | F4: 砂粒对甲烷水合物生成动力学的影响规律 | G4: 46091 | H4: 其他 | L4: =_xlfn.IFS(K4="是","（含特）",K4="否","（不含特）") -> #N/A | O4: 个人 | P4: 1 | Q4: 100
A5: 3 | B5: 刘雅昕 | C5: 2023016363 | D5: 化工与环境学院 | E5: 学术论文 | F5: Fabrication and application of superhydrophilic surface materials | G5: 46155 | H5: 其他 | L5: =_xlfn.IFS(K5="是","（含特）",K5="否","（不含特）") -> #N/A | O5: 个人 | P5: 1 | Q5: 100
A6: 4 | B6: 张誉曦 | C6: 2024016356 | D6: 化工与环境学院 | E6: 竞赛获奖 | F6: 全国大学生节能减排社会实践与科技竞赛 | G6: 46245 | H6: =VLOOKUP(F6,'表1.校区竞赛认定目录（2026年）'!B:C,2,0) -> 二类 | I6: 国家级 | J6: 三等奖 | K6: 否 | L6: =_xlfn.IFS(K6="是","（含特）",K6="否","（不含特）") -> （不含特） | M6: =H6&I6&J6&L6 -> 二类国家级三等奖（不含特） | N6: =VLOOKUP(M6,表2.获奖金额及对应奖项!A:D,4,0) -> 1500 | O6: 团队 | P6: 0.86 | Q6: =N6*P6 -> 1290
A7: 5 | B7: 刘冉 | C7: 200406177327 | D7: 化工与环境学院 | E7: 竞赛获奖 | F7: “求是杯”国际诗歌创作与翻译大赛 | G7: 46120 | H7: =VLOOKUP(F7,'表1.校区竞赛认定目录（2026年）'!B:C,2,0) -> 二类 | I7: 国家级 | J7: 二等奖 | K7: 否 | L7: =_xlfn.IFS(K7="是","（含特）",K7="否","（不含特）") -> （不含特） | M7: =H7&I7&J7&L7 -> 二类国家级二等奖（不含特） | N7: =VLOOKUP(M7,表2.获奖金额及对应奖项!A:D,4,0) -> 2000 | O7: 个人 | P7: 1 | Q7: =N7*P7 -> 2000
A8: 6 | B8: 张家豪 | C8: 2023016358 | D8: 化工与环境学院 | E8: 学术论文 | F8: Application of biochar-based materials as adsorbents for aquatic environment remediation: Preparation, mechanisms, and performance evaluation | G8: 46192 | H8: 其他 | I8: 省部级 | L8: =_xlfn.IFS(K8="是","（含特）",K8="否","（不含特）") -> #N/A | O8: 个人 | P8: 1 | Q8: 100
A9: 7 | B9: 廖钰欣 | C9: 2024017453 | D9: 化工与环境学院 | E9: 竞赛获奖 | F9: 全国大学生能源经济学术创意大赛 | G9: 46143 | H9: =VLOOKUP(F9,'表1.校区竞赛认定目录（2026年）'!B:C,2,0) -> 二类 | I9: 省部级 | J9: 三等奖 | K9: 否 | L9: =_xlfn.IFS(K9="是","（含特）",K9="否","（不含特）") -> （不含特） | M9: =H9&I9&J9&L9 -> 二类省部级三等奖（不含特） | O9: 团队 | P9: 1 | Q9: 0 | R9: 仅证书
A10: 8 | B10: 高睿博 | C10: 2023016342 | D10: 化工与环境学院 | E10: 竞赛获奖 | F10: 全国大学生能源经济学术创意大赛 | G10: 46143 | H10: =VLOOKUP(F10,'表1.校区竞赛认定目录（2026年）'!B:C,2,0) -> 二类 | I10: 省部级 | J10: 三等奖 | K10: 否 | L10: =_xlfn.IFS(K10="是","（含特）",K10="否","（不含特）") -> （不含特） | M10: =H10&I10&J10&L10 -> 二类省部级三等奖（不含特） | O10: 团队 | P10: 0.3 | Q10: 0 | R10: 仅证书
A11: 9 | B11: 赖毓鸿 | C11: 2024016193 | D11: 化工与环境学院 | E11: 竞赛获奖 | F11: 全国大学生数学竞赛 | G11: 45992 | H11: 二类 | I11: 省部级 | J11: 一等奖 | K11: 否 | L11: =_xlfn.IFS(K11="是","（含特）",K11="否","（不含特）") -> （不含特） | M11: =H11&I11&J11&L11 -> 二类省部级一等奖（不含特） | N11: =VLOOKUP(M11,表2.获奖金额及对应奖项!A:D,4,0) -> 1000 | O11: 个人 | P11: 1 | Q11: =N11*P11 -> 1000
A12: 10 | B12: 刘林林 | C12: 2024016847 | D12: 化工与环境学院 | E12: 竞赛获奖 | F12: 全国大学生光电设计竞赛 | G12: 46174 | H12: =VLOOKUP(F12,'表1.校区竞赛认定目录（2026年）'!B:C,2,0) -> 二类 | I12: 国家级 | J12: 二等奖 | K12: 否 | L12: =_xlfn.IFS(K12="是","（含特）",K12="否","（不含特）") -> （不含特） | M12: =H12&I12&J12&L12 -> 二类国家级二等奖（不含特） | N12: =VLOOKUP(M12,表2.获奖金额及对应奖项!A:D,4,0) -> 2000 | O12: 团队 | P12: 1 | Q12: =N12*P12 -> 2000
A13: 11 | B13: 郭瀚宇 | C13: 2023015774 | D13: 化工与环境学院 | E13: 竞赛获奖 | F13: 全国大学生语言文字能力大赛 | G13: 46174 | H13: =VLOOKUP(F13,'表1.校区竞赛认定目录（2026年）'!B:C,2,0) -> 二类 | I13: 省部级 | J13: 二等奖 | K13: 否 | L13: =_xlfn.IFS(K13="是","（含特）",K13="否","（不含特）") -> （不含特） | M13: =H13&I13&J13&L13 -> 二类省部级二等奖（不含特） | N13: =VLOOKUP(M13,表2.获奖金额及对应奖项!A:D,4,0) -> 800 | O13: 个人 | P13: 1 | Q13: =N13*P13 -> 800
A14: 12 | B14: 张旭东 | C14: 2024016390 | D14: 化工与环境学院 | E14: 竞赛获奖 | F14: 全国大学生能源经济学术创意大赛 | G14: 46173 | H14: 二类 | I14: 国家级 | J14: 二等奖 | K14: 是 | L14: （含特） | M14: 二类国家级二等奖（含特） | N14: =VLOOKUP(M14,表2.获奖金额及对应奖项!A:D,4,0) -> 1500 | O14: 团队 | P14: 1 | Q14: 1500
A15: 13 | B15: 苏忠芮 | C15: 2024016833 | D15: 化工与环境学院 | E15: 竞赛获奖 | F15: 全国大学生节能减排社会实践与科技竞赛 | G15: 46235 | H15: =VLOOKUP(F15,'表1.校区竞赛认定目录（2026年）'!B:C,2,0) -> 二类 | I15: 国家级 | J15: 三等奖 | K15: 是 | L15: =_xlfn.IFS(K15="是","（含特）",K15="否","（不含特）") -> （含特） | M15: =H15&I15&J15&L15 -> 二类国家级三等奖（含特） | N15: =VLOOKUP(M15,表2.获奖金额及对应奖项!A:D,4,0) -> 1000 | O15: 团队 | P15: 1 | Q15: =N15*P15 -> 1000
A16: 14 | B16: 郑黄江 | C16: 2024216964 | D16: 化工与环境学院 | E16: 发明专利 | F16: 发明专利：基于多反应条件输入的聚乙烯产物性能预测方法、装置及存储介质 | G16: 46206 | H16: 其他 | L16: =_xlfn.IFS(K16="是","（含特）",K16="否","（不含特）") -> #N/A | O16: 个人 | P16: 1 | Q16: 0 | R16: 仅证书
A17: 15 | B17: 卢玉博 | C17: 2024016314 | D17: 化工与环境学院 | E17: 竞赛获奖 | F17: 全国大学生语言文字能力大赛 | G17: 46011 | H17: =VLOOKUP(F17,'表1.校区竞赛认定目录（2026年）'!B:C,2,0) -> 二类 | I17: 国家级 | J17: 二等奖 | K17: 否 | L17: =_xlfn.IFS(K17="是","（含特）",K17="否","（不含特）") -> （不含特） | M17: =H17&I17&J17&L17 -> 二类国家级二等奖（不含特） | N17: =VLOOKUP(M17,表2.获奖金额及对应奖项!A:D,4,0) -> 2000 | O17: 个人 | P17: 1 | Q17: =N17*P17 -> 2000
A18: 16 | B18: 韩宇欣 | C18: 2023015730 | D18: 化工与环境学院 | E18: 竞赛获奖 | F18: 全国大学生化工实验大赛 | G18: 46252 | H18: =VLOOKUP(F18,'表1.校区竞赛认定目录（2026年）'!B:C,2,0) -> 二类 | I18: 国家级 | J18: 二等奖 | K18: 是 | L18: =_xlfn.IFS(K18="是","（含特）",K18="否","（不含特）") -> （含特） | M18: =H18&I18&J18&L18 -> 二类国家级二等奖（含特） | N18: =VLOOKUP(M18,表2.获奖金额及对应奖项!A:D,4,0) -> 1500 | O18: 团队 | P18: 0.3333 | Q18: =N18*P18 -> 499.95
A19: 17 | B19: 邱浚峸 | C19: 2023015821 | D19: 化工与环境学院 | E19: 竞赛获奖 | F19: 全国大学生化工实验大赛 | G19: 46252 | H19: =VLOOKUP(F19,'表1.校区竞赛认定目录（2026年）'!B:C,2,0) -> 二类 | I19: 国家级 | J19: 二等奖 | K19: 是 | L19: =_xlfn.IFS(K19="是","（含特）",K19="否","（不含特）") -> （含特） | M19: =H19&I19&J19&L19 -> 二类国家级二等奖（含特） | N19: =VLOOKUP(M19,表2.获奖金额及对应奖项!A:D,4,0) -> 1500 | O19: 团队 | P19: 0.3333 | Q19: =N19*P19 -> 499.95
A20: 18 | B20: 彭晗 | C20: 2024016851 | D20: 化工与环境学院 | E20: 竞赛获奖 | F20: 全国大学生生命科学竞赛（CULSC） | G20: 46235 | H20: =VLOOKUP(F20,'表1.校区竞赛认定目录（2026年）'!B:C,2,0) -> 二类 | I20: 国家级 | J20: 三等奖 | K20: 否 | L20: =_xlfn.IFS(K20="是","（含特）",K20="否","（不含特）") -> （不含特） | M20: =H20&I20&J20&L20 -> 二类国家级三等奖（不含特） | N20: =VLOOKUP(M20,表2.获奖金额及对应奖项!A:D,4,0) -> 1500 | O20: 团队 | P20: 1 | Q20: =N20*P20 -> 1500
A21: 19 | B21: 石语 | C21: 2024016145 | D21: 化工与环境学院 | E21: 竞赛获奖 | F21: 全国大学生数学竞赛 | G21: 45992 | H21: =VLOOKUP(F21,'表1.校区竞赛认定目录（2026年）'!B:C,2,0) -> 二类 | I21: 省部级 | J21: 一等奖 | K21: 否 | L21: =_xlfn.IFS(K21="是","（含特）",K21="否","（不含特）") -> （不含特） | M21: =H21&I21&J21&L21 -> 二类省部级一等奖（不含特） | N21: =VLOOKUP(M21,表2.获奖金额及对应奖项!A:D,4,0) -> 1000 | O21: 个人 | P21: 1 | Q21: =N21*P21 -> 1000
A22: 20 | B22: 林倩冰 | C22: 2023015798 | D22: 化工与环境学院 | E22: 竞赛获奖 | F22: 全国大学生化工实验大赛 | G22: 2026年8月18 | H22: =VLOOKUP(F22,'表1.校区竞赛认定目录（2026年）'!B:C,2,0) -> 二类 | I22: 国家级 | J22: 二等奖 | K22: 是 | L22: =_xlfn.IFS(K22="是","（含特）",K22="否","（不含特）") -> （含特） | M22: =H22&I22&J22&L22 -> 二类国家级二等奖（含特） | N22: =VLOOKUP(M22,表2.获奖金额及对应奖项!A:D,4,0) -> 1500 | O22: 团队 | P22: 0.3333 | Q22: =N22*P22 -> 499.95
A23: 21 | B23: 王彤彤 | C23: 2023015734 | D23: 化工与环境学院 | E23: 竞赛获奖 | F23: 其他比赛未在排行榜中 | G23: 46235 | H23: =VLOOKUP(F23,'表1.校区竞赛认定目录（2026年）'!B:C,2,0) -> 其他 | I23: 国家级 | J23: 二等奖 | K23: 否 | L23: =_xlfn.IFS(K23="是","（含特）",K23="否","（不含特）") -> （不含特） | M23: =H23&I23&J23&L23 -> 其他国家级二等奖（不含特） | O23: 团队 | P23: 0.25 | Q23: 0
A24: 22 | B24: 梅月莹 | C24: 2024016296 | D24: 化工与环境学院 | E24: 竞赛获奖 | F24: 全国大学生语言文字能力大赛 | G24: 45992 | H24: =VLOOKUP(F24,'表1.校区竞赛认定目录（2026年）'!B:C,2,0) -> 二类 | I24: 国家级 | J24: 二等奖 | K24: 否 | L24: =_xlfn.IFS(K24="是","（含特）",K24="否","（不含特）") -> （不含特） | M24: =H24&I24&J24&L24 -> 二类国家级二等奖（不含特） | N24: =VLOOKUP(M24,表2.获奖金额及对应奖项!A:D,4,0) -> 2000 | O24: 个人 | P24: 1 | Q24: =N24*P24 -> 2000
A25: 23 | B25: 丁林杰 | C25: 2025216993 | D25: 化工与环境学院 | E25: 学术论文 | F25: Effects of water-soluble amino acid promoters on the formation kinetics of liquid CO2 hydrate in sand-containing systems | G25: 46235 | H25: 其他 | L25: =_xlfn.IFS(K25="是","（含特）",K25="否","（不含特）") -> #N/A | O25: 个人 | P25: 1 | Q25: 100
A26: 24 | B26: 申盛源 | C26: 2024016917 | D26: 化工与环境学院 | E26: 竞赛获奖 | F26: 全国大学生数学竞赛 | G26: 45992 | H26: 二类 | I26: 省部级 | J26: 三等奖 | K26: 否 | L26: （不含特） | M26: 二类省部级三等奖（不含特） | O26: 个人 | P26: 1 | Q26: 0 | R26: 仅证书
A27: 25 | B27: 张苑熙 | C27: 2023015735 | D27: 化工与环境学院 | E27: 竞赛获奖 | F27: 全国大学生计算机应用能力与数字素养大赛 | G27: 46178 | H27: =VLOOKUP(F27,'表1.校区竞赛认定目录（2026年）'!B:C,2,0) -> 二类 | I27: 国家级 | J27: 三等奖 | K27: 否 | L27: =_xlfn.IFS(K27="是","（含特）",K27="否","（不含特）") -> （不含特） | M27: =H27&I27&J27&L27 -> 二类国家级三等奖（不含特） | N27: =VLOOKUP(M27,表2.获奖金额及对应奖项!A:D,4,0) -> 1500 | O27: 个人 | P27: 1 | Q27: =N27*P27 -> 1500
A28: 26 | B28: 杨金语 | C28: 2025016900 | D28: 化工与环境学院 | E28: 竞赛获奖 | F28: 蓝桥杯全国大学生软件和信息技术大赛 | G28: 46150 | H28: =VLOOKUP(F28,'表1.校区竞赛认定目录（2026年）'!B:C,2,0) -> 二类 | I28: 省部级 | J28: 三等奖 | K28: 否 | L28: =_xlfn.IFS(K28="是","（含特）",K28="否","（不含特）") -> （不含特） | M28: =H28&I28&J28&L28 -> 二类省部级三等奖（不含特） | O28: 个人 | P28: 1 | Q28: 0 | R28: 仅证书
A29: 27 | B29: 乔帅博 | C29: 2025017687 | D29: 化工与环境学院 | E29: 竞赛获奖 | F29: 全国大学生语言文字能力大赛 | G29: 46174 | H29: =VLOOKUP(F29,'表1.校区竞赛认定目录（2026年）'!B:C,2,0) -> 二类 | I29: 省部级 | J29: 一等奖 | K29: 否 | L29: =_xlfn.IFS(K29="是","（含特）",K29="否","（不含特）") -> （不含特） | M29: =H29&I29&J29&L29 -> 二类省部级一等奖（不含特） | N29: =VLOOKUP(M29,表2.获奖金额及对应奖项!A:D,4,0) -> 1000 | O29: 个人 | P29: 1 | Q29: =N29*P29 -> 1000
A30: 28 | B30: 崔浩然 | C30: 2024016302 | D30: 化工与环境学院 | E30: 竞赛获奖 | F30: 高教社杯全国大学生数学建模竞赛 | G30: 45962 | H30: =VLOOKUP(F30,'表1.校区竞赛认定目录（2026年）'!B:C,2,0) -> 二类 | I30: 国家级 | J30: 二等奖 | K30: 否 | L30: =_xlfn.IFS(K30="是","（含特）",K30="否","（不含特）") -> （不含特） | M30: =H30&I30&J30&L30 -> 二类国家级二等奖（不含特） | N30: =VLOOKUP(M30,表2.获奖金额及对应奖项!A:D,4,0) -> 2000 | O30: 团队 | P30: 0.9 | Q30: =N30*P30 -> 1800
A31: 29 | B31: 刘荟芬 | C31: 2024016765 | D31: 化工与环境学院 | E31: 竞赛获奖 | F31: 全国大学生化工设计竞赛 | G31: 46235 | H31: =VLOOKUP(F31,'表1.校区竞赛认定目录（2026年）'!B:C,2,0) -> 二类 | I31: 国家级 | J31: 三等奖 | K31: 是 | L31: =_xlfn.IFS(K31="是","（含特）",K31="否","（不含特）") -> （含特） | M31: =H31&I31&J31&L31 -> 二类国家级三等奖（含特） | N31: =VLOOKUP(M31,表2.获奖金额及对应奖项!A:D,4,0) -> 1000 | O31: 团队 | P31: 0.6 | Q31: =N31*P31 -> 600
A32: 30 | B32: 闵佳悦 | C32: 2023015964 | D32: 化工与环境学院 | E32: 竞赛获奖 | F32: 全国大学生节能减排社会实践与科技竞赛 | G32: 46261 | H32: 二类 | I32: 国家级 | J32: 三等奖 | K32: 是 | L32: （含特） | M32: 二类国家级三等奖（含特） | N32: =VLOOKUP(M32,表2.获奖金额及对应奖项!A:D,4,0) -> 1000 | O32: 团队 | P32: 1 | Q32: 1000
A33: 31 | B33: 简清如 | C33: 2024016262 | D33: 化工与环境学院 | E33: 竞赛获奖 | F33: 全国大学生能源经济学术创意大赛 | G33: 46124 | H33: 二类 | I33: 省部级 | J33: 二等奖 | K33: 否 | L33: 不含特 | M33: 二类省部级二等奖（不含特） | N33: =VLOOKUP(M33,表2.获奖金额及对应奖项!A:D,4,0) -> 800 | O33: 团队 | P33: 1 | Q33: 800
A34: 32 | B34: 王菁茂 | C34: 2023015787 | D34: 化工与环境学院 | E34: 竞赛获奖 | F34: “求是杯”国际诗歌创作与翻译大赛 | G34: 46120 | H34: 二类 | I34: 国家级 | J34: 三等奖 | K34: 否 | L34: =_xlfn.IFS(K34="是","（含特）",K34="否","（不含特）") -> （不含特） | M34: =H34&I34&J34&L34 -> 二类国家级三等奖（不含特） | N34: =VLOOKUP(M34,表2.获奖金额及对应奖项!A:D,4,0) -> 1500 | O34: 个人 | P34: 1 | Q34: =N34*P34 -> 1500
A35: 33 | B35: 卞晓彤 | C35: 2024017608 | D35: 化工与环境学院 | E35: 竞赛获奖 | F35: 全国大学生化工设计竞赛 | G35: 46235 | H35: 二类 | I35: 国家级 | J35: 三等奖 | K35: 是 | L35: （含特） | M35: 二类国家级三等奖（含特） | N35: =VLOOKUP(M35,表2.获奖金额及对应奖项!A:D,4,0) -> 1000 | O35: 团队 | P35: 0.2 | Q35: 200
A36: 34 | B36: 张锦平 | C36: 2024016354 | D36: 化工与环境学院 | E36: 竞赛获奖 | F36: 全国大学生数学竞赛 | G36: 45992 | H36: 二类 | I36: 省部级 | J36: 一等奖 | K36: 否 | L36: (不含特) | M36: 二类省部级一等奖(不含特) | N36: 1000 | O36: 个人 | P36: 1 | Q36: 1000
A37: 35 | B37: 李家辉 | C37: 2024016140 | D37: 化工与环境学院 | E37: 竞赛获奖 | F37: 全国大学生化工设计大赛 | G37: 46262 | H37: 二类 | I37: 国家级 | J37: 二等奖 | K37: 是 | L37: 含特 | M37: =H37&I37&J37&L37 -> 二类国家级二等奖含特 | N37: 1500 | O37: 团队 | P37: 0.2 | Q37: 300
A38: 36 | B38: 陈宇轩 | C38: 2024016135 | D38: 化工与环境学院 | E38: 竞赛获奖 | F38: 全国大学生化工设计大赛 | G38: 46262 | H38: 二类 | I38: 国家级 | J38: 二等奖 | K38: 是 | L38: 含特 | M38: =H38&I38&J38&L38 -> 二类国家级二等奖含特 | N38: 1500 | O38: 团队 | P38: 0.2 | Q38: 300
A39: 37 | B39: 宋贺 | C39: 2023015950 | D39: 化工与环境学院 | E39: 竞赛获奖 | F39: 全国大学生化工设计大赛 | G39: 46262 | H39: 二类 | I39: 国家级 | J39: 二等奖 | K39: 是 | L39: 含特 | M39: =H39&I39&J39&L39 -> 二类国家级二等奖含特 | N39: 1500 | O39: 团队 | P39: 0.2 | Q39: 300
A40: 38 | B40: 刘乔雨 | C40: 2024016194 | D40: 化工与环境学院 | E40: 竞赛获奖 | F40: 全国大学生数学竞赛 | G40: 45992 | H40: =VLOOKUP(F40,'表1.校区竞赛认定目录（2026年）'!B:C,2,0) -> 二类 | I40: 省部级 | J40: 一等奖 | K40: 否 | L40: =_xlfn.IFS(K40="是","（含特）",K40="否","（不含特）") -> （不含特） | M40: =H40&I40&J40&L40 -> 二类省部级一等奖（不含特） | N40: =VLOOKUP(M40,表2.获奖金额及对应奖项!A:D,4,0) -> 1000 | O40: 个人 | P40: 1 | Q40: =N40*P40 -> 1000
A41: 39 | B41: 陈义豪 | C41: 2025017078 | D41: 化工与环境学院 | E41: 竞赛获奖 | F41: 全国大学生语言文字能力大赛 | G41: 46247 | H41: 二类 | I41: 国家级 | J41: 二等奖 | K41: 否 | L41: （不含特） | M41: 二类国家级二等奖（不含特） | N41: =VLOOKUP(M41,表2.获奖金额及对应奖项!A:D,4,0) -> 2000 | O41: 个人 | P41: 1 | Q41: =N41*P41 -> 2000
A42: 40 | B42: 张佳璇 | C42: 2024016131 | D42: 化工与环境学院 | E42: 竞赛获奖 | F42: 全国大学生语言文字能力大赛 | G42: 2025年12日 | H42: 二类 | I42: 国家级 | J42: 二等奖 | K42: 否 | L42: （不含特） | M42: 二类国家级二等奖（不含特） | N42: =VLOOKUP(M42,表2.获奖金额及对应奖项!A:D,4,0) -> 2000 | O42: 个人 | P42: 1 | Q42: =N42*P42 -> 2000
A43: 41 | B43: 孙馨 | C43: 2024216996 | D43: 化工与环境学院 | E43: 学术论文 | F43: Performance and mechanism of phytic acid-doped porous carbon sphere | G43: 46023 | H43: 其他 | N43: 100 | O43: 个人 | P43: 1 | Q43: 100
A44: 42 | B44: 赵志昊 | C44: 2024016186 | D44: 化工与环境学院 | E44: 竞赛获奖 | F44: 全国大学生语言文字能力大赛 | G44: 45992 | H44: 二类 | I44: 国家级 | J44: 二等奖 | K44: 否 | L44: 不含特 | M44: 二类国家级二等奖（不含特） | N44: =VLOOKUP(M44,表2.获奖金额及对应奖项!A:D,4,0) -> 2000 | O44: 个人 | P44: 1 | Q44: 2000
A45: 43 | B45: 付均豪 | C45: 2024016138 | D45: 化工与环境学院 | E45: 竞赛获奖 | F45: “挑战杯”中国大学生创业计划大赛主体赛 | G45: 46189 | H45: 一类 | I45: 省部级 | J45: 特等奖 | K45: 是 | L45: 含特 | M45: 一类省部级特等奖（含特） | N45: =VLOOKUP(M45,表2.获奖金额及对应奖项!A:D,4,0) -> 1000 | O45: 团队 | P45: 0.667 | Q45: 667
A46: 44 | B46: 郭锦鹏 | C46: 2024016139 | D46: 化工与环境学院 | E46: 竞赛获奖 | F46: 全国大学生语言文字能力大赛规范字专项赛 | G46: 45992 | H46: 二类 | I46: 国家级 | J46: 三等奖 | K46: 否 | L46: 不含特 | M46: 二类国家级三等奖（不含特） | N46: =VLOOKUP(M46,表2.获奖金额及对应奖项!A:D,4,0) -> 1500 | O46: 个人 | P46: 1 | Q46: 1500
A47: 45 | B47: 张淇 | C47: 2024016152 | D47: 化工与环境学院 | E47: 竞赛获奖 | F47: 全国大学生语言文字能力大赛 | G47: 45998 | H47: 二类 | I47: 国家级 | J47: 三等奖 | K47: 否 | L47: （不含特） | M47: 二类国家级三等奖（不含特） | N47: =VLOOKUP(M47,表2.获奖金额及对应奖项!A:D,4,0) -> 1500 | O47: 个人 | P47: 1 | Q47: 1500
A48: 46 | B48: 冯家欣 | C48: 2024016293 | D48: 化工与环境学院 | E48: 竞赛获奖 | F48: 全国大学生语言文字能力大赛 | G48: 45992 | H48: 二类 | I48: 国家级 | J48: 二等奖 | K48: 否 | L48: （不含特） | M48: =H48&I48&J48&L48 -> 二类国家级二等奖（不含特） | N48: =VLOOKUP(M48,表2.获奖金额及对应奖项!A:D,4,0) -> 2000 | O48: 个人 | P48: 1 | Q48: =N48*P48 -> 2000
A49: 47 | B49: 杨心媛 | C49: 2023015801 | D49: 化工与环境学院 | E49: 竞赛获奖 | F49: 全国大学生节能减排社会实践与科技竞赛 | G49: 46254 | H49: 二类 | I49: 国家级 | J49: 三等奖 | K49: 是 | L49: （含特） | M49: 二类国家级三等奖（含特） | N49: =VLOOKUP(M49,表2.获奖金额及对应奖项!A:D,4,0) -> 1000 | O49: 团体 | P49: 0.14 | Q49: 140
A50: 48 | B50: 向冰 | C50: 2024016148 | D50: 化工与环境学院 | E50: 竞赛获奖 | F50: 全国大学生语言文字能力大赛 | G50: 45992 | H50: 二类 | I50: 国家级 | J50: 三等奖 | K50: 否 | M50: 二类国家级三等奖（不含特） | N50: =VLOOKUP(M50,表2.获奖金额及对应奖项!A:D,4,0) -> 1500 | O50: 个人 | P50: 1 | Q50: =N50*P50 -> 1500
A51: 49 | B51: 吴志烨 | C51: 2024016160 | D51: 化工与环境学院 | E51: 竞赛获奖 | F51: 全国大学生化工设计竞赛 | G51: 46235 | H51: 二类 | I51: 国家级 | J51: 三等奖 | K51: 是 | L51: (含特) | M51: 二类国家级三等奖（含特） | N51: =VLOOKUP(M51,表2.获奖金额及对应奖项!A:D,4,0) -> 1000 | O51: 团队 | P51: 0.2 | Q51: =N51*P51 -> 200
A52: 50 | B52: 徐乐 | C52: 2023015789 | D52: 化工与环境学院 | E52: 竞赛获奖 | F52: 全国大学生数学竞赛 | G52: 45992 | H52: 二类 | I52: 省部级 | J52: 一等奖 | K52: 否 | L52: （不含特） | M52: 二类省部级一等奖（不含特） | N52: =VLOOKUP(M52,表2.获奖金额及对应奖项!A:D,4,0) -> 1000 | O52: 个人 | P52: 1 | Q52: =N52*P52 -> 1000
A53: 51 | B53: 王梦梦 | C53: 2023015800 | D53: 化工与环境学院 | E53: 竞赛获奖 | F53: 全国大学生化工设计大赛 | G53: 46235 | H53: 二类 | I53: 国家级 | J53: 三等 | K53: 是 | L53: 含特 | M53: 二类国家级三等奖（含特） | N53: =VLOOKUP(M53,表2.获奖金额及对应奖项!A:D,4,0) -> 1000 | O53: 团队 | P53: 1 | Q53: =N53*P53 -> 1000
A54: 52 | B54: 谷艳华 | C54: 2024016121 | D54: 化工与环境学院 | E54: 竞赛获奖 | F54: 全国大学生化工设计大赛 | G54: 2026年8月22 | H54: 二类 | I54: 国家级 | J54: 三等奖 | K54: 是 | L54: 含特 | M54: 二类国家级三等奖（含特） | N54: =VLOOKUP(M54,表2.获奖金额及对应奖项!A:D,4,0) -> 1000 | O54: 团队 | P54: 0 | Q54: =N54*P54 -> 0
A55: 53 | B55: 曾城 | C55: 2023016679 | D55: 化工与环境学院 | E55: 竞赛获奖 | F55: 全国大学生化工设计竞赛 | G55: 46262 | H55: 二类 | I55: 国家级 | J55: 三等奖 | K55: 是 | L55: （含特） | M55: 二类国家级三等奖（含特） | N55: =VLOOKUP(M55,表2.获奖金额及对应奖项!A:D,4,0) -> 1000 | O55: 团队 | P55: 1 | Q55: 1000
A56: 54 | B56: 郑雅文 | C56: 2024016838 | D56: 化工与环境学院 | E56: 竞赛获奖 | F56: 全国大学生语言文字能力大赛 | G56: 46260 | H56: 二类 | I56: 国家级 | J56: 二等奖 | K56: 否 | L56: （不含特） | M56: =H56&I56&J56&L56 -> 二类国家级二等奖（不含特） | N56: =VLOOKUP(M56,表2.获奖金额及对应奖项!A:D,4,0) -> 2000 | O56: 个人 | P56: 1 | Q56: 2000
A57: 55 | B57: 朱子丹 | C57: 2024216961 | D57: 化工与环境学院 | E57: 学术论文 | F57: 论文名称：Effect of corrosion inhibitor on corrosion behaviour of 15CrMo in NH4Cl solution by electrochemical method | G57: 46043 | H57: 其他 | N57: 100 | O57: 个人 | P57: 1 | Q57: 100
A58: 56 | B58: 张嘉睿 | C58: 2023015892 | D58: 化工与环境学院 | E58: 竞赛获奖 | F58: 全国大学生语言文字能力大赛 | G58: 45992 | H58: 二类 | I58: 国家级 | J58: 二等奖 | K58: 否 | L58: =_xlfn.IFS(K58="是","（含特）",K58="否","（不含特）") -> （不含特） | M58: =H58&I58&J58&L58 -> 二类国家级二等奖（不含特） | N58: =VLOOKUP(M58,表2.获奖金额及对应奖项!A:D,4,0) -> 2000 | O58: 个人 | P58: 1 | Q58: =N58*P58 -> 2000
A59: 57 | B59: 张涵玥 | C59: 2024016804 | D59: 化工与环境学院 | E59: 竞赛获奖 | F59: 全国大学生数学竞赛 | G59: 45992 | H59: 二类 | I59: 省部级 | J59: 一等奖 | K59: 否 | L59: 不含特 | M59: 二类省部级一等奖（不含特） | N59: =VLOOKUP(M59,表2.获奖金额及对应奖项!A:D,4,0) -> 1000 | O59: 个人 | P59: 1 | Q59: =N59*P59 -> 1000
A60: 58 | B60: 刘阳 | C60: 2024016881 | D60: 化工与环境学院 | E60: 竞赛获奖 | F60: 全国大学生语言文字能力大赛 | G60: 45992 | H60: 二类 | I60: 国家级 | J60: 二等奖 | K60: 否 | L60: （不含特） | M60: =H60&I60&J60&L60 -> 二类国家级二等奖（不含特） | N60: =VLOOKUP(M60,表2.获奖金额及对应奖项!A:D,4,0) -> 2000 | O60: 个人 | P60: 100％ | Q60: =N60*P60 -> 2000
A61: 59 | B61: 王文超 | C61: 2024016217 | D61: 化工与环境学院 | E61: 竞赛获奖 | F61: “挑战杯”中国大学生创业计划大赛主体赛 | G61: 46174 | H61: =VLOOKUP(F61,'表1.校区竞赛认定目录（2026年）'!B:C,2,0) -> 一类 | I61: 省部级 | J61: 一等奖 | K61: 是 | L61: （含特） | M61: 一类省部级一等奖（含特） | N61: =VLOOKUP(M61,表2.获奖金额及对应奖项!A:D,4,0) -> 800 | O61: 团体赛 | P61: 1 | Q61: =N61*P61 -> 800
A62: 60 | B62: 万家航 | C62: 2024017503 | D62: 化工与环境学院 | E62: 竞赛获奖 | F62: 全国大学生数学竞赛 | G62: 45992 | H62: =VLOOKUP(F62,'表1.校区竞赛认定目录（2026年）'!B:C,2,0) -> 二类 | I62: 省部级 | J62: 一等奖 | K62: 否 | L62: （不含特） | M62: 二类省部级一等奖（不含特） | N62: =VLOOKUP(M62,表2.获奖金额及对应奖项!A:D,4,0) -> 1000 | O62: 个人 | P62: 1 | Q62: =N62*P62 -> 1000
A63: 61 | B63: 齐政 | C63: 2023015917 | D63: 化工与环境学院 | E63: 竞赛获奖 | F63: 大学生语言文字能力大赛 | G63: 45992 | H63: 二类 | I63: 国家级 | J63: 一等奖 | K63: 否 | L63: 不含特 | M63: =H63&I63&J63&L63 -> 二类国家级一等奖不含特 | N63: 3000 | O63: 个人 | P63: 1 | Q63: 3000
A64: 62 | B64: 任梦杉 | C64: 2024017455 | D64: 化工与环境学院 | E64: 竞赛获奖 | F64: 全国大学生能源经济学术创意大赛 | G64: 46143 | H64: 二类 | I64: 省部级 | J64: 三等奖 | K64: 否 | M64: 其他竞赛奖项 | O64: 团队赛 | P64: 0.25 | Q64: 0 | R64: 仅证书
A65: 63 | B65: 刘子萌 | C65: 2024216988 | D65: 化工与环境学院 | E65: 学术论文 | F65: 学术论文：Lithium-ion sieve adsorbents for brine-based lithium extraction: a comprehensive review on synthesis strategies, mechanisms, and performance assessment | G65: 46241 | H65: 其他 | L65: 不含特 | N65: 100 | O65: 个人 | P65: 1 | Q65: 100
A66: 64 | B66: 康佳璐 | C66: 2024016101 | D66: 化工与环境学院 | E66: 竞赛获奖 | F66: 全国大学生数学竞赛 | G66: 46090 | H66: 二类 | I66: 省部级 | J66: 一等奖 | M66: 二类省部级一等奖（不含特） | N66: =VLOOKUP(M66,表2.获奖金额及对应奖项!A:D,4,0) -> 1000 | O66: 个人 | P66: 1 | Q66: =N66*P66 -> 1000
A67: 65 | B67: 王建荣 | C67: 2024016785 | D67: 化工与环境学院 | E67: 竞赛获奖 | F67: 高教社杯全国大学生数学建模竞赛 | G67: 45962 | H67: 二类 | I67: 省部级 | J67: 一等奖 | M67: 二类省部级一等奖（不含特） | N67: =VLOOKUP(M67,表2.获奖金额及对应奖项!A:D,4,0) -> 1000 | O67: 团队 | P67: 0.6 | Q67: =N67*P67 -> 600
A68: 66 | B68: 刘晓楠 | C68: 2023015932 | D68: 化工与环境学院 | E68: 竞赛获奖 | F68: iCAN大学生创新创业大赛 | G68: 45931 | H68: =VLOOKUP(F68,'表1.校区竞赛认定目录（2026年）'!B:C,2,0) -> 二类 | I68: 省部级 | J68: 一等奖 | K68: 否 | L68: =_xlfn.IFS(K68="是","（含特）",K68="否","（不含特）") -> （不含特） | M68: =H68&I68&J68&L68 -> 二类省部级一等奖（不含特） | N68: =VLOOKUP(M68,表2.获奖金额及对应奖项!A:D,4,0) -> 1000 | O68: 团队 | P68: 1 | Q68: =N68*P68 -> 1000
A69: 67 | B69: 李国辉 | C69: 2023015945 | D69: 化工与环境学院 | E69: 竞赛获奖 | F69: 全国大学生化工设计竞赛 | G69: 45981 | H69: =VLOOKUP(F69,'表1.校区竞赛认定目录（2026年）'!B:C,2,0) -> 二类 | I69: 国家级 | J69: 三等奖 | K69: 否 | L69: =_xlfn.IFS(K69="是","（含特）",K69="否","（不含特）") -> （不含特） | M69: 二类国家级三等奖（含特） | N69: =VLOOKUP(M69,表2.获奖金额及对应奖项!A:D,4,0) -> 1000 | O69: 团队 | P69: 1 | Q69: =N69*P69 -> 1000
A70: 68 | B70: 陈文婷 | C70: 2023015896 | D70: 化工与环境学院 | E70: 竞赛获奖 | F70: 全国大学生化工设计竞赛 | G70: 45981 | H70: =VLOOKUP(F70,'表1.校区竞赛认定目录（2026年）'!B:C,2,0) -> 二类 | I70: 国家级 | J70: 三等奖 | K70: 否 | L70: =_xlfn.IFS(K70="是","（含特）",K70="否","（不含特）") -> （不含特） | M70: 二类国家级三等奖（含特） | N70: =VLOOKUP(M70,表2.获奖金额及对应奖项!A:D,4,0) -> 1000 | O70: 团队 | P70: 0.2 | Q70: =N70*P70 -> 200
A71: 69 | B71: 田博琛 | C71: 2023015434 | D71: 化工与环境学院 | E71: 竞赛获奖 | F71: 全国大学生节能减排社会实践与科技竞赛 | G71: 45981 | H71: =VLOOKUP(F71,'表1.校区竞赛认定目录（2026年）'!B:C,2,0) -> 二类 | I71: 国家级 | J71: 三等奖 | K71: 否 | L71: =_xlfn.IFS(K71="是","（含特）",K71="否","（不含特）") -> （不含特） | M71: 二类国家级三等奖（含特） | N71: =VLOOKUP(M71,表2.获奖金额及对应奖项!A:D,4,0) -> 1000 | O71: 团队 | P71: 0.5 | Q71: =N71*P71 -> 500
A72: 70 | B72: 徐媛 | C72: 2023015833 | D72: 化工与环境学院 | E72: 竞赛获奖 | F72: 全国大学生语言文字能力大赛 | G72: 45981 | H72: =VLOOKUP(F72,'表1.校区竞赛认定目录（2026年）'!B:C,2,0) -> 二类 | I72: 国家级 | J72: 一等奖 | K72: 否 | L72: =_xlfn.IFS(K72="是","（含特）",K72="否","（不含特）") -> （不含特） | M72: =H72&I72&J72&L72 -> 二类国家级一等奖（不含特） | N72: =VLOOKUP(M72,表2.获奖金额及对应奖项!A:D,4,0) -> 3000 | O72: 个人 | P72: 1 | Q72: =N72*P72 -> 3000
A73: 71 | B73: 纪晟博 | C73: 2023015743 | D73: 化工与环境学院 | E73: 竞赛获奖 | F73: 全国大学生化工实验大赛 | G73: 45981 | H73: =VLOOKUP(F73,'表1.校区竞赛认定目录（2026年）'!B:C,2,0) -> 二类 | I73: 省部级 | J73: 一等奖 | K73: 否 | L73: =_xlfn.IFS(K73="是","（含特）",K73="否","（不含特）") -> （不含特） | M73: 二类省部级特等奖（含特） | N73: =VLOOKUP(M73,表2.获奖金额及对应奖项!A:D,4,0) -> 1000 | O73: 团队 | P73: 0.3 | Q73: =N73*P73 -> 300
A74: 备注：标蓝格子有公式计算，无需自行填写

Sheet 智能表1
A1: 文本 | B1: 数字 | C1: 单选 | D1: 日期 | E1: 图片

Sheet 表1.校区竞赛认定目录（2026年）
A1: 中国石油大学（北京）克拉玛依校区创新创业竞赛认定目录（2026年）
A2: 序号 | B2: 竞赛名称 | C2: 竞赛级别 | D2: 备注
A3: 1 | B3: 中国国际大学生创新大赛 | C3: 一类 | D3: 含主赛道、产业赛道、红旅赛道
A4: 2 | B4: “挑战杯”全国大学生课外学术科技作品竞赛主体赛 | C4: 一类 | D4: 不含其它分赛道及专项赛
A5: 3 | B5: “挑战杯”中国大学生创业计划大赛主体赛 | C5: 一类 | D5: 不含其它分赛道及专项赛
A6: 4 | B6: “挑战杯”全国大学生课外学术科技作品竞赛-分赛道及专项赛 | C6: 二类 | D6: 含除主体赛外所有分赛道及专项赛
A7: 5 | B7: “挑战杯”中国大学生创业计划大赛-分赛道及专项赛 | C7: 二类 | D7: 含除主体赛外所有分赛道及专项赛
A8: 6 | B8: 全国大学生创新创业训练计划年会展示 | C8: 二类
A9: 7 | B9: ACM-ICPC国际大学生程序设计竞赛 | C9: 二类
A10: 8 | B10: 中国大学生计算机设计大赛 | C10: 二类
A11: 9 | B11: 中国高校计算机大赛-①大数据挑战赛、②团体程序设计天梯赛、③移动应用创新赛、④网络技术挑战赛、⑤人工智能创意赛 | C11: 二类
A12: 10 | B12: 蓝桥杯全国大学生软件和信息技术大赛 | C12: 二类
A13: 11 | B13: 全国大学生地质技能竞赛 | C13: 二类
A14: 12 | B14: 睿抗机器人开发者大赛(RAICOM) | C14: 二类
A15: 13 | B15: 华为ICT大赛 | C15: 二类
A16: 14 | B16: 中国机器人及人工智能大赛 | C16: 二类
A17: 15 | B17: iCAN大学生创新创业大赛 | C17: 二类
A18: 16 | B18: 百度之星·程序设计大赛 | C18: 二类
A19: 17 | B19: 全国大学生计算机系统能力大赛 | C19: 二类
... A26: 24 | B26: 全国大学生化工设计竞赛 | C26: 二类
A27: 25 | B27: 全国大学生机器人大赛（CURC） | C27: 二类 | D27: 原全国大学生机器人大赛-①RoboMaster、②RoboCon
A28: 26 | B28: 全国大学生先进成图技术与产品信息建模创新大赛 | C28: 二类
A29: 27 | B29: 全国三维数字化创新设计大赛 | C29: 二类
A30: 28 | B30: “西门子杯”中国智能制造挑战赛 | C30: 二类
A31: 29 | B31: 全国大学生金相技能大赛 | C31: 二类
A32: 30 | B32: 全国周培源大学生力学竞赛 | C32: 二类
A33: 31 | B33: 中国大学生机械工程创新创意大赛 | C33: 二类
A34: 32 | B34: 中美青年创客大赛 | C34: 二类
A35: 33 | B35: 大学生新一代信息通信科技大赛 | C35: 二类 | D35: 原“大唐杯”全国大学生新一代信息通信技术大赛
A36: 34 | B36: 全国大学生嵌入式芯片与系统设计竞赛 | C36: 二类
A37: 35 | B37: 全国大学生生命科学竞赛（CULSC） | C37: 二类
A38: 36 | B38: 中国高校智能机器人创意大赛 | C38: 二类
A39: 37 | B39: 全国大学生节能减排社会实践与科技竞赛 | C39: 二类
A40: 38 | B40: 全国大学生化工实验大赛 | C40: 二类
A41: 39 | B41: 全国大学生物联网设计竞赛 | C41: 二类
A42: 40 | B42: 高教社杯全国大学生数学建模竞赛 | C42: 二类
A43: 41 | B43: “外研社·国才杯”理解当代中国全国大学生外语能力大赛 | C43: 二类 | D43: 原外研社全国大学生英语系列赛-①英语演讲、②英语辩论、③英语写作、④英语阅读
A44: 42 | B44: 全国大学生光电设计竞赛 | C44: 二类
A45: 43 | B45: 全国大学生物理实验竞赛 | C45: 二类
A46: 44 | B46: 中国日报社“21世纪杯”全国英语演讲比赛 | C46: 二类 | D46: 原“21世纪杯”全国英语演讲比赛
A47: 45 | B47: 中华经典诵写讲大赛 | C47: 二类
A48: 46 | B48: “外教社杯”全国高校学生跨文化能力大赛 | C48: 二类
A49: 47 | B49: 全国大学生统计建模大赛 | C49: 二类
A50: 48 | B50: 全国大学生电子商务“创新、创意及创业”挑战赛 | C50: 二类
A51: 49 | B51: 全国大学生市场调查与分析大赛 | C51: 二类
A52: 50 | B52: 全国高校商业精英挑战赛-①品牌策划竞赛、②会展专业创新创业实践竞赛、③国际贸易竞赛、④创新创业竞赛⑤会计与商业管理素例竞赛 | C52: 二类
A53: 51 | B53: “学创杯”全国大学生创业综合模拟大赛 | C53: 二类
A54: 52 | B54: “工行杯”全国大学生金融科技创新大赛 | C54: 二类
A55: 53 | B55: 全国大学生能源经济学术创意大赛 | C55: 二类
A56: 54 | B56: “科云杯”全国大学生财会职业能力大赛 | C56: 二类
A57: 55 | B57: 中国石油工程设计大赛 | C57: 二类
A58: 56 | B58: 全国大学生计算机应用能力与数字素养大赛 | C58: 二类 | D58: 原全国大学生计算机应用能力与信息素养大赛
A59: 57 | B59: “外教社·词达人杯”全国大学生英语词汇能力大赛 | C59: 二类
A60: 58 | B60: 全国大学生语言文字能力大赛 | C60: 二类
A61: 59 | B61: 全国大学生数学竞赛 | C61: 二类
A62: 60 | B62: “求是杯”国际诗歌创作与翻译大赛 | C62: 二类
A63: 61 | B63: 时报金犊奖 | C63: 二类
A64: 62 | B64: 全国高校企业价值创造实战竞赛 | C64: 二类
A65: 63 | B65: “东方杯”全国大学生勘探地球物理大赛 | C65: 二类
A66: 64 | B66: 全国高校俄语大赛 | C66: 二类
A67: 65 | B67: 全国大学生职业规划大赛 | C67: 二类
A68: 66 | B68: 中国研究生智慧城市技术与创意设计大赛 | C68: 二类 | D68: 中国研究生创新实践系列大赛
A69: 67 | B69: 中国研究生未来飞行器创新大赛 | C69: 二类 | D69: 中国研究生创新实践系列大赛
A70: 68 | B70: 中国研究生创“芯”大赛 | C70: 二类 | D70: 中国研究生创新实践系列大赛
A71: 69 | B71: 中国研究生创“芯”大赛——EDA精英挑战赛 | C71: 二类 | D71: 中国研究生创新实践系列大赛
A72: 70 | B72: 中国研究生人工智能创新大赛 | C72: 二类 | D72: 中国研究生创新实践系列大赛
A73: 71 | B73: 中国研究生机器人创新设计大赛 | C73: 二类 | D73: 中国研究生创新实践系列大赛
A74: 72 | B74: 中国研究生能源装备创新设计大赛 | C74: 二类 | D74: 中国研究生创新实践系列大赛
A75: 73 | B75: 中国研究生公共管理案例大赛 | C75: 二类 | D75: 中国研究生创新实践系列大赛
A76: 74 | B76: 中国研究生乡村振兴科技强农+创新大赛 | C76: 二类 | D76: 中国研究生创新实践系列大赛
A77: 75 | B77: 中国研究生网络安全创新大赛 | C77: 二类 | D77: 中国研究生创新实践系列大赛
A78: 76 | B78: 中国研究生金融科技创新大赛 | C78: 二类 | D78: 中国研究生创新实践系列大赛
A79: 77 | B79: 中国研究生“美丽中国”创新设计大赛 | C79: 二类 | D79: 中国研究生创新实践系列大赛
... A89: 87 | B89: 中国研究生“双碳”创新与创意大赛 | C89: 二类 | D89: 中国研究生创新实践系列大赛
A90: 88 | B90: 其他比赛未在排行榜中 | C90: 其他

Sheet 表2.获奖金额及对应奖项
A1: 设置特等奖 | B1: 未设置特等奖 | C1: 获奖档次 | D1: 该奖项奖金
A2: 一类国家级特等奖（含特） | B2: 一类国家级一等奖（不含特） | C2: 1 | D2: 10000
A3: 一类国家级一等奖（含特） | B3: 一类国家级二等奖（不含特） | C3: 2 | D3: 5000
A4: 一类国家级二等奖（含特） | B4: 一类国家级三等奖（不含特） | C4: 3 | D4: 2000
A5: 一类国家级三等奖（含特） | C5: 4 | D5: 1000
A6: 一类省部级特等奖（含特） | B6: 一类省部级一等奖（不含特） | C6: 5 | D6: 1000
A7: 一类省部级一等奖（含特） | B7: 一类省部级二等奖（不含特） | C7: 6 | D7: 800
A9: 二类国家级特等奖（含特） | B9: 二类国家级一等奖（不含特） | C9: 7 | D9: 3000
A10: 二类国家级一等奖（含特） | B10: 二类国家级二等奖（不含特） | C10: 8 | D10: 2000
A11: 二类国家级二等奖（含特） | B11: 二类国家级三等奖（不含特） | C11: 9 | D11: 1500
A12: 二类国家级三等奖（含特） | C12: 10 | D12: 1000
A13: 二类省部级特等奖（含特） | B13: 二类省部级一等奖（不含特） | C13: 11 | D13: 1000
A14: 二类省部级一等奖（含特） | B14: 二类省部级二等奖（不含特） | C14: 12 | D14: 800
A15: 其他竞赛奖项 | B15: 其他竞赛奖项 | C15: 13 | D15: 仅证书
A16: 一类国家级一等奖（不含特） | C16: 1 | D16: 10000
A17: 一类国家级二等奖（不含特） | C17: 2 | D17: 5000
A18: 一类国家级三等奖（不含特） | C18: 3 | D18: 2000
C19: 4 | D19: 1000
A20: 一类省部级一等奖（不含特） | C20: 5 | D20: 1000
A21: 一类省部级二等奖（不含特） | C21: 6 | D21: 800
A22: 二类国家级一等奖（不含特） | C22: 7 | D22: 3000
A23: 二类国家级二等奖（不含特） | C23: 8 | D23: 2000
A24: 二类国家级三等奖（不含特） | C24: 9 | D24: 1500
C25: 10 | D25: 1000
A26: 二类省部级一等奖（不含特） | C26: 11 | D26: 1000
A27: 二类省部级二等奖（不含特） | C27: 12 | D27: 800
