Workbook

Sheet 附件3 科技创新优秀指导教师信息汇总表
A1: 校区2025-2026学年科技创新优秀指导教师申报信息汇总表（教师填）
A2: 备注：标蓝格子有公式计算，无需自行填写
A3: 序号 | B3: 姓名 | C3: 工号 | D3: 部门/学院 | E3: 指导赛事名称 (请按照表1填写） | F3: 获奖时间 | G3: 竞赛类别 （一类/二类/其他） | H3: 获奖级别 | I3: 获奖等级 | J3: 该级别奖项是否设置特等奖 | K3: 特等标签 | M3: 获奖总额（元） | N3: 指导形式 | O3: 奖金分配比例 （填xx%，如20%） | P3: 个人奖金金额（元） | Q3: 赛事计数 | R3: 赛事计数奖金比例 | S3: 最终发放奖金金额（元） | T3: 是否仅证书
A4: 示例 | B4: 张三 | C4: 201659xxxx | D4: 机电工程学院 | E4: 中国国际大学生创新大赛 | F4: 45931 | G4: ==VLOOKUP(E4,'表1.校区竞赛认定目录（2026年）'!B:C,2,0) -> 一类 | H4: 国家级 | I4: 一等奖 | J4: 是 | K4: ==_xlfn.IFS(J4="是","（含特）",J4="否","（不含特）") -> （含特） | L4: ==G4&H4&I4&K4 -> 一类国家级一等奖（含特） | M4: ==VLOOKUP(L4,表2.获奖金额及对应奖项!A:D,4,0) -> 3000 | N4: 团队 | O4: 0.2 | P4: ==M4*O4 -> 600 | Q4: 第一项 | R4: ==_xlfn.IFS(Q4="第一项",100%,Q4="第二项",50%) -> 1 | S4: ==O4*M4*R4 -> 600 | T4: ==IF(COUNT(FIND({1,2,3,4,5,6,7,8,9,0},S4))>0,"","仅证书")
A5: 示例 | B5: 张三 | C5: 201659xxxx | D5: 机电工程学院 | E5: 睿抗机器人开发者大赛(RAICOM) | F5: 46265 | G5: ==VLOOKUP(E5,'表1.校区竞赛认定目录（2026年）'!B:C,2,0) -> 二类 | H5: 省部级 | I5: 一等奖 | J5: 否 | K5: ==_xlfn.IFS(J5="是","（含特）",J5="否","（不含特）") -> （不含特） | L5: ==G5&H5&I5&K5 -> 二类省部级一等奖（不含特） | M5: ==VLOOKUP(L5,表2.获奖金额及对应奖项!A:D,4,0) -> 800 | N5: 个人 | O5: 1 | P5: ==M5*O5 -> 800 | Q5: 第二项 | R5: ==_xlfn.IFS(Q5="第一项",100%,Q5="第二项",50%) -> 0.5 | S5: ==O5*M5*R5 -> 400 | T5: ==IF(COUNT(FIND({1,2,3,4,5,6,7,8,9,0},S5))>0,"","仅证书")
A6: 示例 | B6: 王四 | D6: 机电工程学院 | E6: 其他比赛未在排行榜中 | G6: ==VLOOKUP(E6,'表1.校区竞赛认定目录（2026年）'!B:C,2,0) -> 其他 | H6: 国家级 | I6: 特等奖 | J6: 是 | K6: ==_xlfn.IFS(J6="是","（含特）",J6="否","（不含特）") -> （含特） | L6: ==G6&H6&I6&K6 -> 其他国家级特等奖（含特） | M6: ==VLOOKUP(L6,表2.获奖金额及对应奖项!A:D,4,0) -> #N/A | N6: 个人 | O6: 1 | P6: ==M6*O6 -> #N/A | Q6: 第一项 | R6: ==_xlfn.IFS(Q6="第一项",100%,Q6="第二项",50%) -> 1 | S6: ==O6*M6*R6 -> #N/A | T6: ==IF(COUNT(FIND({1,2,3,4,5,6,7,8,9,0},S6))>0,"","仅证书") -> 仅证书
A7: 1 | B7: 向南 | C7: 2025561010 | D7: 机电工程学院 | E7: 全国大学生语言文字能力大赛 | F7: 45992 | G7: ==VLOOKUP(E7,'表1.校区竞赛认定目录（2026年）'!B:C,2,0) -> 二类 | H7: 国家级 | I7: 一等奖 | J7: 否 | K7: ==_xlfn.IFS(J7="是","（含特）",J7="否","（不含特）") -> （不含特） | L7: ==G7&H7&I7&K7 -> 二类国家级一等奖（不含特） | M7: ==VLOOKUP(L7,表2.获奖金额及对应奖项!A:D,4,0) -> 3000 | N7: 个人 | O7: 1 | P7: ==M7*O7 -> 3000 | Q7: 第一项 | R7: ==_xlfn.IFS(Q7="第一项",100%,Q7="第二项",50%) -> 1 | S7: ==O7*M7*R7 -> 3000 | T7: ==IF(COUNT(FIND({1,2,3,4,5,6,7,8,9,0},S7))>0,"","仅证书")
A8: 2 | B8: 向南 | C8: 2025561010 | D8: 机电工程学院 | E8: 全国大学生语言文字能力大赛 | F8: 45992 | G8: ==VLOOKUP(E8,'表1.校区竞赛认定目录（2026年）'!B:C,2,0) -> 二类 | H8: 国家级 | I8: 三等奖 | J8: 否 | K8: ==_xlfn.IFS(J8="是","（含特）",J8="否","（不含特）") -> （不含特） | L8: ==G8&H8&I8&K8 -> 二类国家级三等奖（不含特） | M8: ==VLOOKUP(L8,表2.获奖金额及对应奖项!A:D,4,0) -> 1500 | N8: 个人 | O8: 1 | P8: ==M8*O8 -> 1500 | Q8: 第二项 | R8: ==_xlfn.IFS(Q8="第一项",100%,Q8="第二项",50%) -> 0.5 | S8: ==O8*M8*R8 -> 750 | T8: ==IF(COUNT(FIND({1,2,3,4,5,6,7,8,9,0},S8))>0,"","仅证书")
A9: 3 | B9: 王均涛 | C9: 201759001 | D9: 机电工程学院 | E9: 全国高校商业精英挑战赛-①品牌策划竞赛、②会展专业创新创业实践竞赛、③国际贸易竞赛、④创新创业竞赛⑤会计与商业管理素例竞赛 | F9: 45931 | G9: ==VLOOKUP(E9,'表1.校区竞赛认定目录（2026年）'!B:C,2,0) -> 二类 | H9: 国家级 | I9: 二等奖 | J9: 否 | K9: ==_xlfn.IFS(J9="是","（含特）",J9="否","（不含特）") -> （不含特） | L9: ==G9&H9&I9&K9 -> 二类国家级二等奖（不含特） | M9: ==VLOOKUP(L9,表2.获奖金额及对应奖项!A:D,4,0) -> 2000 | N9: 团队 | O9: 1 | P9: ==M9*O9 -> 2000 | Q9: 第一项 | R9: ==_xlfn.IFS(Q9="第一项",100%,Q9="第二项",50%) -> 1 | S9: ==O9*M9*R9 -> 2000 | T9: ==IF(COUNT(FIND({1,2,3,4,5,6,7,8,9,0},S9))>0,"","仅证书")
A10: 4 | B10: 王均涛 | C10: 201759001 | D10: 机电工程学院 | E10: 中国国际大学生创新大赛 | F10: 45931 | G10: ==VLOOKUP(E10,'表1.校区竞赛认定目录（2026年）'!B:C,2,0) -> 一类 | H10: 国家级 | I10: 三等奖 | J10: 否 | K10: ==_xlfn.IFS(J10="是","（含特）",J10="否","（不含特）") -> （不含特） | L10: ==G10&H10&I10&K10 -> 一类国家级三等奖（不含特） | M10: ==VLOOKUP(L10,表2.获奖金额及对应奖项!A:D,4,0) -> 2000 | N10: 团队 | O10: 0.5 | P10: ==M10*O10 -> 1000 | Q10: 第二项 | R10: ==_xlfn.IFS(Q10="第一项",100%,Q10="第二项",50%) -> 0.5 | S10: ==O10*M10*R10 -> 500 | T10: ==IF(COUNT(FIND({1,2,3,4,5,6,7,8,9,0},S10))>0,"","仅证书")
A11: 5 | B11: 陈烁 | C11: 2021591017 | D11: 机电工程学院 | E11: 全国大学生语言文字能力大赛 | F11: 45992 | G11: ==VLOOKUP(E11,'表1.校区竞赛认定目录（2026年）'!B:C,2,0) -> 二类 | H11: 国家级 | I11: 三等奖 | J11: 否 | K11: ==_xlfn.IFS(J11="是","（含特）",J11="否","（不含特）") -> （不含特） | L11: ==G11&H11&I11&K11 -> 二类国家级三等奖（不含特） | M11: ==VLOOKUP(L11,表2.获奖金额及对应奖项!A:D,4,0) -> 1500 | N11: 个人 | O11: 1 | P11: ==M11*O11 -> 1500 | Q11: 第一项 | R11: ==_xlfn.IFS(Q11="第一项",100%,Q11="第二项",50%) -> 1 | S11: ==O11*M11*R11 -> 1500 | T11: ==IF(COUNT(FIND({1,2,3,4,5,6,7,8,9,0},S11))>0,"","仅证书")
A12: 6 | B12: 陈烁 | C12: 2021591017 | D12: 机电工程学院 | E12: 全国大学生语言文字能力大赛 | F12: 45992 | G12: ==VLOOKUP(E12,'表1.校区竞赛认定目录（2026年）'!B:C,2,0) -> 二类 | H12: 国家级 | I12: 三等奖 | J12: 否 | K12: ==_xlfn.IFS(J12="是","（含特）",J12="否","（不含特）") -> （不含特） | L12: ==G12&H12&I12&K12 -> 二类国家级三等奖（不含特） | M12: ==VLOOKUP(L12,表2.获奖金额及对应奖项!A:D,4,0) -> 1500 | N12: 个人 | O12: 1 | P12: ==M12*O12 -> 1500 | Q12: 第二项 | R12: ==_xlfn.IFS(Q12="第一项",100%,Q12="第二项",50%) -> 0.5 | S12: ==O12*M12*R12 -> 750 | T12: ==IF(COUNT(FIND({1,2,3,4,5,6,7,8,9,0},S12))>0,"","仅证书")
A13: 7 | B13: 姚彦博 | C13: 2017591011 | D13: 机电工程学院 | E13: 全国大学生机器人大赛（CURC） | F13: 46235 | G13: ==VLOOKUP(E13,'表1.校区竞赛认定目录（2026年）'!B:C,2,0) -> 二类 | H13: 国家级 | I13: 二等奖 | J13: 否 | K13: ==_xlfn.IFS(J13="是","（含特）",J13="否","（不含特）") -> （不含特） | L13: ==G13&H13&I13&K13 -> 二类国家级二等奖（不含特） | M13: ==VLOOKUP(L13,表2.获奖金额及对应奖项!A:D,4,0) -> 2000 | N13: 个人 | O13: 1 | P13: ==M13*O13 -> 2000 | Q13: 第一项 | R13: ==_xlfn.IFS(Q13="第一项",100%,Q13="第二项",50%) -> 1 | S13: ==O13*M13*R13 -> 2000 | T13: ==IF(COUNT(FIND({1,2,3,4,5,6,7,8,9,0},S13))>0,"","仅证书")
A14: 8 | B14: 姚彦博 | C14: 2017591011 | D14: 机电工程学院 | E14: 全国大学生金相技能大赛 | F14: 46204 | G14: ==VLOOKUP(E14,'表1.校区竞赛认定目录（2026年）'!B:C,2,0) -> 二类 | H14: 国家级 | I14: 三等奖 | J14: 否 | K14: ==_xlfn.IFS(J14="是","（含特）",J14="否","（不含特）") -> （不含特） | L14: ==G14&H14&I14&K14 -> 二类国家级三等奖（不含特） | M14: ==VLOOKUP(L14,表2.获奖金额及对应奖项!A:D,4,0) -> 1500 | N14: 个人 | O14: 1 | P14: ==M14*O14 -> 1500 | Q14: 第二项 | R14: ==_xlfn.IFS(Q14="第一项",100%,Q14="第二项",50%) -> 0.5 | S14: ==O14*M14*R14 -> 750 | T14: ==IF(COUNT(FIND({1,2,3,4,5,6,7,8,9,0},S14))>0,"","仅证书")
A15: 9 | B15: 米宏涛 | C15: 2024591302 | D15: 机电工程学院 | E15: 全国大学生机器人大赛（CURC） | F15: 46235 | G15: ==VLOOKUP(E15,'表1.校区竞赛认定目录（2026年）'!B:C,2,0) -> 二类 | H15: 国家级 | I15: 二等奖 | J15: 否 | K15: ==_xlfn.IFS(J15="是","（含特）",J15="否","（不含特）") -> （不含特） | L15: ==G15&H15&I15&K15 -> 二类国家级二等奖（不含特） | M15: ==VLOOKUP(L15,表2.获奖金额及对应奖项!A:D,4,0) -> 2000 | N15: 个人 | O15: 1 | P15: ==M15*O15 -> 2000 | Q15: 第一项 | R15: ==_xlfn.IFS(Q15="第一项",100%,Q15="第二项",50%) -> 1 | S15: ==O15*M15*R15 -> 2000 | T15: ==IF(COUNT(FIND({1,2,3,4,5,6,7,8,9,0},S15))>0,"","仅证书")
A16: 10 | B16: 米宏涛 | C16: 2024591302 | D16: 机电工程学院 | E16: 全国大学生机器人大赛（CURC） | F16: 46235 | G16: ==VLOOKUP(E16,'表1.校区竞赛认定目录（2026年）'!B:C,2,0) -> 二类 | H16: 国家级 | I16: 二等奖 | J16: 否 | K16: ==_xlfn.IFS(J16="是","（含特）",J16="否","（不含特）") -> （不含特） | L16: ==G16&H16&I16&K16 -> 二类国家级二等奖（不含特） | M16: ==VLOOKUP(L16,表2.获奖金额及对应奖项!A:D,4,0) -> 2000 | N16: 个人 | O16: 1 | P16: ==M16*O16 -> 2000 | Q16: 第二项 | R16: ==_xlfn.IFS(Q16="第一项",100%,Q16="第二项",50%) -> 0.5 | S16: ==O16*M16*R16 -> 1000 | T16: ==IF(COUNT(FIND({1,2,3,4,5,6,7,8,9,0},S16))>0,"","仅证书")
A17: 11 | B17: 王东 | C17: 2021592219 | D17: 机电工程学院 | E17: 全国大学生智能汽车竞赛 | F17: 46204 | G17: ==VLOOKUP(E17,'表1.校区竞赛认定目录（2026年）'!B:C,2,0) -> 二类 | H17: 省部级 | I17: 一等奖 | J17: 否 | K17: ==_xlfn.IFS(J17="是","（含特）",J17="否","（不含特）") -> （不含特） | L17: ==G17&H17&I17&K17 -> 二类省部级一等奖（不含特） | M17: ==VLOOKUP(L17,表2.获奖金额及对应奖项!A:D,4,0) -> 800 | N17: 个人 | O17: 1 | P17: ==M17*O17 -> 800 | Q17: 第一项 | R17: ==_xlfn.IFS(Q17="第一项",100%,Q17="第二项",50%) -> 1 | S17: ==O17*M17*R17 -> 800 | T17: ==IF(COUNT(FIND({1,2,3,4,5,6,7,8,9,0},S17))>0,"","仅证书")
A18: 12 | B18: 王仲莉 | C18: 2017591010 | D18: 机电工程学院 | E18: 蓝桥杯全国大学生软件和信息技术大赛 | F18: 46190 | G18: ==VLOOKUP(E18,'表1.校区竞赛认定目录（2026年）'!B:C,2,0) -> 二类 | H18: 国家级 | I18: 二等奖 | J18: 否 | K18: ==_xlfn.IFS(J18="是","（含特）",J18="否","（不含特）") -> （不含特） | L18: ==G18&H18&I18&K18 -> 二类国家级二等奖（不含特） | M18: ==VLOOKUP(L18,表2.获奖金额及对应奖项!A:D,4,0) -> 2000 | N18: 个人 | O18: 1 | P18: ==M18*O18 -> 2000 | Q18: 第一项 | R18: ==_xlfn.IFS(Q18="第一项",100%,Q18="第二项",50%) -> 1 | S18: ==O18*M18*R18 -> 2000 | T18: ==IF(COUNT(FIND({1,2,3,4,5,6,7,8,9,0},S18))>0,"","仅证书")
... A28: 22 | B28: 何思 | C28: 2024591202 | D28: 机电工程学院 | E28: 全国大学生语言文字能力大赛 | F28: 45992 | G28: ==VLOOKUP(E28,'表1.校区竞赛认定目录（2026年）'!B:C,2,0) -> 二类 | H28: 国家级 | I28: 二等奖 | J28: 否 | K28: ==_xlfn.IFS(J28="是","（含特）",J28="否","（不含特）") -> （不含特） | L28: ==G28&H28&I28&K28 -> 二类国家级二等奖（不含特） | M28: ==VLOOKUP(L28,表2.获奖金额及对应奖项!A:D,4,0) -> 2000 | N28: 个人 | O28: 1 | P28: ==M28*O28 -> 2000 | Q28: 第一项 | R28: ==_xlfn.IFS(Q28="第一项",100%,Q28="第二项",50%) -> 1 | S28: ==O28*M28*R28 -> 2000 | T28: ==IF(COUNT(FIND({1,2,3,4,5,6,7,8,9,0},S28))>0,"","仅证书")
A29: 25 | B29: 王义平 | C29: 2018591015 | D29: 机电工程学院 | E29: 全国大学生先进成图技术与产品信息建模创新大赛 | F29: 46204 | G29: ==VLOOKUP(E29,'表1.校区竞赛认定目录（2026年）'!B:C,2,0) -> 二类 | H29: 国家级 | I29: 二等奖 | J29: 否 | K29: ==_xlfn.IFS(J29="是","（含特）",J29="否","（不含特）") -> （不含特） | L29: ==G29&H29&I29&K29 -> 二类国家级二等奖（不含特） | M29: 2000 | N29: 团队 | O29: 1 | P29: ==M29*O29 -> 2000 | Q29: 第一项 | R29: ==_xlfn.IFS(Q29="第一项",100%,Q29="第二项",50%) -> 1 | S29: ==O29*M29*R29 -> 2000 | T29: ==IF(COUNT(FIND({1,2,3,4,5,6,7,8,9,0},S29))>0,"","仅证书")
A30: 26 | B30: 王义平 | C30: 2018591015 | D30: 机电工程学院 | E30: 全国大学生先进成图技术与产品信息建模创新大赛 | F30: 46204 | G30: ==VLOOKUP(E30,'表1.校区竞赛认定目录（2026年）'!B:C,2,0) -> 二类 | H30: 国家级 | I30: 三等奖 | J30: 否 | K30: ==_xlfn.IFS(J30="是","（含特）",J30="否","（不含特）") -> （不含特） | L30: ==G30&H30&I30&K30 -> 二类国家级三等奖（不含特） | M30: 1500 | N30: 团队 | O30: 1 | P30: ==M30*O30 -> 1500 | Q30: 第二项 | R30: ==_xlfn.IFS(Q30="第一项",100%,Q30="第二项",50%) -> 0.5 | S30: ==O30*M30*R30 -> 750 | T30: ==IF(COUNT(FIND({1,2,3,4,5,6,7,8,9,0},S30))>0,"","仅证书")
A31: 27 | B31: 赵旭亮 | C31: 2020592109 | D31: 机电工程学院 | E31: 全国大学生先进成图技术与产品信息建模创新大赛 | F31: 46204 | G31: ==VLOOKUP(E31,'表1.校区竞赛认定目录（2026年）'!B:C,2,0) -> 二类 | H31: 国家级 | I31: 一等奖 | J31: 否 | K31: ==_xlfn.IFS(J31="是","（含特）",J31="否","（不含特）") -> （不含特） | L31: ==G31&H31&I31&K31 -> 二类国家级一等奖（不含特） | M31: ==VLOOKUP(L31,表2.获奖金额及对应奖项!A:D,4,0) -> 3000 | N31: 团队 | O31: 1 | P31: ==M31*O31 -> 3000 | Q31: 第一项 | R31: ==_xlfn.IFS(Q31="第一项",100%,Q31="第二项",50%) -> 1 | S31: ==O31*M31*R31 -> 3000 | T31: ==IF(COUNT(FIND({1,2,3,4,5,6,7,8,9,0},S31))>0,"","仅证书")
A32: 28 | B32: 赵旭亮 | C32: 2020592109 | D32: 机电工程学院 | E32: 全国大学生先进成图技术与产品信息建模创新大赛 | F32: 46204 | G32: ==VLOOKUP(E32,'表1.校区竞赛认定目录（2026年）'!B:C,2,0) -> 二类 | H32: 国家级 | I32: 三等奖 | J32: 否 | K32: ==_xlfn.IFS(J32="是","（含特）",J32="否","（不含特）") -> （不含特） | L32: ==G32&H32&I32&K32 -> 二类国家级三等奖（不含特） | M32: ==VLOOKUP(L32,表2.获奖金额及对应奖项!A:D,4,0) -> 1500 | N32: 团队 | O32: 1 | P32: ==M32*O32 -> 1500 | Q32: 第二项 | R32: ==_xlfn.IFS(Q32="第一项",100%,Q32="第二项",50%) -> 0.5 | S32: ==O32*M32*R32 -> 750 | T32: ==IF(COUNT(FIND({1,2,3,4,5,6,7,8,9,0},S32))>0,"","仅证书")
A33: 23 | B33: 徐媛媛 | C33: 2023563311 | D33: 机电工程学院 | E33: 睿抗机器人开发者大赛(RAICOM) | F33: 46249 | G33: ==VLOOKUP(E33,'表1.校区竞赛认定目录（2026年）'!B:C,2,0) -> 二类 | H33: 国家级 | I33: 二等奖 | J33: 否 | K33: ==_xlfn.IFS(J33="是","（含特）",J33="否","（不含特）") -> （不含特） | L33: ==G33&H33&I33&K33 -> 二类国家级二等奖（不含特） | M33: ==VLOOKUP(L33,表2.获奖金额及对应奖项!A:D,4,0) -> 2000 | N33: 团队 | O33: 1 | P33: ==M33*O33 -> 2000 | Q33: 第一项 | R33: ==_xlfn.IFS(Q33="第一项",100%,Q33="第二项",50%) -> 1 | S33: ==O33*M33*R33 -> 2000 | T33: ==IF(COUNT(FIND({1,2,3,4,5,6,7,8,9,0},S33))>0,"","仅证书")
A34: 24 | B34: 徐媛媛 | C34: 2023563311 | D34: 机电工程学院 | E34: 全国大学生智能汽车竞赛 | F34: 46247 | G34: ==VLOOKUP(E34,'表1.校区竞赛认定目录（2026年）'!B:C,2,0) -> 二类 | H34: 国家级 | I34: 二等奖 | J34: 否 | K34: ==_xlfn.IFS(J34="是","（含特）",J34="否","（不含特）") -> （不含特） | L34: ==G34&H34&I34&K34 -> 二类国家级二等奖（不含特） | M34: ==VLOOKUP(L34,表2.获奖金额及对应奖项!A:D,4,0) -> 2000 | N34: 个人 | O34: 1 | P34: ==M34*O34 -> 2000 | Q34: 第二项 | R34: ==_xlfn.IFS(Q34="第一项",100%,Q34="第二项",50%) -> 0.5 | S34: ==O34*M34*R34 -> 1000 | T34: ==IF(COUNT(FIND({1,2,3,4,5,6,7,8,9,0},S34))>0,"","仅证书")
A35: 25 | B35: 黄立华 | C35: 2020592111 | D35: 机电工程学院 | E35: 中国大学生机械工程创新创意大赛 | F35: 45870 | G35: ==VLOOKUP(E35,'表1.校区竞赛认定目录（2026年）'!B:C,2,0) -> 二类 | H35: 国家级 | I35: 二等奖 | J35: 否 | K35: ==_xlfn.IFS(J35="是","（含特）",J35="否","（不含特）") -> （不含特） | L35: ==G35&H35&I35&K35 -> 二类国家级二等奖（不含特） | M35: ==VLOOKUP(L35,表2.获奖金额及对应奖项!A:D,4,0) -> 2000 | N35: 个人 | O35: 1 | P35: ==M35*O35 -> 2000 | Q35: 第一项 | R35: ==_xlfn.IFS(Q35="第一项",100%,Q35="第二项",50%) -> 1 | S35: ==O35*M35*R35 -> 2000 | T35: ==IF(COUNT(FIND({1,2,3,4,5,6,7,8,9,0},S35))>0,"","仅证书")
A36: 26 | B36: 范彧琦 | C36: 2025592202 | D36: 机电工程学院 | E36: 中国机器人及人工智能大赛 | F36: 46204 | G36: ==VLOOKUP(E36,'表1.校区竞赛认定目录（2026年）'!B:C,2,0) -> 二类 | H36: 国家级 | I36: 三等奖 | J36: 否 | K36: ==_xlfn.IFS(J36="是","（含特）",J36="否","（不含特）") -> （不含特） | L36: ==G36&H36&I36&K36 -> 二类国家级三等奖（不含特） | M36: ==VLOOKUP(L36,表2.获奖金额及对应奖项!A:D,4,0) -> 1500 | N36: 个人 | O36: 1 | P36: ==M36*O36 -> 1500 | Q36: 第一项 | R36: ==_xlfn.IFS(Q36="第一项",100%,Q36="第二项",50%) -> 1 | S36: ==O36*M36*R36 -> 1500 | T36: ==IF(COUNT(FIND({1,2,3,4,5,6,7,8,9,0},S36))>0,"","仅证书")
A37: 27 | B37: 范彧琦 | C37: 2025592202 | D37: 机电工程学院 | E37: 中国大学生计算机设计大赛 | F37: 46235 | G37: ==VLOOKUP(E37,'表1.校区竞赛认定目录（2026年）'!B:C,2,0) -> 二类 | H37: 国家级 | I37: 三等奖 | J37: 否 | K37: ==_xlfn.IFS(J37="是","（含特）",J37="否","（不含特）") -> （不含特） | L37: ==G37&H37&I37&K37 -> 二类国家级三等奖（不含特） | M37: ==VLOOKUP(L37,表2.获奖金额及对应奖项!A:D,4,0) -> 1500 | N37: 个人 | O37: 0.5 | P37: ==M37*O37 -> 750 | Q37: 第二项 | R37: ==_xlfn.IFS(Q37="第一项",100%,Q37="第二项",50%) -> 0.5 | S37: ==O37*M37*R37 -> 375 | T37: ==IF(COUNT(FIND({1,2,3,4,5,6,7,8,9,0},S37))>0,"","仅证书")
A38: 28 | B38: 王亚松 | C38: 2025592109 | D38: 机电工程学院 | E38: 全国大学生金相技能大赛 | F38: 45778 | G38: ==VLOOKUP(E38,'表1.校区竞赛认定目录（2026年）'!B:C,2,0) -> 二类 | H38: 省部级 | I38: 三等奖 | J38: 否 | K38: ==_xlfn.IFS(J38="是","（含特）",J38="否","（不含特）") -> （不含特） | L38: ==G38&H38&I38&K38 -> 二类省部级三等奖（不含特） | M38: ==VLOOKUP(L38,表2.获奖金额及对应奖项!A:D,4,0) -> #N/A | N38: 个人 | O38: 1 | P38: ==M38*O38 -> #N/A | Q38: 第一项 | R38: ==_xlfn.IFS(Q38="第一项",100%,Q38="第二项",50%) -> 1 | S38: ==O38*M38*R38 -> #N/A | T38: ==IF(COUNT(FIND({1,2,3,4,5,6,7,8,9,0},S38))>0,"","仅证书") -> 仅证书
A39: 29 | B39: 蔡玲玲 | C39: 2021592107 | D39: 机电工程学院 | E39: 中国大学生机械工程创新创意大赛 | F39: 45870 | G39: ==VLOOKUP(E39,'表1.校区竞赛认定目录（2026年）'!B:C,2,0) -> 二类 | H39: 国家级 | I39: 二等奖 | J39: 否 | K39: ==_xlfn.IFS(J39="是","（含特）",J39="否","（不含特）") -> （不含特） | L39: ==G39&H39&I39&K39 -> 二类国家级二等奖（不含特） | M39: ==VLOOKUP(L39,表2.获奖金额及对应奖项!A:D,4,0) -> 2000 | N39: 团队 | O39: 1 | P39: ==M39*O39 -> 2000 | Q39: 第一项 | R39: ==_xlfn.IFS(Q39="第一项",100%,Q39="第二项",50%) -> 1 | S39: ==O39*M39*R39 -> 2000 | T39: ==IF(COUNT(FIND({1,2,3,4,5,6,7,8,9,0},S39))>0,"","仅证书")
A40: 30 | B40: 蔡玲玲 | C40: 2021592107 | D40: 机电工程学院 | E40: 全国大学生节能减排社会实践与科技竞赛 | F40: 46235 | G40: ==VLOOKUP(E40,'表1.校区竞赛认定目录（2026年）'!B:C,2,0) -> 二类 | H40: 国家级 | I40: 三等奖 | J40: 是 | K40: ==_xlfn.IFS(J40="是","（含特）",J40="否","（不含特）") -> （含特） | L40: ==G40&H40&I40&K40 -> 二类国家级三等奖（含特） | M40: ==VLOOKUP(L40,表2.获奖金额及对应奖项!A:D,4,0) -> 1000 | N40: 团队 | O40: 1 | P40: ==M40*O40 -> 1000 | Q40: 第二项 | R40: ==_xlfn.IFS(Q40="第一项",100%,Q40="第二项",50%) -> 0.5 | S40: ==O40*M40*R40 -> 500 | T40: ==IF(COUNT(FIND({1,2,3,4,5,6,7,8,9,0},S40))>0,"","仅证书")

Sheet 表1.校区竞赛认定目录（2026年）
A1: 中国石油大学（北京）克拉玛依校区创新创业竞赛认定目录（2026年）
A2: 序号 | B2: 竞赛名称 | C2: 竞赛级别 | D2: 备注
A3: 1 | B3: 中国国际大学生创新大赛 | C3: 一类 | D3: 含主赛道、产业赛道、红旅赛道
A4: 2 | B4: “挑战杯”全国大学生课外学术科技作品竞赛主体赛 | C4: 一类 | D4: 不含其它分赛道及专项赛
A5: 3 | B5: “挑战杯”中国大学生创业计划大赛主体赛 | C5: 一类 | D5: 不含其它分赛道及专项赛
A6: 4 | B6: “挑战杯”全国大学生课外学术科技作品竞赛-分赛道及专项赛 | C6: 二类 | D6: 含除主体赛外所有分赛道及专项赛
A7: 5 | B7: “挑战杯”中国大学生创业计划大赛-分赛道及专项赛 | C7: 二类 | D7: 含除主体赛外所有分赛道及专项赛
A8: 6 | B8: 全国大学生创新创业训练计划年会展示 | C8: 二类
A9: 7 | B9: ACM-ICPC国际大学生程序设计竞赛 | C9: 二类
A10: 8 | B10: 中国大学生计算机设计大赛 | C10: 二类
A11: 9 | B11: 中国高校计算机大赛-①大数据挑战赛、②团体程序设计天梯赛、③移动应用创新赛、④网络技术挑战赛、⑤人工智能创意赛 | C11: 二类
A12: 10 | B12: 蓝桥杯全国大学生软件和信息技术大赛 | C12: 二类
A13: 11 | B13: 全国大学生地质技能竞赛 | C13: 二类
A14: 12 | B14: 睿抗机器人开发者大赛(RAICOM) | C14: 二类
A15: 13 | B15: 华为ICT大赛 | C15: 二类
A16: 14 | B16: 中国机器人及人工智能大赛 | C16: 二类
A17: 15 | B17: iCAN大学生创新创业大赛 | C17: 二类
A18: 16 | B18: 百度之星·程序设计大赛 | C18: 二类
A19: 17 | B19: 全国大学生计算机系统能力大赛 | C19: 二类
... A26: 24 | B26: 全国大学生化工设计竞赛 | C26: 二类
A27: 25 | B27: 全国大学生机器人大赛（CURC） | C27: 二类 | D27: 原全国大学生机器人大赛-①RoboMaster、②RoboCon
A28: 26 | B28: 全国大学生先进成图技术与产品信息建模创新大赛 | C28: 二类
A29: 27 | B29: 全国三维数字化创新设计大赛 | C29: 二类
A30: 28 | B30: “西门子杯”中国智能制造挑战赛 | C30: 二类
A31: 29 | B31: 全国大学生金相技能大赛 | C31: 二类
A32: 30 | B32: 全国周培源大学生力学竞赛 | C32: 二类
A33: 31 | B33: 中国大学生机械工程创新创意大赛 | C33: 二类
A34: 32 | B34: 中美青年创客大赛 | C34: 二类
A35: 33 | B35: 大学生新一代信息通信科技大赛 | C35: 二类 | D35: 原“大唐杯”全国大学生新一代信息通信技术大赛
A36: 34 | B36: 全国大学生嵌入式芯片与系统设计竞赛 | C36: 二类
A37: 35 | B37: 全国大学生生命科学竞赛（CULSC） | C37: 二类
A38: 36 | B38: 中国高校智能机器人创意大赛 | C38: 二类
A39: 37 | B39: 全国大学生节能减排社会实践与科技竞赛 | C39: 二类
A40: 38 | B40: 全国大学生化工实验大赛 | C40: 二类
A41: 39 | B41: 全国大学生物联网设计竞赛 | C41: 二类
A42: 40 | B42: 高教社杯全国大学生数学建模竞赛 | C42: 二类
A43: 41 | B43: “外研社·国才杯”理解当代中国全国大学生外语能力大赛 | C43: 二类 | D43: 原外研社全国大学生英语系列赛-①英语演讲、②英语辩论、③英语写作、④英语阅读
A44: 42 | B44: 全国大学生光电设计竞赛 | C44: 二类
A45: 43 | B45: 全国大学生物理实验竞赛 | C45: 二类
A46: 44 | B46: 中国日报社“21世纪杯”全国英语演讲比赛 | C46: 二类 | D46: 原“21世纪杯”全国英语演讲比赛
A47: 45 | B47: 中华经典诵写讲大赛 | C47: 二类
A48: 46 | B48: “外教社杯”全国高校学生跨文化能力大赛 | C48: 二类
A49: 47 | B49: 全国大学生统计建模大赛 | C49: 二类
A50: 48 | B50: 全国大学生电子商务“创新、创意及创业”挑战赛 | C50: 二类
A51: 49 | B51: 全国大学生市场调查与分析大赛 | C51: 二类
A52: 50 | B52: 全国高校商业精英挑战赛-①品牌策划竞赛、②会展专业创新创业实践竞赛、③国际贸易竞赛、④创新创业竞赛⑤会计与商业管理素例竞赛 | C52: 二类
A53: 51 | B53: “学创杯”全国大学生创业综合模拟大赛 | C53: 二类
A54: 52 | B54: “工行杯”全国大学生金融科技创新大赛 | C54: 二类
A55: 53 | B55: 全国大学生能源经济学术创意大赛 | C55: 二类
A56: 54 | B56: “科云杯”全国大学生财会职业能力大赛 | C56: 二类
A57: 55 | B57: 中国石油工程设计大赛 | C57: 二类
A58: 56 | B58: 全国大学生计算机应用能力与数字素养大赛 | C58: 二类 | D58: 原全国大学生计算机应用能力与信息素养大赛
A59: 57 | B59: “外教社·词达人杯”全国大学生英语词汇能力大赛 | C59: 二类
A60: 58 | B60: 全国大学生语言文字能力大赛 | C60: 二类
A61: 59 | B61: 全国大学生数学竞赛 | C61: 二类
A62: 60 | B62: “求是杯”国际诗歌创作与翻译大赛 | C62: 二类
A63: 61 | B63: 时报金犊奖 | C63: 二类
A64: 62 | B64: 全国高校企业价值创造实战竞赛 | C64: 二类
A65: 63 | B65: “东方杯”全国大学生勘探地球物理大赛 | C65: 二类
A66: 64 | B66: 全国高校俄语大赛 | C66: 二类
A67: 65 | B67: 全国大学生职业规划大赛 | C67: 二类
A68: 66 | B68: 中国研究生智慧城市技术与创意设计大赛 | C68: 二类 | D68: 中国研究生创新实践系列大赛
A69: 67 | B69: 中国研究生未来飞行器创新大赛 | C69: 二类 | D69: 中国研究生创新实践系列大赛
A70: 68 | B70: 中国研究生创“芯”大赛 | C70: 二类 | D70: 中国研究生创新实践系列大赛
A71: 69 | B71: 中国研究生创“芯”大赛——EDA精英挑战赛 | C71: 二类 | D71: 中国研究生创新实践系列大赛
A72: 70 | B72: 中国研究生人工智能创新大赛 | C72: 二类 | D72: 中国研究生创新实践系列大赛
A73: 71 | B73: 中国研究生机器人创新设计大赛 | C73: 二类 | D73: 中国研究生创新实践系列大赛
A74: 72 | B74: 中国研究生能源装备创新设计大赛 | C74: 二类 | D74: 中国研究生创新实践系列大赛
A75: 73 | B75: 中国研究生公共管理案例大赛 | C75: 二类 | D75: 中国研究生创新实践系列大赛
A76: 74 | B76: 中国研究生乡村振兴科技强农+创新大赛 | C76: 二类 | D76: 中国研究生创新实践系列大赛
A77: 75 | B77: 中国研究生网络安全创新大赛 | C77: 二类 | D77: 中国研究生创新实践系列大赛
A78: 76 | B78: 中国研究生金融科技创新大赛 | C78: 二类 | D78: 中国研究生创新实践系列大赛
A79: 77 | B79: 中国研究生“美丽中国”创新设计大赛 | C79: 二类 | D79: 中国研究生创新实践系列大赛
... A89: 87 | B89: 中国研究生“双碳”创新与创意大赛 | C89: 二类 | D89: 中国研究生创新实践系列大赛
A90: 88 | B90: 其他比赛未在排行榜中 | C90: 其他

Sheet 表2.获奖金额及对应奖项
A1: 设置特等奖 | B1: 未设置特等奖 | C1: 获奖档次 | D1: 该奖项奖金
A2: 一类国家级特等奖（含特） | B2: 一类国家级一等奖（不含特） | C2: 1 | D2: 5000
A3: 一类国家级一等奖（含特） | B3: 一类国家级二等奖（不含特） | C3: 2 | D3: 3000
A4: 一类国家级二等奖（含特） | B4: 一类国家级三等奖（不含特） | C4: 3 | D4: 2000
A5: 一类国家级三等奖（含特） | C5: 4 | D5: 1000
A6: 一类省部级特等奖（含特） | B6: 一类省部级一等奖（不含特） | C6: 5 | D6: 1000
A7: 一类省部级一等奖（含特） | B7: 一类省部级二等奖（不含特） | C7: 6 | D7: 800
A9: 二类国家级特等奖（含特） | B9: 二类国家级一等奖（不含特） | C9: 7 | D9: 3000
A10: 二类国家级一等奖（含特） | B10: 二类国家级二等奖（不含特） | C10: 8 | D10: 2000
A11: 二类国家级二等奖（含特） | B11: 二类国家级三等奖（不含特） | C11: 9 | D11: 1500
A12: 二类国家级三等奖（含特） | C12: 10 | D12: 1000
A13: 二类省部级特等奖（含特） | B13: 二类省部级一等奖（不含特） | C13: 11 | D13: 800
A14: 二类省部级一等奖（含特） | B14: 二类省部级二等奖（不含特） | C14: 12 | D14: 600
A16: 其他竞赛奖项 | B16: 其他竞赛奖项 | C16: 13 | D16: 仅证书
A17: 一类国家级一等奖（不含特） | C17: 1 | D17: 5000
A18: 一类国家级二等奖（不含特） | C18: 2 | D18: 3000
A19: 一类国家级三等奖（不含特） | C19: 3 | D19: 2000
D20: 1000
A21: 一类省部级一等奖（不含特） | C21: 5 | D21: 1000
A22: 一类省部级二等奖（不含特） | C22: 6 | D22: 800
A23: 二类国家级一等奖（不含特） | C23: 7 | D23: 3000
A24: 二类国家级二等奖（不含特） | C24: 8 | D24: 2000
A25: 二类国家级三等奖（不含特） | C25: 9 | D25: 1500
D26: 1000
A27: 二类省部级一等奖（不含特） | C27: 11 | D27: 800
A28: 二类省部级二等奖（不含特） | C28: 12 | D28: 600
