Workbook

Sheet 表1.校区竞赛认定目录（2026年）
A1: 中国石油大学（北京）克拉玛依校区创新创业竞赛认定目录（2026年）
A2: 序号 | B2: 竞赛名称 | C2: 竞赛级别 | D2: 备注
A3: 1 | B3: 中国国际大学生创新大赛 | C3: 一类 | D3: 含主赛道、产业赛道、红旅赛道
A4: 2 | B4: “挑战杯”全国大学生课外学术科技作品竞赛主体赛 | C4: 一类 | D4: 不含其它分赛道及专项赛
A5: 3 | B5: “挑战杯”中国大学生创业计划大赛主体赛 | C5: 一类 | D5: 不含其它分赛道及专项赛
A6: 4 | B6: “挑战杯”全国大学生课外学术科技作品竞赛-分赛道及专项赛 | C6: 二类 | D6: 含除主体赛外所有分赛道及专项赛
A7: 5 | B7: “挑战杯”中国大学生创业计划大赛-分赛道及专项赛 | C7: 二类 | D7: 含除主体赛外所有分赛道及专项赛
A8: 6 | B8: 全国大学生创新创业训练计划年会展示 | C8: 二类
A9: 7 | B9: ACM-ICPC国际大学生程序设计竞赛 | C9: 二类
A10: 8 | B10: 中国大学生计算机设计大赛 | C10: 二类
A11: 9 | B11: 中国高校计算机大赛-①大数据挑战赛、②团体程序设计天梯赛、③移动应用创新赛、④网络技术挑战赛、⑤人工智能创意赛 | C11: 二类
A12: 10 | B12: 蓝桥杯全国大学生软件和信息技术大赛 | C12: 二类
A13: 11 | B13: 全国大学生地质技能竞赛 | C13: 二类
A14: 12 | B14: 睿抗机器人开发者大赛(RAICOM) | C14: 二类
A15: 13 | B15: 华为ICT大赛 | C15: 二类
A16: 14 | B16: 中国机器人及人工智能大赛 | C16: 二类
A17: 15 | B17: iCAN大学生创新创业大赛 | C17: 二类
A18: 16 | B18: 百度之星·程序设计大赛 | C18: 二类
A19: 17 | B19: 全国大学生计算机系统能力大赛 | C19: 二类
... A26: 24 | B26: 全国大学生化工设计竞赛 | C26: 二类
A27: 25 | B27: 全国大学生机器人大赛（CURC） | C27: 二类 | D27: 原全国大学生机器人大赛-①RoboMaster、②RoboCon
A28: 26 | B28: 全国大学生先进成图技术与产品信息建模创新大赛 | C28: 二类
A29: 27 | B29: 全国三维数字化创新设计大赛 | C29: 二类
A30: 28 | B30: “西门子杯”中国智能制造挑战赛 | C30: 二类
A31: 29 | B31: 全国大学生金相技能大赛 | C31: 二类
A32: 30 | B32: 全国周培源大学生力学竞赛 | C32: 二类
A33: 31 | B33: 中国大学生机械工程创新创意大赛 | C33: 二类
A34: 32 | B34: 中美青年创客大赛 | C34: 二类
A35: 33 | B35: 大学生新一代信息通信科技大赛 | C35: 二类 | D35: 原“大唐杯”全国大学生新一代信息通信技术大赛
A36: 34 | B36: 全国大学生嵌入式芯片与系统设计竞赛 | C36: 二类
A37: 35 | B37: 全国大学生生命科学竞赛（CULSC） | C37: 二类
A38: 36 | B38: 中国高校智能机器人创意大赛 | C38: 二类
A39: 37 | B39: 全国大学生节能减排社会实践与科技竞赛 | C39: 二类
A40: 38 | B40: 全国大学生化工实验大赛 | C40: 二类
A41: 39 | B41: 全国大学生物联网设计竞赛 | C41: 二类
A42: 40 | B42: 高教社杯全国大学生数学建模竞赛 | C42: 二类
A43: 41 | B43: “外研社·国才杯”理解当代中国全国大学生外语能力大赛 | C43: 二类 | D43: 原外研社全国大学生英语系列赛-①英语演讲、②英语辩论、③英语写作、④英语阅读
A44: 42 | B44: 全国大学生光电设计竞赛 | C44: 二类
A45: 43 | B45: 全国大学生物理实验竞赛 | C45: 二类
A46: 44 | B46: 中国日报社“21世纪杯”全国英语演讲比赛 | C46: 二类 | D46: 原“21世纪杯”全国英语演讲比赛
...

Sheet 表2.获奖金额及对应奖项
A1: 设置特等奖 | B1: 未设置特等奖 | C1: 获奖档次 | D1: 该奖项奖金
A2: 一类国家级特等奖（含特） | B2: 一类国家级一等奖（不含特） | C2: 1 | D2: 10000
A3: 一类国家级一等奖（含特） | B3: 一类国家级二等奖（不含特） | C3: 2 | D3: 5000
A4: 一类国家级二等奖（含特） | B4: 一类国家级三等奖（不含特） | C4: 3 | D4: 2000
A5: 一类国家级三等奖（含特） | C5: 4 | D5: 1000
A6: 一类省部级特等奖（含特） | B6: 一类省部级一等奖（不含特） | C6: 5 | D6: 1000
A7: 一类省部级一等奖（含特） | B7: 一类省部级二等奖（不含特） | C7: 6 | D7: 800
A9: 二类国家级特等奖（含特） | B9: 二类国家级一等奖（不含特） | C9: 7 | D9: 3000
A10: 二类国家级一等奖（含特） | B10: 二类国家级二等奖（不含特） | C10: 8 | D10: 2000
A11: 二类国家级二等奖（含特） | B11: 二类国家级三等奖（不含特） | C11: 9 | D11: 1500
A12: 二类国家级三等奖（含特） | C12: 10 | D12: 1000
A13: 二类省部级特等奖（含特） | B13: 二类省部级一等奖（不含特） | C13: 11 | D13: 1000
A14: 二类省部级一等奖（含特） | B14: 二类省部级二等奖（不含特） | C14: 12 | D14: 800
A15: 其他竞赛奖项 | B15: 其他竞赛奖项 | C15: 13 | D15: 仅证书
A16: 一类国家级一等奖（不含特） | C16: 1 | D16: 10000
A17: 一类国家级二等奖（不含特） | C17: 2 | D17: 5000
A18: 一类国家级三等奖（不含特） | C18: 3 | D18: 2000
C19: 4 | D19: 1000
A20: 一类省部级一等奖（不含特） | C20: 5 | D20: 1000
A21: 一类省部级二等奖（不含特） | C21: 6 | D21: 800
A22: 二类国家级一等奖（不含特） | C22: 7 | D22: 3000
A23: 二类国家级二等奖（不含特） | C23: 8 | D23: 2000
A24: 二类国家级三等奖（不含特） | C24: 9 | D24: 1500
C25: 10 | D25: 1000
A26: 二类省部级一等奖（不含特） | C26: 11 | D26: 1000
A27: 二类省部级二等奖（不含特） | C27: 12 | D27: 800

Sheet 附件4 科技创新奖学金汇总表（学生）
A1: 校区2025-2026学年科技创新奖学金申报信息汇总表（学生填）
A2: 备注：标蓝格子有公式计算，无需自行填写
A3: 序号 | B3: 姓名 | C3: 学号 | D3: 部门/学院 | E3: 发明专利 | F3: 竞赛名称 (请按照表1填写） | G3: 获奖时间 | H3: 竞赛类别 （一类/二类/其他） | I3: 获奖级别 | J3: 获奖等级 | K3: 该级别奖项是否设置特等奖 | L3: 特等标签 | N3: 获奖总额（元） | O3: 参赛形式 | P3: 奖金分配比例 （填xx%，如20%） | Q3: 个人奖金金额（元） | R3: 是否仅证书
A4: 示例 | B4: 张三 | C4: 2023015xxx | D4: 机电工程学院 | E4: 竞赛获奖 | F4: 中国国际大学生创新大赛 | G4: 45901 | H4: ==VLOOKUP(F4,'表1.校区竞赛认定目录（2026年）'!B:C,2,0) -> 一类 | I4: 国家级 | J4: 一等奖 | K4: 是 | L4: ==_xlfn.IFS(K4="是","（含特）",K4="否","（不含特）") -> （含特） | M4: ==H4&I4&J4&L4 -> 一类国家级一等奖（含特） | N4: ==VLOOKUP(M4,表2.获奖金额及对应奖项!A:D,4,0) -> 5000 | O4: 团队 | P4: 0.2 | Q4: ==N4*P4 -> 1000 | R4: ==IF(COUNT(FIND({1,2,3,4,5,6,7,8,9,0},Q4))>0,"","仅证书")
A5: 示例 | B5: 张三 | C5: 2023015xxx | D5: 机电工程学院 | E5: 竞赛获奖 | F5: 全国大学生语言文字能力大赛 | G5: 46265 | H5: ==VLOOKUP(F5,'表1.校区竞赛认定目录（2026年）'!B:C,2,0) -> 二类 | I5: 省部级 | J5: 一等奖 | K5: 否 | L5: ==_xlfn.IFS(K5="是","（含特）",K5="否","（不含特）") -> （不含特） | M5: ==H5&I5&J5&L5 -> 二类省部级一等奖（不含特） | N5: ==VLOOKUP(M5,表2.获奖金额及对应奖项!A:D,4,0) -> 1000 | O5: 个人 | P5: 1 | Q5: ==N5*P5 -> 1000 | R5: ==IF(COUNT(FIND({1,2,3,4,5,6,7,8,9,0},Q5))>0,"","仅证书")
A6: 示例 | B6: 王四 | C6: 2023015xxx | D6: 机电工程学院 | E6: 发明专利 | F6: 发明专利：xxxx | G6: 46112 | H6: ==VLOOKUP(F6,'表1.校区竞赛认定目录（2026年）'!B:C,2,0) -> #N/A | L6: ==_xlfn.IFS(K6="是","（含特）",K6="否","（不含特）") -> #N/A | M6: ==H6&I6&J6&L6 -> #N/A | N6: ==VLOOKUP(M6,表2.获奖金额及对应奖项!A:D,4,0) -> #N/A | O6: 个人 | P6: 1 | Q6: 100 | R6: ==IF(COUNT(FIND({1,2,3,4,5,6,7,8,9,0},Q6))>0,"","仅证书")
A7: ==ROW()-6 -> 1 | B7: 邹子涵 | C7: 2024016461 | D7: 机电工程学院 | E7: 竞赛获奖 | F7: 蓝桥杯全国大学生软件和信息技术大赛 | G7: 46150 | H7: ==VLOOKUP(F7,'表1.校区竞赛认定目录（2026年）'!B:C,2,0) -> 二类 | I7: 省部级 | J7: 二等奖 | K7: 否 | L7: ==_xlfn.IFS(K7="是","（含特）",K7="否","（不含特）") -> （不含特） | M7: ==H7&I7&J7&L7 -> 二类省部级二等奖（不含特） | N7: ==VLOOKUP(M7,表2.获奖金额及对应奖项!A:D,4,0) -> 800 | O7: 个人 | P7: 1 | Q7: ==N7*P7 -> 800 | R7: ==IF(COUNT(FIND({1,2,3,4,5,6,7,8,9,0},Q7))>0,"","仅证书")
A8: ==ROW()-6 -> 2 | B8: 刘好 | C8: 2023016042 | D8: 机电工程学院 | E8: 竞赛获奖 | F8: 全国大学生语言文字能力大赛 | G8: 46250 | H8: ==VLOOKUP(F8,'表1.校区竞赛认定目录（2026年）'!B:C,2,0) -> 二类 | I8: 国家级 | J8: 二等奖 | K8: 否 | L8: ==_xlfn.IFS(K8="是","（含特）",K8="否","（不含特）") -> （不含特） | M8: ==H8&I8&J8&L8 -> 二类国家级二等奖（不含特） | N8: ==VLOOKUP(M8,表2.获奖金额及对应奖项!A:D,4,0) -> 2000 | O8: 个人 | P8: 1 | Q8: ==N8*P8 -> 2000 | R8: ==IF(COUNT(FIND({1,2,3,4,5,6,7,8,9,0},Q8))>0,"","仅证书")
A9: ==ROW()-6 -> 3 | B9: 吴保润 | C9: 2023016896 | D9: 机电工程学院 | E9: 竞赛获奖 | F9: 全国大学生语言文字能力大赛 | G9: 45992 | H9: ==VLOOKUP(F9,'表1.校区竞赛认定目录（2026年）'!B:C,2,0) -> 二类 | I9: 国家级 | J9: 一等奖 | K9: 否 | L9: ==_xlfn.IFS(K9="是","（含特）",K9="否","（不含特）") -> （不含特） | M9: ==H9&I9&J9&L9 -> 二类国家级一等奖（不含特） | N9: ==VLOOKUP(M9,表2.获奖金额及对应奖项!A:D,4,0) -> 3000 | O9: 个人 | P9: 1 | Q9: ==N9*P9 -> 3000 | R9: ==IF(COUNT(FIND({1,2,3,4,5,6,7,8,9,0},Q9))>0,"","仅证书")
A10: ==ROW()-6 -> 4 | B10: 刘竞航 | C10: 2023016112 | D10: 机电工程学院 | E10: 竞赛获奖 | F10: 全国三维数字化创新设计大赛 | G10: 45997 | H10: ==VLOOKUP(F10,'表1.校区竞赛认定目录（2026年）'!B:C,2,0) -> 二类 | I10: 国家级 | J10: 三等奖 | K10: 是 | L10: ==_xlfn.IFS(K10="是","（含特）",K10="否","（不含特）") -> （含特） | M10: ==H10&I10&J10&L10 -> 二类国家级三等奖（含特） | N10: ==VLOOKUP(M10,表2.获奖金额及对应奖项!A:D,4,0) -> 1000 | O10: 团队 | P10: 1 | Q10: ==N10*P10 -> 1000 | R10: ==IF(COUNT(FIND({1,2,3,4,5,6,7,8,9,0},Q10))>0,"","仅证书")
A11: ==ROW()-6 -> 5 | B11: 余政超 | C11: 2023015690 | D11: 机电工程学院 | E11: 竞赛获奖 | F11: 蓝桥杯全国大学生软件和信息技术大赛 | G11: 46190 | H11: ==VLOOKUP(F11,'表1.校区竞赛认定目录（2026年）'!B:C,2,0) -> 二类 | I11: 国家级 | J11: 一等奖 | K11: 否 | L11: ==_xlfn.IFS(K11="是","（含特）",K11="否","（不含特）") -> （不含特） | M11: ==H11&I11&J11&L11 -> 二类国家级一等奖（不含特） | N11: ==VLOOKUP(M11,表2.获奖金额及对应奖项!A:D,4,0) -> 3000 | O11: 个人 | P11: 1 | Q11: ==N11*P11 -> 3000 | R11: ==IF(COUNT(FIND({1,2,3,4,5,6,7,8,9,0},Q11))>0,"","仅证书")
A12: ==ROW()-6 -> 6 | B12: 连泽智 | C12: 2023016174 | D12: 机电工程学院 | E12: 竞赛获奖 | F12: 全国大学生先进成图技术与产品信息建模创新大赛 | G12: 46172 | H12: ==VLOOKUP(F12,'表1.校区竞赛认定目录（2026年）'!B:C,2,0) -> 二类 | I12: 省部级 | J12: 二等奖 | K12: 否 | L12: ==_xlfn.IFS(K12="是","（含特）",K12="否","（不含特）") -> （不含特） | M12: ==H12&I12&J12&L12 -> 二类省部级二等奖（不含特） | N12: ==VLOOKUP(M12,表2.获奖金额及对应奖项!A:D,4,0) -> 800 | O12: 个人 | P12: 1 | Q12: ==N12*P12 -> 800 | R12: ==IF(COUNT(FIND({1,2,3,4,5,6,7,8,9,0},Q12))>0,"","仅证书")
A13: ==ROW()-6 -> 7 | B13: 李鸿骏 | C13: 2024016644 | D13: 机电工程学院 | E13: 竞赛获奖 | F13: 高教社杯全国大学生数学建模竞赛 | G13: 45962 | H13: ==VLOOKUP(F13,'表1.校区竞赛认定目录（2026年）'!B:C,2,0) -> 二类 | I13: 省部级 | J13: 一等奖 | K13: 否 | L13: ==_xlfn.IFS(K13="是","（含特）",K13="否","（不含特）") -> （不含特） | M13: ==H13&I13&J13&L13 -> 二类省部级一等奖（不含特） | N13: ==VLOOKUP(M13,表2.获奖金额及对应奖项!A:D,4,0) -> 1000 | O13: 团队 | P13: 1 | Q13: ==N13*P13 -> 1000 | R13: ==IF(COUNT(FIND({1,2,3,4,5,6,7,8,9,0},Q13))>0,"","仅证书")
A14: ==ROW()-6 -> 8 | B14: 唐宇 | C14: 2022015978 | D14: 机电工程学院 | E14: 竞赛获奖 | F14: 全国大学生语言文字能力大赛 | G14: 45992 | H14: ==VLOOKUP(F14,'表1.校区竞赛认定目录（2026年）'!B:C,2,0) -> 二类 | I14: 国家级 | J14: 二等奖 | K14: 否 | L14: ==_xlfn.IFS(K14="是","（含特）",K14="否","（不含特）") -> （不含特） | M14: ==H14&I14&J14&L14 -> 二类国家级二等奖（不含特） | N14: ==VLOOKUP(M14,表2.获奖金额及对应奖项!A:D,4,0) -> 2000 | O14: 个人 | P14: 1 | Q14: ==N14*P14 -> 2000 | R14: ==IF(COUNT(FIND({1,2,3,4,5,6,7,8,9,0},Q14))>0,"","仅证书")
A15: ==ROW()-6 -> 9 | B15: 郭家旺 | C15: 2023016271 | D15: 机电工程学院 | E15: 竞赛获奖 | F15: 全国大学生数学竞赛 | G15: 45992 | H15: ==VLOOKUP(F15,'表1.校区竞赛认定目录（2026年）'!B:C,2,0) -> 二类 | I15: 省部级 | J15: 一等奖 | K15: 否 | L15: ==_xlfn.IFS(K15="是","（含特）",K15="否","（不含特）") -> （不含特） | M15: ==H15&I15&J15&L15 -> 二类省部级一等奖（不含特） | N15: ==VLOOKUP(M15,表2.获奖金额及对应奖项!A:D,4,0) -> 1000 | O15: 个人 | P15: 1 | Q15: ==N15*P15 -> 1000 | R15: ==IF(COUNT(FIND({1,2,3,4,5,6,7,8,9,0},Q15))>0,"","仅证书")
A16: ==ROW()-6 -> 10 | B16: 王浩然 | C16: 2025016678 | D16: 机电工程学院 | E16: 竞赛获奖 | F16: 全国大学生计算机应用能力与数字素养大赛 | G16: 46178 | H16: ==VLOOKUP(F16,'表1.校区竞赛认定目录（2026年）'!B:C,2,0) -> 二类 | I16: 国家级 | J16: 三等奖 | K16: 否 | L16: ==_xlfn.IFS(K16="是","（含特）",K16="否","（不含特）") -> （不含特） | M16: ==H16&I16&J16&L16 -> 二类国家级三等奖（不含特） | N16: ==VLOOKUP(M16,表2.获奖金额及对应奖项!A:D,4,0) -> 1500 | O16: 团队 | P16: 1 | Q16: ==N16*P16 -> 1500 | R16: ==IF(COUNT(FIND({1,2,3,4,5,6,7,8,9,0},Q16))>0,"","仅证书")
A17: ==ROW()-6 -> 11 | B17: 胡俊涛 | C17: 2023016272 | D17: 机电工程学院 | E17: 竞赛获奖 | F17: 全国大学生数学竞赛 | G17: 45992 | H17: ==VLOOKUP(F17,'表1.校区竞赛认定目录（2026年）'!B:C,2,0) -> 二类 | I17: 省部级 | J17: 二等奖 | K17: 否 | L17: ==_xlfn.IFS(K17="是","（含特）",K17="否","（不含特）") -> （不含特） | M17: ==H17&I17&J17&L17 -> 二类省部级二等奖（不含特） | N17: ==VLOOKUP(M17,表2.获奖金额及对应奖项!A:D,4,0) -> 800 | O17: 个人 | P17: 1 | Q17: ==N17*P17 -> 800 | R17: ==IF(COUNT(FIND({1,2,3,4,5,6,7,8,9,0},Q17))>0,"","仅证书")
A18: ==ROW()-6 -> 12 | B18: 杨景阔 | C18: 2023016156 | D18: 机电工程学院 | E18: 竞赛获奖 | F18: 全国大学生金相技能大赛 | G18: 46179 | H18: ==VLOOKUP(F18,'表1.校区竞赛认定目录（2026年）'!B:C,2,0) -> 二类 | I18: 省部级 | J18: 一等奖 | K18: 否 | L18: ==_xlfn.IFS(K18="是","（含特）",K18="否","（不含特）") -> （不含特） | M18: ==H18&I18&J18&L18 -> 二类省部级一等奖（不含特） | N18: ==VLOOKUP(M18,表2.获奖金额及对应奖项!A:D,4,0) -> 1000 | O18: 个人 | P18: 1 | Q18: ==N18*P18 -> 1000 | R18: ==IF(COUNT(FIND({1,2,3,4,5,6,7,8,9,0},Q18))>0,"","仅证书")
A19: ==ROW()-6 -> 13 | B19: 杜军昊 | C19: 2023016237 | D19: 机电工程学院 | E19: 竞赛获奖 | F19: 全国大学生语言文字能力大赛 | G19: 45992 | H19: ==VLOOKUP(F19,'表1.校区竞赛认定目录（2026年）'!B:C,2,0) -> 二类 | I19: 国家级 | J19: 一等奖 | K19: 否 | L19: ==_xlfn.IFS(K19="是","（含特）",K19="否","（不含特）") -> （不含特） | M19: ==H19&I19&J19&L19 -> 二类国家级一等奖（不含特） | N19: ==VLOOKUP(M19,表2.获奖金额及对应奖项!A:D,4,0) -> 3000 | O19: 个人 | P19: 1 | Q19: ==N19*P19 -> 3000 | R19: ==IF(COUNT(FIND({1,2,3,4,5,6,7,8,9,0},Q19))>0,"","仅证书")
A20: ==ROW()-6 -> 14 | B20: 昝锐 | C20: 2024015278 | D20: 机电工程学院 | E20: 竞赛获奖 | F20: 全国大学生数学竞赛 | G20: 45992 | H20: ==VLOOKUP(F20,'表1.校区竞赛认定目录（2026年）'!B:C,2,0) -> 二类 | I20: 省部级 | J20: 一等奖 | K20: 否 | L20: ==_xlfn.IFS(K20="是","（含特）",K20="否","（不含特）") -> （不含特） | M20: ==H20&I20&J20&L20 -> 二类省部级一等奖（不含特） | N20: ==VLOOKUP(M20,表2.获奖金额及对应奖项!A:D,4,0) -> 1000 | O20: 个人 | P20: 1 | Q20: ==N20*P20 -> 1000 | R20: ==IF(COUNT(FIND({1,2,3,4,5,6,7,8,9,0},Q20))>0,"","仅证书")
A21: ==ROW()-6 -> 15 | B21: 翟益 | C21: 2023016169 | D21: 机电工程学院 | E21: 竞赛获奖 | F21: 蓝桥杯全国大学生软件和信息技术大赛 | G21: 46190 | H21: ==VLOOKUP(F21,'表1.校区竞赛认定目录（2026年）'!B:C,2,0) -> 二类 | I21: 国家级 | J21: 二等奖 | K21: 否 | L21: ==_xlfn.IFS(K21="是","（含特）",K21="否","（不含特）") -> （不含特） | M21: ==H21&I21&J21&L21 -> 二类国家级二等奖（不含特） | N21: ==VLOOKUP(M21,表2.获奖金额及对应奖项!A:D,4,0) -> 2000 | O21: 个人 | P21: 1 | Q21: ==N21*P21 -> 2000 | R21: ==IF(COUNT(FIND({1,2,3,4,5,6,7,8,9,0},Q21))>0,"","仅证书")
A22: ==ROW()-6 -> 16 | B22: 曹玄恒 | C22: 2025016766 | D22: 机电工程学院 | E22: 竞赛获奖 | F22: 蓝桥杯全国大学生软件和信息技术大赛 | G22: 46190 | H22: ==VLOOKUP(F22,'表1.校区竞赛认定目录（2026年）'!B:C,2,0) -> 二类 | I22: 国家级 | J22: 三等奖 | K22: 否 | L22: ==_xlfn.IFS(K22="是","（含特）",K22="否","（不含特）") -> （不含特） | M22: ==H22&I22&J22&L22 -> 二类国家级三等奖（不含特） | N22: ==VLOOKUP(M22,表2.获奖金额及对应奖项!A:D,4,0) -> 1500 | O22: 个人 | P22: 1 | Q22: ==N22*P22 -> 1500 | R22: ==IF(COUNT(FIND({1,2,3,4,5,6,7,8,9,0},Q22))>0,"","仅证书")
A23: ==ROW()-6 -> 17 | B23: 曾雨杰 | C23: 2024017625 | D23: 机电工程学院 | E23: 竞赛获奖 | F23: 高教社杯全国大学生数学建模竞赛 | G23: 45962 | H23: ==VLOOKUP(F23,'表1.校区竞赛认定目录（2026年）'!B:C,2,0) -> 二类 | I23: 国家级 | J23: 二等奖 | K23: 否 | L23: ==_xlfn.IFS(K23="是","（含特）",K23="否","（不含特）") -> （不含特） | M23: ==H23&I23&J23&L23 -> 二类国家级二等奖（不含特） | N23: ==VLOOKUP(M23,表2.获奖金额及对应奖项!A:D,4,0) -> 2000 | O23: 团队 | P23: 1 | Q23: ==N23*P23 -> 2000 | R23: ==IF(COUNT(FIND({1,2,3,4,5,6,7,8,9,0},Q23))>0,"","仅证书")
... A83: ==ROW()-6 -> 77 | B83: 张方申 | C83: 2023016089 | D83: 机电工程学院 | E83: 竞赛获奖 | F83: 蓝桥杯全国大学生软件和信息技术大赛 | G83: 46184 | H83: ==VLOOKUP(F83,'表1.校区竞赛认定目录（2026年）'!B:C,2,0) -> 二类 | I83: 国家级 | J83: 二等奖 | K83: 否 | L83: ==_xlfn.IFS(K83="是","（含特）",K83="否","（不含特）") -> （不含特） | M83: ==H83&I83&J83&L83 -> 二类国家级二等奖（不含特） | N83: ==VLOOKUP(M83,表2.获奖金额及对应奖项!A:D,4,0) -> 2000 | O83: 个人 | P83: 1 | Q83: ==N83*P83 -> 2000 | R83: ==IF(COUNT(FIND({1,2,3,4,5,6,7,8,9,0},Q83))>0,"","仅证书")
A84: ==ROW()-6 -> 78 | B84: 李颖杰 | C84: 20230168872 | D84: 机电工程学院 | E84: 竞赛获奖 | F84: 全国大学生数学竞赛 | G84: 45992 | H84: ==VLOOKUP(F84,'表1.校区竞赛认定目录（2026年）'!B:C,2,0) -> 二类 | I84: 省部级 | J84: 一等奖 | K84: 否 | L84: ==_xlfn.IFS(K84="是","（含特）",K84="否","（不含特）") -> （不含特） | M84: ==H84&I84&J84&L84 -> 二类省部级一等奖（不含特） | N84: ==VLOOKUP(M84,表2.获奖金额及对应奖项!A:D,4,0) -> 1000 | O84: 个人 | P84: 1 | Q84: ==N84*P84 -> 1000 | R84: ==IF(COUNT(FIND({1,2,3,4,5,6,7,8,9,0},Q84))>0,"","仅证书")
A85: ==ROW()-6 -> 79 | B85: 徐欣洁 | C85: 2024016496 | D85: 机电工程学院 | E85: 竞赛获奖 | F85: 全国大学生物理实验竞赛 | G85: 45997 | H85: ==VLOOKUP(F85,'表1.校区竞赛认定目录（2026年）'!B:C,2,0) -> 二类 | I85: 国家级 | J85: 二等奖 | K85: 否 | L85: ==_xlfn.IFS(K85="是","（含特）",K85="否","（不含特）") -> （不含特） | M85: ==H85&I85&J85&L85 -> 二类国家级二等奖（不含特） | N85: ==VLOOKUP(M85,表2.获奖金额及对应奖项!A:D,4,0) -> 2000 | O85: 团队 | P85: 1 | Q85: ==N85*P85 -> 2000 | R85: ==IF(COUNT(FIND({1,2,3,4,5,6,7,8,9,0},Q85))>0,"","仅证书")
A86: ==ROW()-6 -> 80 | B86: 付星烨 | C86: 2024016437 | D86: 机电工程学院 | E86: 竞赛获奖 | F86: 全国大学生数学竞赛 | G86: 46131 | H86: ==VLOOKUP(F86,'表1.校区竞赛认定目录（2026年）'!B:C,2,0) -> 二类 | I86: 国家级 | J86: 三等奖 | K86: 否 | L86: ==_xlfn.IFS(K86="是","（含特）",K86="否","（不含特）") -> （不含特） | M86: ==H86&I86&J86&L86 -> 二类国家级三等奖（不含特） | N86: ==VLOOKUP(M86,表2.获奖金额及对应奖项!A:D,4,0) -> 1500 | O86: 个人 | P86: 1 | Q86: ==N86*P86 -> 1500 | R86: ==IF(COUNT(FIND({1,2,3,4,5,6,7,8,9,0},Q86))>0,"","仅证书")
A87: ==ROW()-6 -> 81 | B87: 邹可心 | C87: 2024016602 | D87: 机电工程学院 | E87: 竞赛获奖 | F87: 全国大学生先进成图技术与产品信息建模创新大赛 | G87: 46229 | H87: ==VLOOKUP(F87,'表1.校区竞赛认定目录（2026年）'!B:C,2,0) -> 二类 | I87: 国家级 | J87: 一等奖 | K87: 否 | L87: ==_xlfn.IFS(K87="是","（含特）",K87="否","（不含特）") -> （不含特） | M87: ==H87&I87&J87&L87 -> 二类国家级一等奖（不含特） | N87: ==VLOOKUP(M87,表2.获奖金额及对应奖项!A:D,4,0) -> 3000 | O87: 团队 | P87: 1 | Q87: ==N87*P87 -> 3000 | R87: ==IF(COUNT(FIND({1,2,3,4,5,6,7,8,9,0},Q87))>0,"","仅证书")
A88: ==ROW()-6 -> 82 | B88: 柳一洲 | C88: 2024016616 | D88: 机电工程学院 | E88: 竞赛获奖 | F88: 全国大学生先进成图技术与产品信息建模创新大赛 | G88: 46229 | H88: ==VLOOKUP(F88,'表1.校区竞赛认定目录（2026年）'!B:C,2,0) -> 二类 | I88: 国家级 | J88: 二等奖 | K88: 否 | L88: ==_xlfn.IFS(K88="是","（含特）",K88="否","（不含特）") -> （不含特） | M88: ==H88&I88&J88&L88 -> 二类国家级二等奖（不含特） | N88: ==VLOOKUP(M88,表2.获奖金额及对应奖项!A:D,4,0) -> 2000 | O88: 个人 | P88: 1 | Q88: ==N88*P88 -> 2000 | R88: ==IF(COUNT(FIND({1,2,3,4,5,6,7,8,9,0},Q88))>0,"","仅证书")
A89: ==ROW()-6 -> 83 | B89: 刘渊博 | C89: 2024016615 | D89: 机电工程学院 | E89: 竞赛获奖 | F89: 全国大学生先进成图技术与产品信息建模创新大赛 | G89: 46172 | H89: ==VLOOKUP(F89,'表1.校区竞赛认定目录（2026年）'!B:C,2,0) -> 二类 | I89: 省部级 | J89: 一等奖 | K89: 否 | L89: ==_xlfn.IFS(K89="是","（含特）",K89="否","（不含特）") -> （不含特） | M89: ==H89&I89&J89&L89 -> 二类省部级一等奖（不含特） | N89: ==VLOOKUP(M89,表2.获奖金额及对应奖项!A:D,4,0) -> 1000 | O89: 个人 | P89: 1 | Q89: ==N89*P89 -> 1000 | R89: ==IF(COUNT(FIND({1,2,3,4,5,6,7,8,9,0},Q89))>0,"","仅证书")
A90: ==ROW()-6 -> 84 | B90: 陈嘉宝 | C90: 2024016605 | D90: 机电工程学院 | E90: 竞赛获奖 | F90: 全国大学生先进成图技术与产品信息建模创新大赛 | G90: 46172 | H90: ==VLOOKUP(F90,'表1.校区竞赛认定目录（2026年）'!B:C,2,0) -> 二类 | I90: 省部级 | J90: 二等奖 | K90: 否 | L90: ==_xlfn.IFS(K90="是","（含特）",K90="否","（不含特）") -> （不含特） | M90: ==H90&I90&J90&L90 -> 二类省部级二等奖（不含特） | N90: ==VLOOKUP(M90,表2.获奖金额及对应奖项!A:D,4,0) -> 800 | O90: 个人 | P90: 1 | Q90: ==N90*P90 -> 800 | R90: ==IF(COUNT(FIND({1,2,3,4,5,6,7,8,9,0},Q90))>0,"","仅证书")
A91: ==ROW()-6 -> 85 | B91: 夏天阳洋 | C91: 2024016522 | D91: 机电工程学院 | E91: 竞赛获奖 | F91: 全国大学生数学竞赛 | G91: 45968 | H91: ==VLOOKUP(F91,'表1.校区竞赛认定目录（2026年）'!B:C,2,0) -> 二类 | I91: 省部级 | J91: 一等奖 | K91: 否 | L91: ==_xlfn.IFS(K91="是","（含特）",K91="否","（不含特）") -> （不含特） | M91: ==H91&I91&J91&L91 -> 二类省部级一等奖（不含特） | N91: ==VLOOKUP(M91,表2.获奖金额及对应奖项!A:D,4,0) -> 1000 | O91: 个人 | P91: 1 | Q91: ==N91*P91 -> 1000 | R91: ==IF(COUNT(FIND({1,2,3,4,5,6,7,8,9,0},Q91))>0,"","仅证书")
A92: ==ROW()-6 -> 86 | B92: 孔祥涛 | C92: 2024016376 | D92: 机电工程学院 | E92: 竞赛获奖 | F92: 全国大学生数学竞赛 | G92: 46016 | H92: ==VLOOKUP(F92,'表1.校区竞赛认定目录（2026年）'!B:C,2,0) -> 二类 | I92: 省部级 | J92: 二等奖 | K92: 否 | L92: ==_xlfn.IFS(K92="是","（含特）",K92="否","（不含特）") -> （不含特） | M92: ==H92&I92&J92&L92 -> 二类省部级二等奖（不含特） | N92: ==VLOOKUP(M92,表2.获奖金额及对应奖项!A:D,4,0) -> 800 | O92: 个人 | P92: 1 | Q92: ==N92*P92 -> 800 | R92: ==IF(COUNT(FIND({1,2,3,4,5,6,7,8,9,0},Q92))>0,"","仅证书")
A93: ==ROW()-6 -> 87 | B93: 罗坤杨 | C93: 2024016580 | D93: 机电工程学院 | E93: 竞赛获奖 | F93: 全国大学生数学竞赛 | G93: 45992 | H93: ==VLOOKUP(F93,'表1.校区竞赛认定目录（2026年）'!B:C,2,0) -> 二类 | I93: 省部级 | J93: 二等奖 | K93: 否 | L93: ==_xlfn.IFS(K93="是","（含特）",K93="否","（不含特）") -> （不含特） | M93: ==H93&I93&J93&L93 -> 二类省部级二等奖（不含特） | N93: ==VLOOKUP(M93,表2.获奖金额及对应奖项!A:D,4,0) -> 800 | O93: 个人 | P93: 1 | Q93: ==N93*P93 -> 800 | R93: ==IF(COUNT(FIND({1,2,3,4,5,6,7,8,9,0},Q93))>0,"","仅证书")
A94: ==ROW()-6 -> 88 | B94: 刘星光 | C94: 2024016415 | D94: 机电工程学院 | E94: 竞赛获奖 | F94: 全国大学生数学竞赛 | G94: 45992 | H94: ==VLOOKUP(F94,'表1.校区竞赛认定目录（2026年）'!B:C,2,0) -> 二类 | I94: 省部级 | J94: 二等奖 | K94: 否 | L94: ==_xlfn.IFS(K94="是","（含特）",K94="否","（不含特）") -> （不含特） | M94: ==H94&I94&J94&L94 -> 二类省部级二等奖（不含特） | N94: ==VLOOKUP(M94,表2.获奖金额及对应奖项!A:D,4,0) -> 800 | O94: 个人 | P94: 1 | Q94: ==N94*P94 -> 800 | R94: ==IF(COUNT(FIND({1,2,3,4,5,6,7,8,9,0},Q94))>0,"","仅证书")
A95: ==ROW()-6 -> 89 | B95: 郑子航 | C95: 2024016427 | D95: 机电工程学院 | E95: 竞赛获奖 | F95: 全国大学生数学竞赛 | G95: 45992 | H95: ==VLOOKUP(F95,'表1.校区竞赛认定目录（2026年）'!B:C,2,0) -> 二类 | I95: 省部级 | J95: 二等奖 | K95: 否 | L95: ==_xlfn.IFS(K95="是","（含特）",K95="否","（不含特）") -> （不含特） | M95: ==H95&I95&J95&L95 -> 二类省部级二等奖（不含特） | N95: ==VLOOKUP(M95,表2.获奖金额及对应奖项!A:D,4,0) -> 800 | O95: 个人 | P95: 1 | Q95: ==N95*P95 -> 800 | R95: ==IF(COUNT(FIND({1,2,3,4,5,6,7,8,9,0},Q95))>0,"","仅证书")
A96: ==ROW()-6 -> 90 | B96: 张振河 | C96: 2024016425 | D96: 机电工程学院 | E96: 竞赛获奖 | F96: 全国大学生数学竞赛 | G96: 45992 | H96: ==VLOOKUP(F96,'表1.校区竞赛认定目录（2026年）'!B:C,2,0) -> 二类 | I96: 省部级 | J96: 二等奖 | K96: 否 | L96: ==_xlfn.IFS(K96="是","（含特）",K96="否","（不含特）") -> （不含特） | M96: ==H96&I96&J96&L96 -> 二类省部级二等奖（不含特） | N96: ==VLOOKUP(M96,表2.获奖金额及对应奖项!A:D,4,0) -> 800 | O96: 个人 | P96: 1 | Q96: ==N96*P96 -> 800 | R96: ==IF(COUNT(FIND({1,2,3,4,5,6,7,8,9,0},Q96))>0,"","仅证书")
A97: ==ROW()-6 -> 91 | B97: 陈昱坤 | C97: 2024016501 | D97: 机电工程学院 | E97: 竞赛获奖 | F97: 全国大学生数学竞赛 | G97: 45992 | H97: ==VLOOKUP(F97,'表1.校区竞赛认定目录（2026年）'!B:C,2,0) -> 二类 | I97: 省部级 | J97: 二等奖 | K97: 否 | L97: ==_xlfn.IFS(K97="是","（含特）",K97="否","（不含特）") -> （不含特） | M97: ==H97&I97&J97&L97 -> 二类省部级二等奖（不含特） | N97: ==VLOOKUP(M97,表2.获奖金额及对应奖项!A:D,4,0) -> 800 | O97: 个人 | P97: 1 | Q97: ==N97*P97 -> 800 | R97: ==IF(COUNT(FIND({1,2,3,4,5,6,7,8,9,0},Q97))>0,"","仅证书")
A98: ==ROW()-6 -> 92 | B98: 李嘉誉 | C98: 2024016439 | D98: 机电工程学院 | E98: 竞赛获奖 | F98: 全国大学生数学竞赛 | G98: 45992 | H98: ==VLOOKUP(F98,'表1.校区竞赛认定目录（2026年）'!B:C,2,0) -> 二类 | I98: 省部级 | J98: 三等奖 | K98: 否 | L98: ==_xlfn.IFS(K98="是","（含特）",K98="否","（不含特）") -> （不含特） | M98: ==H98&I98&J98&L98 -> 二类省部级三等奖（不含特） | N98: ==VLOOKUP(M98,表2.获奖金额及对应奖项!A:D,4,0) -> #N/A | O98: 个人 | P98: 1 | Q98: ==N98*P98 -> #N/A | R98: ==IF(COUNT(FIND({1,2,3,4,5,6,7,8,9,0},Q98))>0,"","仅证书") -> 仅证书
A99: ==ROW()-6 -> 93 | B99: 孟子喾 | C99: 2024016478 | D99: 机电工程学院 | E99: 竞赛获奖 | F99: 全国大学生数学竞赛 | G99: 45992 | H99: ==VLOOKUP(F99,'表1.校区竞赛认定目录（2026年）'!B:C,2,0) -> 二类 | I99: 省部级 | J99: 三等奖 | K99: 否 | L99: ==_xlfn.IFS(K99="是","（含特）",K99="否","（不含特）") -> （不含特） | M99: ==H99&I99&J99&L99 -> 二类省部级三等奖（不含特） | N99: ==VLOOKUP(M99,表2.获奖金额及对应奖项!A:D,4,0) -> #N/A | O99: 个人 | P99: 1 | Q99: ==N99*P99 -> #N/A | R99: ==IF(COUNT(FIND({1,2,3,4,5,6,7,8,9,0},Q99))>0,"","仅证书") -> 仅证书
...
